Back to Build/check report for BioC 3.20 experimental data
ABCDEFGHIJKLMNOPQRSTUVWX[Y]Z

This page was generated on 2024-05-16 14:51:53 -0400 (Thu, 16 May 2024).

HostnameOSArch (*)R versionInstalled pkgs
nebbiolo2Linux (Ubuntu 22.04.3 LTS)x86_644.4.0 RC (2024-04-16 r86468) -- "Puppy Cup" 4663
Click on any hostname to see more info about the system (e.g. compilers)      (*) as reported by 'uname -p', except on Windows and Mac OS X

All results for package yeastRNASeq


To the developers/maintainers of the yeastRNASeq package:
- Use the following Renviron settings to reproduce errors and warnings.
- If 'R CMD check' started to fail recently on the Linux builder(s) over a missing dependency, add the missing dependency to 'Suggests:' in your DESCRIPTION file. See Renviron.bioc for more information.

raw results

Package 424/425HostnameOS / ArchINSTALLBUILDCHECK
yeastRNASeq 0.43.0  (landing page)
J. Bullard
Snapshot Date: 2024-05-16 07:30:02 -0400 (Thu, 16 May 2024)
git_url: https://git.bioconductor.org/packages/yeastRNASeq
git_branch: devel
git_last_commit: f0d3b6a
git_last_commit_date: 2024-04-30 10:29:13 -0400 (Tue, 30 Apr 2024)
nebbiolo2Linux (Ubuntu 22.04.3 LTS) / x86_64  OK    OK    WARNINGS  UNNEEDED, same version is already published