Back to Multiple platform build/check report for BioC 3.12 experimental data

Multiple platform build/check report for BioC 3.12 experimental data

Results for adductData

This page was generated on 2020-09-17 16:01:03 -0400 (Thu, 17 Sep 2020).

Package 2/395HostnameOS / ArchINSTALLBUILDCHECK
adductData 1.5.0
Josie Hayes
Snapshot Date: 2020-09-17 08:45:19 -0400 (Thu, 17 Sep 2020)
URL: https://git.bioconductor.org/packages/adductData
Branch: master
Last Commit: 816da34
Last Changed Date: 2020-04-27 16:41:02 -0400 (Mon, 27 Apr 2020)
malbec1 Linux (Ubuntu 18.04.4 LTS) / x86_64  OK  OK  OK UNNEEDED, same version exists in internal repository
nebbiolo1 Linux (Ubuntu 20.04.1 LTS) / x86_64  OK  OK  OK 
riesling1 Windows Server 2019 Standard / x64  OK  OK  OK