Back to Build/check report for BioC 3.18 experimental data
ABCDEFGHIJKL[M]NOPQRSTUVWXYZ

This page was generated on 2023-09-26 14:51:51 -0400 (Tue, 26 Sep 2023).

HostnameOSArch (*)R versionInstalled pkgs
nebbiolo2Linux (Ubuntu 22.04.2 LTS)x86_644.3.1 (2023-06-16) -- "Beagle Scouts" 4659
Click on any hostname to see more info about the system (e.g. compilers)      (*) as reported by 'uname -p', except on Windows and Mac OS X

Package 229/424HostnameOS / ArchINSTALLBUILDCHECK
MetaGxOvarian 1.21.0  (landing page)
Benjamin Haibe-Kains
Snapshot Date: 2023-09-26 07:30:02 -0400 (Tue, 26 Sep 2023)
git_url: https://git.bioconductor.org/packages/MetaGxOvarian
git_branch: devel
git_last_commit: 5546607
git_last_commit_date: 2023-04-25 10:45:10 -0400 (Tue, 25 Apr 2023)
nebbiolo2Linux (Ubuntu 22.04.2 LTS) / x86_64  OK    OK    WARNINGS  UNNEEDED, same version is already published

BUILD results for MetaGxOvarian on nebbiolo2


To the developers/maintainers of the MetaGxOvarian package:
- Use the following Renviron settings to reproduce errors and warnings.
- If 'R CMD check' started to fail recently on the Linux builder(s) over a missing dependency, add the missing dependency to 'Suggests:' in your DESCRIPTION file. See Renviron.bioc for more information.

raw results


Summary

Package: MetaGxOvarian
Version: 1.21.0
Command: /home/biocbuild/bbs-3.18-bioc/R/bin/R CMD build --keep-empty-dirs --no-resave-data MetaGxOvarian
StartedAt: 2023-09-26 10:40:54 -0400 (Tue, 26 Sep 2023)
EndedAt: 2023-09-26 10:42:22 -0400 (Tue, 26 Sep 2023)
EllapsedTime: 87.1 seconds
RetCode: 0
Status:   OK  
PackageFile: MetaGxOvarian_1.21.0.tar.gz
PackageFileSize: 252.4 KiB

Command output

##############################################################################
##############################################################################
###
### Running command:
###
###   /home/biocbuild/bbs-3.18-bioc/R/bin/R CMD build --keep-empty-dirs --no-resave-data MetaGxOvarian
###
##############################################################################
##############################################################################


* checking for file ‘MetaGxOvarian/DESCRIPTION’ ... OK
* preparing ‘MetaGxOvarian’:
* checking DESCRIPTION meta-information ... OK
* installing the package to build vignettes
* creating vignettes ... OK
* checking for LF line-endings in source and make files and shell scripts
* checking for empty or unneeded directories
Omitted ‘LazyData’ from DESCRIPTION
* building ‘MetaGxOvarian_1.21.0.tar.gz’