Back to Build/check report for BioC 3.16 experimental data
AB[C]DEFGHIJKLMNOPQRSTUVWXYZ

This page was generated on 2022-06-23 14:50:23 -0400 (Thu, 23 Jun 2022).

HostnameOSArch (*)R versionInstalled pkgs
nebbiolo2Linux (Ubuntu 20.04.4 LTS)x86_644.2.0 Patched (2022-06-02 r82447) -- "Vigorous Calisthenics" 4331
Click on any hostname to see more info about the system (e.g. compilers)      (*) as reported by 'uname -p', except on Windows and Mac OS X

All results for package COPDSexualDimorphism.data


To the developers/maintainers of the COPDSexualDimorphism.data package:
Make sure to use the following settings in order to reproduce any error or warning you see on this page.

raw results

Package 70/407HostnameOS / ArchINSTALLBUILDCHECK
COPDSexualDimorphism.data 1.33.0  (landing page)
J Fah Sathirapongsasuti
Snapshot Date: 2022-06-23 07:30:02 -0400 (Thu, 23 Jun 2022)
git_url: https://git.bioconductor.org/packages/COPDSexualDimorphism.data
git_branch: master
git_last_commit: 48dae3e
git_last_commit_date: 2022-04-26 13:13:57 -0400 (Tue, 26 Apr 2022)
nebbiolo2Linux (Ubuntu 20.04.4 LTS) / x86_64  OK    OK    WARNINGS  UNNEEDED, same version is already published