Back to Build/check report for BioC 3.19 experimental data
ABCD[E]FGHIJKLMNOPQRSTUVWXYZ

This page was generated on 2024-03-26 14:51:25 -0400 (Tue, 26 Mar 2024).

HostnameOSArch (*)R versionInstalled pkgs
nebbiolo1Linux (Ubuntu 22.04.3 LTS)x86_64R Under development (unstable) (2024-03-18 r86148) -- "Unsuffered Consequences" 4698
Click on any hostname to see more info about the system (e.g. compilers)      (*) as reported by 'uname -p', except on Windows and Mac OS X

All results for package EpiMix.data


To the developers/maintainers of the EpiMix.data package:
- Use the following Renviron settings to reproduce errors and warnings.
- If 'R CMD check' started to fail recently on the Linux builder(s) over a missing dependency, add the missing dependency to 'Suggests:' in your DESCRIPTION file. See Renviron.bioc for more information.

raw results

Package 113/425HostnameOS / ArchINSTALLBUILDCHECK
EpiMix.data 1.5.0  (landing page)
Yuanning Zheng
Snapshot Date: 2024-03-26 07:30:03 -0400 (Tue, 26 Mar 2024)
git_url: https://git.bioconductor.org/packages/EpiMix.data
git_branch: devel
git_last_commit: dc87cbc
git_last_commit_date: 2023-10-24 09:23:45 -0400 (Tue, 24 Oct 2023)
nebbiolo1Linux (Ubuntu 22.04.3 LTS) / x86_64  OK    OK    WARNINGS  UNNEEDED, same version is already published