Back to Build/check report for BioC 3.17 experimental data
AB[C]DEFGHIJKLMNOPQRSTUVWXYZ

This page was generated on 2022-11-24 14:51:33 -0500 (Thu, 24 Nov 2022).

HostnameOSArch (*)R versionInstalled pkgs
nebbiolo1Linux (Ubuntu 20.04.5 LTS)x86_64R Under development (unstable) (2022-10-25 r83175) -- "Unsuffered Consequences" 4460
Click on any hostname to see more info about the system (e.g. compilers)      (*) as reported by 'uname -p', except on Windows and Mac OS X

All results for package chipenrich.data


To the developers/maintainers of the chipenrich.data package:
Make sure to use the following settings in order to reproduce any error or warning you see on this page.

raw results

Package 56/414HostnameOS / ArchINSTALLBUILDCHECK
chipenrich.data 2.23.0  (landing page)
Raymond G. Cavalcante
Snapshot Date: 2022-11-24 07:30:02 -0500 (Thu, 24 Nov 2022)
git_url: https://git.bioconductor.org/packages/chipenrich.data
git_branch: master
git_last_commit: 140ae24
git_last_commit_date: 2022-11-01 10:57:51 -0500 (Tue, 01 Nov 2022)
nebbiolo1Linux (Ubuntu 20.04.5 LTS) / x86_64  OK    OK    WARNINGS  UNNEEDED, same version is already published