Back to Build/check report for BioC 3.16 experimental data
A[B]CDEFGHIJKLMNOPQRSTUVWXYZ

This page was generated on 2022-05-17 14:50:25 -0400 (Tue, 17 May 2022).

HostnameOSArch (*)R versionInstalled pkgs
nebbiolo2Linux (Ubuntu 20.04.4 LTS)x86_644.2.0 RC (2022-04-21 r82226) -- "Vigorous Calisthenics" 4352
Click on any hostname to see more info about the system (e.g. compilers)      (*) as reported by 'uname -p', except on Windows and Mac OS X

All results for package breastCancerTRANSBIG


To the developers/maintainers of the breastCancerTRANSBIG package:
Make sure to use the following settings in order to reproduce any error or warning you see on this page.

raw results

Package 37/407HostnameOS / ArchINSTALLBUILDCHECK
breastCancerTRANSBIG 1.35.0  (landing page)
Markus Schroeder , Benjamin Haibe-Kains
Snapshot Date: 2022-05-17 07:30:01 -0400 (Tue, 17 May 2022)
git_url: https://git.bioconductor.org/packages/breastCancerTRANSBIG
git_branch: master
git_last_commit: 2144aaa
git_last_commit_date: 2022-04-26 13:01:07 -0400 (Tue, 26 Apr 2022)
nebbiolo2Linux (Ubuntu 20.04.4 LTS) / x86_64  OK    OK    WARNINGS  UNNEEDED, same version is already published