Back to Build/check report for BioC 3.16 experimental data
ABCDEFGHIJKLMNOPQR[S]TUVWXYZ

This page was generated on 2022-05-17 14:50:31 -0400 (Tue, 17 May 2022).

HostnameOSArch (*)R versionInstalled pkgs
nebbiolo2Linux (Ubuntu 20.04.4 LTS)x86_644.2.0 RC (2022-04-21 r82226) -- "Vigorous Calisthenics" 4352
Click on any hostname to see more info about the system (e.g. compilers)      (*) as reported by 'uname -p', except on Windows and Mac OS X

INSTALL results for Single.mTEC.Transcriptomes on nebbiolo2


To the developers/maintainers of the Single.mTEC.Transcriptomes package:
Make sure to use the following settings in order to reproduce any error or warning you see on this page.

raw results

Package 350/407HostnameOS / ArchINSTALLBUILDCHECK
Single.mTEC.Transcriptomes 1.25.0  (landing page)
Alejandro Reyes
Snapshot Date: 2022-05-17 07:30:01 -0400 (Tue, 17 May 2022)
git_url: https://git.bioconductor.org/packages/Single.mTEC.Transcriptomes
git_branch: master
git_last_commit: ca15dbd
git_last_commit_date: 2022-04-26 13:21:16 -0400 (Tue, 26 Apr 2022)
nebbiolo2Linux (Ubuntu 20.04.4 LTS) / x86_64  OK    OK    OK  UNNEEDED, same version is already published

Summary

Package: Single.mTEC.Transcriptomes
Version: 1.25.0
Command: /home/biocbuild/bbs-3.16-bioc/R/bin/R CMD INSTALL Single.mTEC.Transcriptomes
StartedAt: 2022-05-17 10:01:44 -0400 (Tue, 17 May 2022)
EndedAt: 2022-05-17 10:01:49 -0400 (Tue, 17 May 2022)
EllapsedTime: 4.8 seconds
RetCode: 0
Status:   OK  

Command output

##############################################################################
##############################################################################
###
### Running command:
###
###   /home/biocbuild/bbs-3.16-bioc/R/bin/R CMD INSTALL Single.mTEC.Transcriptomes
###
##############################################################################
##############################################################################


* installing to library ‘/home/biocbuild/bbs-3.16-bioc/R/library’
* installing *source* package ‘Single.mTEC.Transcriptomes’ ...
** using staged installation
** R
** data
** inst
** byte-compile and prepare package for lazy loading
** help
*** installing help indices
** building package indices
** installing vignettes
** testing if installed package can be loaded from temporary location
** testing if installed package can be loaded from final location
** testing if installed package keeps a record of temporary installation path
* DONE (Single.mTEC.Transcriptomes)