Back to Build/check report for BioC 3.16 experimental data
[A]BCDEFGHIJKLMNOPQRSTUVWXYZ

This page was generated on 2022-06-30 14:50:25 -0400 (Thu, 30 Jun 2022).

HostnameOSArch (*)R versionInstalled pkgs
nebbiolo2Linux (Ubuntu 20.04.4 LTS)x86_644.2.0 Patched (2022-06-02 r82447) -- "Vigorous Calisthenics" 4343
Click on any hostname to see more info about the system (e.g. compilers)      (*) as reported by 'uname -p', except on Windows and Mac OS X

INSTALL results for ALL on nebbiolo2


To the developers/maintainers of the ALL package:
Make sure to use the following settings in order to reproduce any error or warning you see on this page.

raw results

Package 10/407HostnameOS / ArchINSTALLBUILDCHECK
ALL 1.39.0  (landing page)
Robert Gentleman
Snapshot Date: 2022-06-30 07:30:01 -0400 (Thu, 30 Jun 2022)
git_url: https://git.bioconductor.org/packages/ALL
git_branch: master
git_last_commit: 2ca3a2d
git_last_commit_date: 2022-04-26 12:54:29 -0400 (Tue, 26 Apr 2022)
nebbiolo2Linux (Ubuntu 20.04.4 LTS) / x86_64  OK    OK    OK  UNNEEDED, same version is already published

Summary

Package: ALL
Version: 1.39.0
Command: /home/biocbuild/bbs-3.16-bioc/R/bin/R CMD INSTALL ALL
StartedAt: 2022-06-30 10:01:09 -0400 (Thu, 30 Jun 2022)
EndedAt: 2022-06-30 10:01:12 -0400 (Thu, 30 Jun 2022)
EllapsedTime: 3.7 seconds
RetCode: 0
Status:   OK  

Command output

##############################################################################
##############################################################################
###
### Running command:
###
###   /home/biocbuild/bbs-3.16-bioc/R/bin/R CMD INSTALL ALL
###
##############################################################################
##############################################################################


* installing to library ‘/home/biocbuild/bbs-3.16-bioc/R/library’
* installing *source* package ‘ALL’ ...
** using staged installation
** R
** data
** byte-compile and prepare package for lazy loading
** help
*** installing help indices
** building package indices
** installing vignettes
** testing if installed package can be loaded from temporary location
** testing if installed package can be loaded from final location
** testing if installed package keeps a record of temporary installation path
* DONE (ALL)