Back to Build/check report for BioC 3.16 experimental data
ABC[D]EFGHIJKLMNOPQRSTUVWXYZ

This page was generated on 2022-07-05 14:50:27 -0400 (Tue, 05 Jul 2022).

HostnameOSArch (*)R versionInstalled pkgs
nebbiolo2Linux (Ubuntu 20.04.4 LTS)x86_644.2.0 Patched (2022-06-02 r82447) -- "Vigorous Calisthenics" 4343
Click on any hostname to see more info about the system (e.g. compilers)      (*) as reported by 'uname -p', except on Windows and Mac OS X

All results for package DmelSGI


To the developers/maintainers of the DmelSGI package:
Make sure to use the following settings in order to reproduce any error or warning you see on this page.

raw results

Package 95/407HostnameOS / ArchINSTALLBUILDCHECK
DmelSGI 1.29.0  (landing page)
Mike Smith
Snapshot Date: 2022-07-05 07:30:01 -0400 (Tue, 05 Jul 2022)
git_url: https://git.bioconductor.org/packages/DmelSGI
git_branch: master
git_last_commit: 01dc20f
git_last_commit_date: 2022-04-26 13:16:20 -0400 (Tue, 26 Apr 2022)
nebbiolo2Linux (Ubuntu 20.04.4 LTS) / x86_64  OK    OK    ERROR