Back to Build/check report for BioC 3.17 experimental data
ABCDEFGHIJKL[M]NOPQRSTUVWXYZ

This page was generated on 2023-03-28 14:51:35 -0400 (Tue, 28 Mar 2023).

HostnameOSArch (*)R versionInstalled pkgs
nebbiolo1Linux (Ubuntu 22.04.1 LTS)x86_64R Under development (unstable) (2023-03-16 r83996) -- "Unsuffered Consequences" 4547
Click on any hostname to see more info about the system (e.g. compilers)      (*) as reported by 'uname -p', except on Windows and Mac OS X

All results for package mammaPrintData


To the developers/maintainers of the mammaPrintData package:
Make sure to use the following settings in order to reproduce any error or warning you see on this page.

raw results

Package 214/417HostnameOS / ArchINSTALLBUILDCHECK
mammaPrintData 1.35.0  (landing page)
Luigi Marchionni
Snapshot Date: 2023-03-28 07:30:02 -0400 (Tue, 28 Mar 2023)
git_url: https://git.bioconductor.org/packages/mammaPrintData
git_branch: devel
git_last_commit: e017954
git_last_commit_date: 2022-11-01 10:55:19 -0400 (Tue, 01 Nov 2022)
nebbiolo1Linux (Ubuntu 22.04.1 LTS) / x86_64  OK    OK    OK  UNNEEDED, same version is already published