Back to Build/check report for BioC 3.20 experimental data
ABCDEFGHIJKLMNOPQR[S]TUVWXYZ

This page was generated on 2024-07-11 14:51 -0400 (Thu, 11 Jul 2024).

HostnameOSArch (*)R versionInstalled pkgs
nebbiolo2Linux (Ubuntu 22.04.3 LTS)x86_644.4.1 (2024-06-14) -- "Race for Your Life" 4675
Click on any hostname to see more info about the system (e.g. compilers)      (*) as reported by 'uname -p', except on Windows and Mac OS X

Package 342/425HostnameOS / ArchINSTALLBUILDCHECK
sampleClassifierData 1.29.0  (landing page)
Khadija El Amrani
Snapshot Date: 2024-07-11 07:30 -0400 (Thu, 11 Jul 2024)
git_url: https://git.bioconductor.org/packages/sampleClassifierData
git_branch: devel
git_last_commit: e9632f9
git_last_commit_date: 2024-04-30 11:08:05 -0400 (Tue, 30 Apr 2024)
nebbiolo2Linux (Ubuntu 22.04.3 LTS) / x86_64  OK    OK    OK  UNNEEDED, same version is already published


BUILD results for sampleClassifierData on nebbiolo2

To the developers/maintainers of the sampleClassifierData package:
- Use the following Renviron settings to reproduce errors and warnings.
- If 'R CMD check' started to fail recently on the Linux builder(s) over a missing dependency, add the missing dependency to 'Suggests:' in your DESCRIPTION file. See Renviron.bioc for more information.

raw results


Summary

Package: sampleClassifierData
Version: 1.29.0
Command: /home/biocbuild/bbs-3.20-bioc/R/bin/R CMD build --keep-empty-dirs --no-resave-data sampleClassifierData
StartedAt: 2024-07-11 10:47:58 -0400 (Thu, 11 Jul 2024)
EndedAt: 2024-07-11 10:48:23 -0400 (Thu, 11 Jul 2024)
EllapsedTime: 25.3 seconds
RetCode: 0
Status:   OK  
PackageFile: sampleClassifierData_1.29.0.tar.gz
PackageFileSize: 15.51 MiB

Command output

##############################################################################
##############################################################################
###
### Running command:
###
###   /home/biocbuild/bbs-3.20-bioc/R/bin/R CMD build --keep-empty-dirs --no-resave-data sampleClassifierData
###
##############################################################################
##############################################################################


* checking for file ‘sampleClassifierData/DESCRIPTION’ ... OK
* preparing ‘sampleClassifierData’:
* checking DESCRIPTION meta-information ... OK
* installing the package to process help pages
* saving partial Rd database
* creating vignettes ... OK
* checking for LF line-endings in source and make files and shell scripts
* checking for empty or unneeded directories
* looking to see if a ‘data/datalist’ file should be added
  NB: this package now depends on R (>= 3.5.0)
  WARNING: Added dependency on R >= 3.5.0 because serialized objects in
  serialize/load version 3 cannot be read in older versions of R.
  File(s) containing such objects:
    ‘sampleClassifierData/data/se_micro_refmat.rda’
    ‘sampleClassifierData/data/se_micro_testmat.rda’
    ‘sampleClassifierData/data/se_rnaseq_refmat.rda’
    ‘sampleClassifierData/data/se_rnaseq_testmat.rda’
* building ‘sampleClassifierData_1.29.0.tar.gz’