Back to Build/check report for BioC 3.20 experimental data
ABCDEFGHIJKL[M]NOPQRSTUVWXYZ

This page was generated on 2024-06-13 14:51 -0400 (Thu, 13 Jun 2024).

HostnameOSArch (*)R versionInstalled pkgs
nebbiolo2Linux (Ubuntu 22.04.3 LTS)x86_644.4.0 RC (2024-04-16 r86468) -- "Puppy Cup" 4679
Click on any hostname to see more info about the system (e.g. compilers)      (*) as reported by 'uname -p', except on Windows and Mac OS X

All results for package MetaGxOvarian


To the developers/maintainers of the MetaGxOvarian package:
- Use the following Renviron settings to reproduce errors and warnings.
- If 'R CMD check' started to fail recently on the Linux builder(s) over a missing dependency, add the missing dependency to 'Suggests:' in your DESCRIPTION file. See Renviron.bioc for more information.

raw results

Package 230/425HostnameOS / ArchINSTALLBUILDCHECK
MetaGxOvarian 1.25.0  (landing page)
Benjamin Haibe-Kains
Snapshot Date: 2024-06-13 07:30 -0400 (Thu, 13 Jun 2024)
git_url: https://git.bioconductor.org/packages/MetaGxOvarian
git_branch: devel
git_last_commit: 2043cd1
git_last_commit_date: 2024-04-30 10:49:41 -0400 (Tue, 30 Apr 2024)
nebbiolo2Linux (Ubuntu 22.04.3 LTS) / x86_64  OK    OK    WARNINGS  UNNEEDED, same version is already published