Back to Build/check report for BioC 3.15 experimental data
ABC[D]EFGHIJKLMNOPQRSTUVWXYZ

This page was generated on 2022-01-20 08:37:03 -0500 (Thu, 20 Jan 2022).

HostnameOSArch (*)R versionInstalled pkgs
nebbiolo2Linux (Ubuntu 20.04.4 LTS)x86_64R Under development (unstable) (2022-01-05 r81451) -- "Unsuffered Consequences" 1325
Click on any hostname to see more info about the system (e.g. compilers)      (*) as reported by 'uname -p', except on Windows and Mac OS X

INSTALL results for DMRcatedata on nebbiolo2


To the developers/maintainers of the DMRcatedata package:
Make sure to use the following settings in order to reproduce any error or warning you see on this page.

raw results

Package 96/406HostnameOS / ArchINSTALLBUILDCHECK
DMRcatedata 2.13.0  (landing page)
Tim Peters
Snapshot Date: 2022-01-20 04:00:01 -0500 (Thu, 20 Jan 2022)
git_url: https://git.bioconductor.org/packages/DMRcatedata
git_branch: master
git_last_commit: a3ab8bc
git_last_commit_date: 2021-10-26 12:08:15 -0500 (Tue, 26 Oct 2021)
nebbiolo2Linux (Ubuntu 20.04.4 LTS) / x86_64  OK    OK    OK  UNNEEDED, same version is already published

Summary

Package: DMRcatedata
Version: 2.13.0
Command: /home/biocbuild/bbs-3.15-data-experiment/R/bin/R CMD INSTALL DMRcatedata
StartedAt: 2022-01-20 05:17:07 -0500 (Thu, 20 Jan 2022)
EndedAt: 2022-01-20 05:18:10 -0500 (Thu, 20 Jan 2022)
EllapsedTime: 63.5 seconds
RetCode: 0
Status:   OK  

Command output

##############################################################################
##############################################################################
###
### Running command:
###
###   /home/biocbuild/bbs-3.15-data-experiment/R/bin/R CMD INSTALL DMRcatedata
###
##############################################################################
##############################################################################


* installing to library ‘/home/biocbuild/bbs-3.15-data-experiment/R/library’
* installing *source* package ‘DMRcatedata’ ...
** using staged installation
** inst
** help
*** installing help indices
** building package indices
** installing vignettes
** testing if installed package can be loaded from temporary location
** testing if installed package can be loaded from final location
** testing if installed package keeps a record of temporary installation path
* DONE (DMRcatedata)