Back to Build/check report for BioC 3.16 experimental data
ABCDEFGHIJKLMNOPQR[S]TUVWXYZ

This page was generated on 2022-06-30 14:50:29 -0400 (Thu, 30 Jun 2022).

HostnameOSArch (*)R versionInstalled pkgs
nebbiolo2Linux (Ubuntu 20.04.4 LTS)x86_644.2.0 Patched (2022-06-02 r82447) -- "Vigorous Calisthenics" 4343
Click on any hostname to see more info about the system (e.g. compilers)      (*) as reported by 'uname -p', except on Windows and Mac OS X

BUILD results for spatialDmelxsim on nebbiolo2


To the developers/maintainers of the spatialDmelxsim package:
Make sure to use the following settings in order to reproduce any error or warning you see on this page.

raw results

Package 358/407HostnameOS / ArchINSTALLBUILDCHECK
spatialDmelxsim 1.3.0  (landing page)
Michael Love
Snapshot Date: 2022-06-30 07:30:01 -0400 (Thu, 30 Jun 2022)
git_url: https://git.bioconductor.org/packages/spatialDmelxsim
git_branch: master
git_last_commit: 04b0cdc
git_last_commit_date: 2022-04-26 13:36:49 -0400 (Tue, 26 Apr 2022)
nebbiolo2Linux (Ubuntu 20.04.4 LTS) / x86_64  OK    OK    OK  UNNEEDED, same version is already published

Summary

Package: spatialDmelxsim
Version: 1.3.0
Command: /home/biocbuild/bbs-3.16-bioc/R/bin/R CMD build --keep-empty-dirs --no-resave-data spatialDmelxsim
StartedAt: 2022-06-30 10:40:36 -0400 (Thu, 30 Jun 2022)
EndedAt: 2022-06-30 10:41:15 -0400 (Thu, 30 Jun 2022)
EllapsedTime: 39.2 seconds
RetCode: 0
Status:   OK  
PackageFile: spatialDmelxsim_1.3.0.tar.gz
PackageFileSize: 863.7 KiB

Command output

##############################################################################
##############################################################################
###
### Running command:
###
###   /home/biocbuild/bbs-3.16-bioc/R/bin/R CMD build --keep-empty-dirs --no-resave-data spatialDmelxsim
###
##############################################################################
##############################################################################


* checking for file ‘spatialDmelxsim/DESCRIPTION’ ... OK
* preparing ‘spatialDmelxsim’:
* checking DESCRIPTION meta-information ... OK
* installing the package to build vignettes
* creating vignettes ... OK
* checking for LF line-endings in source and make files and shell scripts
* checking for empty or unneeded directories
* building ‘spatialDmelxsim_1.3.0.tar.gz’