Back to Build/check report for BioC 3.15 experimental data
A[B]CDEFGHIJKLMNOPQRSTUVWXYZ

This page was generated on 2022-01-27 08:36:53 -0500 (Thu, 27 Jan 2022).

HostnameOSArch (*)R versionInstalled pkgs
nebbiolo2Linux (Ubuntu 20.04.4 LTS)x86_64R Under development (unstable) (2022-01-05 r81451) -- "Unsuffered Consequences" 1324
Click on any hostname to see more info about the system (e.g. compilers)      (*) as reported by 'uname -p', except on Windows and Mac OS X

All results for package BloodCancerMultiOmics2017


To the developers/maintainers of the BloodCancerMultiOmics2017 package:
Make sure to use the following settings in order to reproduce any error or warning you see on this page.

raw results

Package 32/406HostnameOS / ArchINSTALLBUILDCHECK
BloodCancerMultiOmics2017 1.15.1  (landing page)
Malgorzata Oles
Snapshot Date: 2022-01-27 04:00:02 -0500 (Thu, 27 Jan 2022)
git_url: https://git.bioconductor.org/packages/BloodCancerMultiOmics2017
git_branch: master
git_last_commit: 59cb7cd
git_last_commit_date: 2021-11-22 03:06:56 -0500 (Mon, 22 Nov 2021)
nebbiolo2Linux (Ubuntu 20.04.4 LTS) / x86_64  OK    OK    WARNINGS  UNNEEDED, same version is already published