Back to Build/check report for BioC 3.16 experimental data
ABC[D]EFGHIJKLMNOPQRSTUVWXYZ

This page was generated on 2022-05-24 14:50:29 -0400 (Tue, 24 May 2022).

HostnameOSArch (*)R versionInstalled pkgs
nebbiolo2Linux (Ubuntu 20.04.4 LTS)x86_644.2.0 RC (2022-04-21 r82226) -- "Vigorous Calisthenics" 4357
Click on any hostname to see more info about the system (e.g. compilers)      (*) as reported by 'uname -p', except on Windows and Mac OS X

CHECK results for diffloopdata on nebbiolo2


To the developers/maintainers of the diffloopdata package:
Make sure to use the following settings in order to reproduce any error or warning you see on this page.

raw results

Package 92/407HostnameOS / ArchINSTALLBUILDCHECK
diffloopdata 1.25.0  (landing page)
Caleb Lareau
Snapshot Date: 2022-05-24 07:30:02 -0400 (Tue, 24 May 2022)
git_url: https://git.bioconductor.org/packages/diffloopdata
git_branch: master
git_last_commit: 007e651
git_last_commit_date: 2022-04-26 13:24:13 -0400 (Tue, 26 Apr 2022)
nebbiolo2Linux (Ubuntu 20.04.4 LTS) / x86_64  OK    OK    OK  UNNEEDED, same version is already published

Summary

Package: diffloopdata
Version: 1.25.0
Command: /home/biocbuild/bbs-3.16-bioc/R/bin/R CMD check --install=check:diffloopdata.install-out.txt --library=/home/biocbuild/bbs-3.16-bioc/R/library --no-vignettes --timings diffloopdata_1.25.0.tar.gz
StartedAt: 2022-05-24 11:20:41 -0400 (Tue, 24 May 2022)
EndedAt: 2022-05-24 11:20:50 -0400 (Tue, 24 May 2022)
EllapsedTime: 9.0 seconds
RetCode: 0
Status:   OK  
CheckDir: diffloopdata.Rcheck
Warnings: 0

Command output

##############################################################################
##############################################################################
###
### Running command:
###
###   /home/biocbuild/bbs-3.16-bioc/R/bin/R CMD check --install=check:diffloopdata.install-out.txt --library=/home/biocbuild/bbs-3.16-bioc/R/library --no-vignettes --timings diffloopdata_1.25.0.tar.gz
###
##############################################################################
##############################################################################


* using log directory ‘/home/biocbuild/bbs-3.16-data-experiment/meat/diffloopdata.Rcheck’
* using R version 4.2.0 RC (2022-04-21 r82226)
* using platform: x86_64-pc-linux-gnu (64-bit)
* using session charset: UTF-8
* using option ‘--no-vignettes’
* checking for file ‘diffloopdata/DESCRIPTION’ ... OK
* checking extension type ... Package
* this is package ‘diffloopdata’ version ‘1.25.0’
* checking package namespace information ... OK
* checking package dependencies ... OK
* checking if this is a source package ... OK
* checking if there is a namespace ... OK
* checking for hidden files and directories ... OK
* checking for portable file names ... OK
* checking for sufficient/correct file permissions ... OK
* checking whether package ‘diffloopdata’ can be installed ... OK
* checking installed package size ... NOTE
  installed size is 46.4Mb
  sub-directories of 1Mb or more:
    extdata  46.3Mb
* checking package directory ... OK
* checking ‘build’ directory ... OK
* checking DESCRIPTION meta-information ... OK
* checking top-level files ... OK
* checking for left-over files ... OK
* checking index information ... OK
* checking package subdirectories ... OK
* checking whether the package can be loaded ... OK
* checking whether the package can be loaded with stated dependencies ... OK
* checking whether the package can be unloaded cleanly ... OK
* checking whether the namespace can be loaded with stated dependencies ... OK
* checking whether the namespace can be unloaded cleanly ... OK
* checking files in ‘vignettes’ ... OK
* checking examples ... NONE
* checking for unstated dependencies in vignettes ... OK
* checking package vignettes in ‘inst/doc’ ... OK
* checking running R code from vignettes ... SKIPPED
* checking re-building of vignette outputs ... SKIPPED
* checking PDF version of manual ... OK
* DONE

Status: 1 NOTE
See
  ‘/home/biocbuild/bbs-3.16-data-experiment/meat/diffloopdata.Rcheck/00check.log’
for details.



Installation output

diffloopdata.Rcheck/00install.out

##############################################################################
##############################################################################
###
### Running command:
###
###   /home/biocbuild/bbs-3.16-bioc/R/bin/R CMD INSTALL diffloopdata
###
##############################################################################
##############################################################################


* installing to library ‘/home/biocbuild/bbs-3.16-bioc/R/library’
* installing *source* package ‘diffloopdata’ ...
** using staged installation
** inst
** help
No man pages found in package  ‘diffloopdata’ 
*** installing help indices
** building package indices
** installing vignettes
** testing if installed package can be loaded from temporary location
** testing if installed package can be loaded from final location
** testing if installed package keeps a record of temporary installation path
* DONE (diffloopdata)

Tests output


Example timings