Back to Build/check report for BioC 3.15 experimental data
ABC[D]EFGHIJKLMNOPQRSTUVWXYZ

This page was generated on 2021-12-05 17:50:12 -0500 (Sun, 05 Dec 2021).

All results for package DMRcatedata

To the developers/maintainers of the DMRcatedata package:
Make sure to use the following settings in order to reproduce any error or warning you see on this page.

raw results

Package 95/404HostnameOS / ArchINSTALLBUILDCHECK
DMRcatedata 2.13.0  (landing page)
Tim Peters
Snapshot Date: 2021-12-05 07:30:02 -0500 (Sun, 05 Dec 2021)
git_url: https://git.bioconductor.org/packages/DMRcatedata
git_branch: master
git_last_commit: a3ab8bc
git_last_commit_date: 2021-10-26 12:08:15 -0500 (Tue, 26 Oct 2021)
nebbiolo2Linux (Ubuntu 20.04.3 LTS) / x86_64  OK    OK    OK  UNNEEDED, same version is already published