Back to Build/check report for BioC 3.16 experimental data
ABCDEFGHIJKL[M]NOPQRSTUVWXYZ

This page was generated on 2022-06-30 14:50:28 -0400 (Thu, 30 Jun 2022).

HostnameOSArch (*)R versionInstalled pkgs
nebbiolo2Linux (Ubuntu 20.04.4 LTS)x86_644.2.0 Patched (2022-06-02 r82447) -- "Vigorous Calisthenics" 4343
Click on any hostname to see more info about the system (e.g. compilers)      (*) as reported by 'uname -p', except on Windows and Mac OS X

CHECK results for mammaPrintData on nebbiolo2


To the developers/maintainers of the mammaPrintData package:
Make sure to use the following settings in order to reproduce any error or warning you see on this page.

raw results

Package 210/407HostnameOS / ArchINSTALLBUILDCHECK
mammaPrintData 1.33.0  (landing page)
Luigi Marchionni
Snapshot Date: 2022-06-30 07:30:01 -0400 (Thu, 30 Jun 2022)
git_url: https://git.bioconductor.org/packages/mammaPrintData
git_branch: master
git_last_commit: 6a24a94
git_last_commit_date: 2022-04-26 13:09:05 -0400 (Tue, 26 Apr 2022)
nebbiolo2Linux (Ubuntu 20.04.4 LTS) / x86_64  OK    OK    OK  UNNEEDED, same version is already published

Summary

Package: mammaPrintData
Version: 1.33.0
Command: /home/biocbuild/bbs-3.16-bioc/R/bin/R CMD check --install=check:mammaPrintData.install-out.txt --library=/home/biocbuild/bbs-3.16-bioc/R/library --no-vignettes --timings mammaPrintData_1.33.0.tar.gz
StartedAt: 2022-06-30 11:29:12 -0400 (Thu, 30 Jun 2022)
EndedAt: 2022-06-30 11:29:37 -0400 (Thu, 30 Jun 2022)
EllapsedTime: 24.7 seconds
RetCode: 0
Status:   OK  
CheckDir: mammaPrintData.Rcheck
Warnings: 0

Command output

##############################################################################
##############################################################################
###
### Running command:
###
###   /home/biocbuild/bbs-3.16-bioc/R/bin/R CMD check --install=check:mammaPrintData.install-out.txt --library=/home/biocbuild/bbs-3.16-bioc/R/library --no-vignettes --timings mammaPrintData_1.33.0.tar.gz
###
##############################################################################
##############################################################################


* using log directory ‘/home/biocbuild/bbs-3.16-data-experiment/meat/mammaPrintData.Rcheck’
* using R version 4.2.0 Patched (2022-06-02 r82447)
* using platform: x86_64-pc-linux-gnu (64-bit)
* using session charset: UTF-8
* using option ‘--no-vignettes’
* checking for file ‘mammaPrintData/DESCRIPTION’ ... OK
* checking extension type ... Package
* this is package ‘mammaPrintData’ version ‘1.33.0’
* checking package namespace information ... OK
* checking package dependencies ... OK
* checking if this is a source package ... OK
* checking if there is a namespace ... OK
* checking for hidden files and directories ... OK
* checking for portable file names ... OK
* checking for sufficient/correct file permissions ... OK
* checking whether package ‘mammaPrintData’ can be installed ... OK
* checking installed package size ... NOTE
  installed size is 216.0Mb
  sub-directories of 1Mb or more:
    data      10.4Mb
    extdata  205.4Mb
* checking package directory ... OK
* checking ‘build’ directory ... OK
* checking DESCRIPTION meta-information ... OK
* checking top-level files ... OK
* checking for left-over files ... OK
* checking index information ... OK
* checking package subdirectories ... OK
* checking whether the package can be loaded ... OK
* checking whether the package can be loaded with stated dependencies ... OK
* checking whether the package can be unloaded cleanly ... OK
* checking whether the namespace can be loaded with stated dependencies ... OK
* checking whether the namespace can be unloaded cleanly ... OK
* checking Rd files ... OK
* checking Rd metadata ... OK
* checking Rd cross-references ... OK
* checking for missing documentation entries ... OK
* checking for code/documentation mismatches ... OK
* checking Rd \usage sections ... OK
* checking Rd contents ... OK
* checking for unstated dependencies in examples ... OK
* checking contents of ‘data’ directory ... OK
* checking data for non-ASCII characters ... OK
* checking data for ASCII and uncompressed saves ... OK
* checking files in ‘vignettes’ ... OK
* checking examples ... OK
* checking for unstated dependencies in vignettes ... OK
* checking package vignettes in ‘inst/doc’ ... OK
* checking running R code from vignettes ... SKIPPED
* checking re-building of vignette outputs ... SKIPPED
* checking PDF version of manual ... OK
* DONE

Status: 1 NOTE
See
  ‘/home/biocbuild/bbs-3.16-data-experiment/meat/mammaPrintData.Rcheck/00check.log’
for details.



Installation output

mammaPrintData.Rcheck/00install.out

##############################################################################
##############################################################################
###
### Running command:
###
###   /home/biocbuild/bbs-3.16-bioc/R/bin/R CMD INSTALL mammaPrintData
###
##############################################################################
##############################################################################


* installing to library ‘/home/biocbuild/bbs-3.16-bioc/R/library’
* installing *source* package ‘mammaPrintData’ ...
** using staged installation
** data
** inst
** help
*** installing help indices
** building package indices
** installing vignettes
** testing if installed package can be loaded from temporary location
** testing if installed package can be loaded from final location
** testing if installed package keeps a record of temporary installation path
* DONE (mammaPrintData)

Tests output


Example timings

mammaPrintData.Rcheck/mammaPrintData-Ex.timings

nameusersystemelapsed
buyseRGcy30.6970.0680.766
buyseRGcy50.5710.0520.622
glasRGcy31.0730.0121.084
glasRGcy51.0320.0041.036
mammaPrintData1.5750.0481.624