Back to Build/check report for BioC 3.16 experimental data
A[B]CDEFGHIJKLMNOPQRSTUVWXYZ

This page was generated on 2022-05-24 14:50:29 -0400 (Tue, 24 May 2022).

HostnameOSArch (*)R versionInstalled pkgs
nebbiolo2Linux (Ubuntu 20.04.4 LTS)x86_644.2.0 RC (2022-04-21 r82226) -- "Vigorous Calisthenics" 4357
Click on any hostname to see more info about the system (e.g. compilers)      (*) as reported by 'uname -p', except on Windows and Mac OS X

BUILD results for BloodCancerMultiOmics2017 on nebbiolo2


To the developers/maintainers of the BloodCancerMultiOmics2017 package:
Make sure to use the following settings in order to reproduce any error or warning you see on this page.

raw results

Package 32/407HostnameOS / ArchINSTALLBUILDCHECK
BloodCancerMultiOmics2017 1.17.0  (landing page)
Malgorzata Oles
Snapshot Date: 2022-05-24 07:30:02 -0400 (Tue, 24 May 2022)
git_url: https://git.bioconductor.org/packages/BloodCancerMultiOmics2017
git_branch: master
git_last_commit: 6eb6c45
git_last_commit_date: 2022-04-26 13:29:59 -0400 (Tue, 26 Apr 2022)
nebbiolo2Linux (Ubuntu 20.04.4 LTS) / x86_64  OK    OK    WARNINGS  UNNEEDED, same version is already published

Summary

Package: BloodCancerMultiOmics2017
Version: 1.17.0
Command: /home/biocbuild/bbs-3.16-bioc/R/bin/R CMD build --keep-empty-dirs --no-resave-data BloodCancerMultiOmics2017
StartedAt: 2022-05-24 10:11:59 -0400 (Tue, 24 May 2022)
EndedAt: 2022-05-24 10:35:45 -0400 (Tue, 24 May 2022)
EllapsedTime: 1426.1 seconds
RetCode: 0
Status:   OK  
PackageFile: BloodCancerMultiOmics2017_1.17.0.tar.gz
PackageFileSize: 50.94 MiB

Command output

##############################################################################
##############################################################################
###
### Running command:
###
###   /home/biocbuild/bbs-3.16-bioc/R/bin/R CMD build --keep-empty-dirs --no-resave-data BloodCancerMultiOmics2017
###
##############################################################################
##############################################################################


* checking for file ‘BloodCancerMultiOmics2017/DESCRIPTION’ ... OK
* preparing ‘BloodCancerMultiOmics2017’:
* checking DESCRIPTION meta-information ... OK
* installing the package to build vignettes
* creating vignettes ... OK
* checking for LF line-endings in source and make files and shell scripts
* checking for empty or unneeded directories
* building ‘BloodCancerMultiOmics2017_1.17.0.tar.gz’