Back to Build/check report for BioC 3.18 experimental data
ABCDEFGHIJKLMNOPQRSTUVW[X]YZ

This page was generated on 2023-09-29 10:08:41 -0400 (Fri, 29 Sep 2023).

HostnameOSArch (*)R versionInstalled pkgs
nebbiolo2Linux (Ubuntu 22.04.2 LTS)x86_644.3.1 (2023-06-16) -- "Beagle Scouts" 4660
Click on any hostname to see more info about the system (e.g. compilers)      (*) as reported by 'uname -p', except on Windows and Mac OS X

All results for package xcoredata


To the developers/maintainers of the xcoredata package:
- Use the following Renviron settings to reproduce errors and warnings.
- If 'R CMD check' started to fail recently on the Linux builder(s) over a missing dependency, add the missing dependency to 'Suggests:' in your DESCRIPTION file. See Renviron.bioc for more information.

raw results

Package 417/424HostnameOS / ArchINSTALLBUILDCHECK
xcoredata 1.5.0  (landing page)
Maciej MigdaƂ
Snapshot Date: 2023-09-28 07:30:02 -0400 (Thu, 28 Sep 2023)
git_url: https://git.bioconductor.org/packages/xcoredata
git_branch: devel
git_last_commit: 2219ea0
git_last_commit_date: 2023-04-25 10:51:22 -0400 (Tue, 25 Apr 2023)
nebbiolo2Linux (Ubuntu 22.04.2 LTS) / x86_64  OK    OK    OK  UNNEEDED, same version is already published