Back to Build/check report for BioC 3.16 experimental data
ABCDEFGHIJKL[M]NOPQRSTUVWXYZ

This page was generated on 2022-06-30 14:50:25 -0400 (Thu, 30 Jun 2022).

HostnameOSArch (*)R versionInstalled pkgs
nebbiolo2Linux (Ubuntu 20.04.4 LTS)x86_644.2.0 Patched (2022-06-02 r82447) -- "Vigorous Calisthenics" 4343
Click on any hostname to see more info about the system (e.g. compilers)      (*) as reported by 'uname -p', except on Windows and Mac OS X

All results for package msd16s


To the developers/maintainers of the msd16s package:
Make sure to use the following settings in order to reproduce any error or warning you see on this page.

raw results

Package 241/407HostnameOS / ArchINSTALLBUILDCHECK
msd16s 1.17.0  (landing page)
Joseph N. Paulson
Snapshot Date: 2022-06-30 07:30:01 -0400 (Thu, 30 Jun 2022)
git_url: https://git.bioconductor.org/packages/msd16s
git_branch: master
git_last_commit: cd27a55
git_last_commit_date: 2022-04-26 13:14:28 -0400 (Tue, 26 Apr 2022)
nebbiolo2Linux (Ubuntu 20.04.4 LTS) / x86_64  OK    OK    OK  UNNEEDED, same version is already published