Back to Build/check report for BioC 3.18 experimental data
AB[C]DEFGHIJKLMNOPQRSTUVWXYZ

This page was generated on 2023-09-26 14:51:51 -0400 (Tue, 26 Sep 2023).

HostnameOSArch (*)R versionInstalled pkgs
nebbiolo2Linux (Ubuntu 22.04.2 LTS)x86_644.3.1 (2023-06-16) -- "Beagle Scouts" 4659
Click on any hostname to see more info about the system (e.g. compilers)      (*) as reported by 'uname -p', except on Windows and Mac OS X

Package 72/424HostnameOS / ArchINSTALLBUILDCHECK
CopyNeutralIMA 1.19.0  (landing page)
Xavier Pastor Hostench
Snapshot Date: 2023-09-26 07:30:02 -0400 (Tue, 26 Sep 2023)
git_url: https://git.bioconductor.org/packages/CopyNeutralIMA
git_branch: devel
git_last_commit: 8f2e9aa
git_last_commit_date: 2023-04-25 10:45:50 -0400 (Tue, 25 Apr 2023)
nebbiolo2Linux (Ubuntu 22.04.2 LTS) / x86_64  OK    OK    OK  UNNEEDED, same version is already published

BUILD results for CopyNeutralIMA on nebbiolo2


To the developers/maintainers of the CopyNeutralIMA package:
- Use the following Renviron settings to reproduce errors and warnings.
- If 'R CMD check' started to fail recently on the Linux builder(s) over a missing dependency, add the missing dependency to 'Suggests:' in your DESCRIPTION file. See Renviron.bioc for more information.

raw results


Summary

Package: CopyNeutralIMA
Version: 1.19.0
Command: /home/biocbuild/bbs-3.18-bioc/R/bin/R CMD build --keep-empty-dirs --no-resave-data CopyNeutralIMA
StartedAt: 2023-09-26 10:20:03 -0400 (Tue, 26 Sep 2023)
EndedAt: 2023-09-26 10:23:40 -0400 (Tue, 26 Sep 2023)
EllapsedTime: 217.5 seconds
RetCode: 0
Status:   OK  
PackageFile: CopyNeutralIMA_1.19.0.tar.gz
PackageFileSize: 547.7 KiB

Command output

##############################################################################
##############################################################################
###
### Running command:
###
###   /home/biocbuild/bbs-3.18-bioc/R/bin/R CMD build --keep-empty-dirs --no-resave-data CopyNeutralIMA
###
##############################################################################
##############################################################################


* checking for file ‘CopyNeutralIMA/DESCRIPTION’ ... OK
* preparing ‘CopyNeutralIMA’:
* checking DESCRIPTION meta-information ... OK
* installing the package to process help pages
Loading required namespace: CopyNeutralIMA
* saving partial Rd database
* creating vignettes ... OK
* checking for LF line-endings in source and make files and shell scripts
* checking for empty or unneeded directories
Omitted ‘LazyData’ from DESCRIPTION
* building ‘CopyNeutralIMA_1.19.0.tar.gz’