Back to Build/check report for BioC 3.15 experimental data
ABCDEFGHIJKL[M]NOPQRSTUVWXYZ

This page was generated on 2022-01-13 08:37:08 -0500 (Thu, 13 Jan 2022).

HostnameOSArch (*)R versionInstalled pkgs
nebbiolo2Linux (Ubuntu 20.04.4 LTS)x86_64R Under development (unstable) (2022-01-05 r81451) -- "Unsuffered Consequences" 1324
Click on any hostname to see more info about the system (e.g. compilers)      (*) as reported by 'uname -p', except on Windows and Mac OS X

All results for package mtbls2


To the developers/maintainers of the mtbls2 package:
Make sure to use the following settings in order to reproduce any error or warning you see on this page.

raw results

Package 248/406HostnameOS / ArchINSTALLBUILDCHECK
mtbls2 1.25.0  (landing page)
Steffen Neumann
Snapshot Date: 2022-01-13 04:00:02 -0500 (Thu, 13 Jan 2022)
git_url: https://git.bioconductor.org/packages/mtbls2
git_branch: master
git_last_commit: 71fd7ac
git_last_commit_date: 2021-10-26 12:16:31 -0500 (Tue, 26 Oct 2021)
nebbiolo2Linux (Ubuntu 20.04.4 LTS) / x86_64  OK    OK    WARNINGS  UNNEEDED, same version is already published