Back to Build/check report for BioC 3.20 experimental data
ABCDEFGHIJKLM[N]OPQRSTUVWXYZ

This page was generated on 2024-07-18 14:51 -0400 (Thu, 18 Jul 2024).

HostnameOSArch (*)R versionInstalled pkgs
nebbiolo2Linux (Ubuntu 22.04.3 LTS)x86_644.4.1 (2024-06-14) -- "Race for Your Life" 4683
Click on any hostname to see more info about the system (e.g. compilers)      (*) as reported by 'uname -p', except on Windows and Mac OS X

All results for package NetActivityData


To the developers/maintainers of the NetActivityData package:
- Use the following Renviron settings to reproduce errors and warnings.
- If 'R CMD check' started to fail recently on the Linux builder(s) over a missing dependency, add the missing dependency to 'Suggests:' in your DESCRIPTION file. See Renviron.bioc for more information.

raw results

Package 268/425HostnameOS / ArchINSTALLBUILDCHECK
NetActivityData 1.7.0  (landing page)
Carlos Ruiz-Arenas
Snapshot Date: 2024-07-18 07:30 -0400 (Thu, 18 Jul 2024)
git_url: https://git.bioconductor.org/packages/NetActivityData
git_branch: devel
git_last_commit: 30b8cbb
git_last_commit_date: 2024-04-30 11:11:00 -0400 (Tue, 30 Apr 2024)
nebbiolo2Linux (Ubuntu 22.04.3 LTS) / x86_64  OK    OK    OK  UNNEEDED, same version is already published