Back to Build/check report for BioC 3.18 experimental data
[A]BCDEFGHIJKLMNOPQRSTUVWXYZ

This page was generated on 2023-05-25 14:51:41 -0400 (Thu, 25 May 2023).

HostnameOSArch (*)R versionInstalled pkgs
nebbiolo2Linux (Ubuntu 22.04.2 LTS)x86_644.3.0 RC (2023-04-18 r84287) -- "Already Tomorrow" 4587
Click on any hostname to see more info about the system (e.g. compilers)      (*) as reported by 'uname -p', except on Windows and Mac OS X

All results for package Affymoe4302Expr


To the developers/maintainers of the Affymoe4302Expr package:
Use the following Renviron settings to reproduce errors and warnings.

Note: If "R CMD check" recently failed on the Linux builder over a missing dependency, add the missing dependency to "Suggests" in your DESCRIPTION file. See the Renviron.bioc for details.

raw results

Package 8/419HostnameOS / ArchINSTALLBUILDCHECK
Affymoe4302Expr 1.39.0  (landing page)
Zhicheng Ji
Snapshot Date: 2023-05-25 07:30:02 -0400 (Thu, 25 May 2023)
git_url: https://git.bioconductor.org/packages/Affymoe4302Expr
git_branch: devel
git_last_commit: 5f6815f
git_last_commit_date: 2023-04-25 10:35:10 -0400 (Tue, 25 Apr 2023)
nebbiolo2Linux (Ubuntu 22.04.2 LTS) / x86_64  OK    OK    OK  UNNEEDED, same version is already published