Back to Build/check report for BioC 3.15 experimental data
ABCDEFG[H]IJKLMNOPQRSTUVWXYZ

This page was generated on 2021-11-30 18:35:00 -0500 (Tue, 30 Nov 2021).

All results for package humanStemCell

To the developers/maintainers of the humanStemCell package:
Make sure to use the following settings in order to reproduce any error or warning you see on this page.

raw results

Package 182/404HostnameOS / ArchINSTALLBUILDCHECK
humanStemCell 0.35.0  (landing page)
R. Gentleman
Snapshot Date: 2021-11-30 08:30:02 -0500 (Tue, 30 Nov 2021)
git_url: https://git.bioconductor.org/packages/humanStemCell
git_branch: master
git_last_commit: de50788
git_last_commit_date: 2021-10-26 11:44:40 -0500 (Tue, 26 Oct 2021)
nebbiolo2Linux (Ubuntu 20.04.3 LTS) / x86_64  OK    OK    WARNINGS  UNNEEDED, same version is already published