Back to Build/check report for BioC 3.17 experimental data
ABCDEFGHIJKLMNOPQR[S]TUVWXYZ

This page was generated on 2023-03-23 14:51:36 -0400 (Thu, 23 Mar 2023).

HostnameOSArch (*)R versionInstalled pkgs
nebbiolo1Linux (Ubuntu 22.04.1 LTS)x86_64R Under development (unstable) (2023-03-16 r83996) -- "Unsuffered Consequences" 4536
Click on any hostname to see more info about the system (e.g. compilers)      (*) as reported by 'uname -p', except on Windows and Mac OS X

All results for package spatialDmelxsim


To the developers/maintainers of the spatialDmelxsim package:
Make sure to use the following settings in order to reproduce any error or warning you see on this page.

raw results

Package 367/417HostnameOS / ArchINSTALLBUILDCHECK
spatialDmelxsim 1.5.0  (landing page)
Michael Love
Snapshot Date: 2023-03-23 07:30:02 -0400 (Thu, 23 Mar 2023)
git_url: https://git.bioconductor.org/packages/spatialDmelxsim
git_branch: devel
git_last_commit: 3abc5bc
git_last_commit_date: 2022-11-01 11:26:58 -0400 (Tue, 01 Nov 2022)
nebbiolo1Linux (Ubuntu 22.04.1 LTS) / x86_64  OK    OK    OK  UNNEEDED, same version is already published