Back to Build/check report for BioC 3.15 experimental data
ABCDEFGHIJKLMNOPQR[S]TUVWXYZ

This page was generated on 2022-01-16 08:36:53 -0500 (Sun, 16 Jan 2022).

HostnameOSArch (*)R versionInstalled pkgs
nebbiolo2Linux (Ubuntu 20.04.4 LTS)x86_64R Under development (unstable) (2022-01-05 r81451) -- "Unsuffered Consequences" 1325
Click on any hostname to see more info about the system (e.g. compilers)      (*) as reported by 'uname -p', except on Windows and Mac OS X

All results for package Single.mTEC.Transcriptomes


To the developers/maintainers of the Single.mTEC.Transcriptomes package:
Make sure to use the following settings in order to reproduce any error or warning you see on this page.

raw results

Package 351/406HostnameOS / ArchINSTALLBUILDCHECK
Single.mTEC.Transcriptomes 1.23.1  (landing page)
Alejandro Reyes
Snapshot Date: 2022-01-16 04:00:01 -0500 (Sun, 16 Jan 2022)
git_url: https://git.bioconductor.org/packages/Single.mTEC.Transcriptomes
git_branch: master
git_last_commit: 9de446d
git_last_commit_date: 2021-11-22 00:26:07 -0500 (Mon, 22 Nov 2021)
nebbiolo2Linux (Ubuntu 20.04.4 LTS) / x86_64  OK    ERROR  skipped