Back to Build/check report for BioC 3.15 experimental data
ABCDEFGHIJKLMNO[P]QRSTUVWXYZ

This page was generated on 2022-01-20 08:37:04 -0500 (Thu, 20 Jan 2022).

HostnameOSArch (*)R versionInstalled pkgs
nebbiolo2Linux (Ubuntu 20.04.4 LTS)x86_64R Under development (unstable) (2022-01-05 r81451) -- "Unsuffered Consequences" 1325
Click on any hostname to see more info about the system (e.g. compilers)      (*) as reported by 'uname -p', except on Windows and Mac OS X

INSTALL results for PasillaTranscriptExpr on nebbiolo2


To the developers/maintainers of the PasillaTranscriptExpr package:
Make sure to use the following settings in order to reproduce any error or warning you see on this page.

raw results

Package 268/406HostnameOS / ArchINSTALLBUILDCHECK
PasillaTranscriptExpr 1.23.0  (landing page)
Malgorzata Nowicka
Snapshot Date: 2022-01-20 04:00:01 -0500 (Thu, 20 Jan 2022)
git_url: https://git.bioconductor.org/packages/PasillaTranscriptExpr
git_branch: master
git_last_commit: d843d5d
git_last_commit_date: 2021-10-26 12:23:12 -0500 (Tue, 26 Oct 2021)
nebbiolo2Linux (Ubuntu 20.04.4 LTS) / x86_64  OK    OK    OK  UNNEEDED, same version is already published

Summary

Package: PasillaTranscriptExpr
Version: 1.23.0
Command: /home/biocbuild/bbs-3.15-data-experiment/R/bin/R CMD INSTALL PasillaTranscriptExpr
StartedAt: 2022-01-20 05:00:24 -0500 (Thu, 20 Jan 2022)
EndedAt: 2022-01-20 05:00:28 -0500 (Thu, 20 Jan 2022)
EllapsedTime: 3.8 seconds
RetCode: 0
Status:   OK  

Command output

##############################################################################
##############################################################################
###
### Running command:
###
###   /home/biocbuild/bbs-3.15-data-experiment/R/bin/R CMD INSTALL PasillaTranscriptExpr
###
##############################################################################
##############################################################################


* installing to library ‘/home/biocbuild/bbs-3.15-data-experiment/R/library’
* installing *source* package ‘PasillaTranscriptExpr’ ...
** using staged installation
** inst
** help
No man pages found in package  ‘PasillaTranscriptExpr’ 
*** installing help indices
** building package indices
** installing vignettes
** testing if installed package can be loaded from temporary location
** testing if installed package can be loaded from final location
** testing if installed package keeps a record of temporary installation path
* DONE (PasillaTranscriptExpr)