This page was generated on 2023-12-07 11:38:36 -0500 (Thu, 07 Dec 2023).
|
Hostname | OS | Arch (*) | R version | Installed pkgs |
---|---|---|---|---|
nebbiolo2 | Linux (Ubuntu 22.04.2 LTS) | x86_64 | 4.3.2 Patched (2023-11-13 r85521) -- "Eye Holes" | 4688 |
palomino4 | Windows Server 2022 Datacenter | x64 | 4.3.2 (2023-10-31 ucrt) -- "Eye Holes" | 4439 |
lconway | macOS 12.7.1 Monterey | x86_64 | 4.3.2 Patched (2023-11-01 r85457) -- "Eye Holes" | 4458 |
Click on any hostname to see more info about the system (e.g. compilers) (*) as reported by 'uname -p', except on Windows and Mac OS X |
A |
QUICK STATS | OS / Arch | INSTALL | BUILD | CHECK | BUILD BIN | |||||||||||||||||||||||||||||||
nebbiolo2 | Linux (Ubuntu 22.04.2 LTS) / x86_64 |
|
|
| ||||||||||||||||||||||||||||||||
palomino4 | Windows Server 2022 Datacenter / x64 |
|
|
|
| |||||||||||||||||||||||||||||||
lconway | macOS 12.7.1 Monterey / x86_64 |
|
|
|
| |||||||||||||||||||||||||||||||
|
| |||||||||||||||||||||||||||||||||||
Package 1/2266 | Hostname | OS / Arch | INSTALL | BUILD | CHECK | BUILD BIN | ||||||||||||||||||||||||||||||
a4 1.50.0 (landing page) Laure Cougnaud
| nebbiolo2 | Linux (Ubuntu 22.04.2 LTS) / x86_64 | OK | OK | WARNINGS | ![]() | ||||||||||||||||||||||||||||||
palomino4 | Windows Server 2022 Datacenter / x64 | OK | OK | OK | OK | ![]() | ||||||||||||||||||||||||||||||
lconway | macOS 12.7.1 Monterey / x86_64 | OK | OK | OK | OK | ![]() | ||||||||||||||||||||||||||||||
kjohnson1 | macOS 13.6.1 Ventura / arm64 | see weekly results here | ||||||||||||||||||||||||||||||||||
Package 2/2266 | Hostname | OS / Arch | INSTALL | BUILD | CHECK | BUILD BIN | ||||||||||||||||||||||||||||||
a4Base 1.50.0 (landing page) Laure Cougnaud
| nebbiolo2 | Linux (Ubuntu 22.04.2 LTS) / x86_64 | OK | OK | OK | ![]() | ||||||||||||||||||||||||||||||
palomino4 | Windows Server 2022 Datacenter / x64 | OK | OK | OK | OK | ![]() | ||||||||||||||||||||||||||||||
lconway | macOS 12.7.1 Monterey / x86_64 | OK | OK | OK | OK | ![]() | ||||||||||||||||||||||||||||||
kjohnson1 | macOS 13.6.1 Ventura / arm64 | see weekly results here | ||||||||||||||||||||||||||||||||||
Package 3/2266 | Hostname | OS / Arch | INSTALL | BUILD | CHECK | BUILD BIN | ||||||||||||||||||||||||||||||
a4Classif 1.50.0 (landing page) Laure Cougnaud
| nebbiolo2 | Linux (Ubuntu 22.04.2 LTS) / x86_64 | OK | OK | OK | ![]() | ||||||||||||||||||||||||||||||
palomino4 | Windows Server 2022 Datacenter / x64 | OK | OK | OK | OK | ![]() | ||||||||||||||||||||||||||||||
lconway | macOS 12.7.1 Monterey / x86_64 | OK | OK | OK | OK | ![]() | ||||||||||||||||||||||||||||||
kjohnson1 | macOS 13.6.1 Ventura / arm64 | see weekly results here | ||||||||||||||||||||||||||||||||||
Package 4/2266 | Hostname | OS / Arch | INSTALL | BUILD | CHECK | BUILD BIN | ||||||||||||||||||||||||||||||
a4Core 1.50.0 (landing page) Laure Cougnaud
| nebbiolo2 | Linux (Ubuntu 22.04.2 LTS) / x86_64 | OK | OK | OK | ![]() | ||||||||||||||||||||||||||||||
palomino4 | Windows Server 2022 Datacenter / x64 | OK | OK | OK | OK | ![]() | ||||||||||||||||||||||||||||||
lconway | macOS 12.7.1 Monterey / x86_64 | OK | OK | OK | OK | ![]() | ||||||||||||||||||||||||||||||
kjohnson1 | macOS 13.6.1 Ventura / arm64 | see weekly results here | ||||||||||||||||||||||||||||||||||
Package 5/2266 | Hostname | OS / Arch | INSTALL | BUILD | CHECK | BUILD BIN | ||||||||||||||||||||||||||||||
a4Preproc 1.50.0 (landing page) Laure Cougnaud
| nebbiolo2 | Linux (Ubuntu 22.04.2 LTS) / x86_64 | OK | OK | OK | ![]() | ||||||||||||||||||||||||||||||
palomino4 | Windows Server 2022 Datacenter / x64 | OK | OK | OK | OK | ![]() | ||||||||||||||||||||||||||||||
lconway | macOS 12.7.1 Monterey / x86_64 | OK | OK | OK | OK | ![]() | ||||||||||||||||||||||||||||||
kjohnson1 | macOS 13.6.1 Ventura / arm64 | see weekly results here | ||||||||||||||||||||||||||||||||||
Package 6/2266 | Hostname | OS / Arch | INSTALL | BUILD | CHECK | BUILD BIN | ||||||||||||||||||||||||||||||
a4Reporting 1.50.0 (landing page) Laure Cougnaud
| nebbiolo2 | Linux (Ubuntu 22.04.2 LTS) / x86_64 | OK | OK | OK | ![]() | ||||||||||||||||||||||||||||||
palomino4 | Windows Server 2022 Datacenter / x64 | OK | OK | OK | OK | ![]() | ||||||||||||||||||||||||||||||
lconway | macOS 12.7.1 Monterey / x86_64 | OK | OK | OK | OK | ![]() | ||||||||||||||||||||||||||||||
kjohnson1 | macOS 13.6.1 Ventura / arm64 | see weekly results here | ||||||||||||||||||||||||||||||||||
Package 7/2266 | Hostname | OS / Arch | INSTALL | BUILD | CHECK | BUILD BIN | ||||||||||||||||||||||||||||||
ABarray 1.70.0 (landing page) Yongming Andrew Sun
| nebbiolo2 | Linux (Ubuntu 22.04.2 LTS) / x86_64 | OK | OK | OK | ![]() | ||||||||||||||||||||||||||||||
palomino4 | Windows Server 2022 Datacenter / x64 | OK | OK | OK | OK | ![]() | ||||||||||||||||||||||||||||||
lconway | macOS 12.7.1 Monterey / x86_64 | OK | OK | OK | OK | ![]() | ||||||||||||||||||||||||||||||
kjohnson1 | macOS 13.6.1 Ventura / arm64 | see weekly results here | ||||||||||||||||||||||||||||||||||
Package 8/2266 | Hostname | OS / Arch | INSTALL | BUILD | CHECK | BUILD BIN | ||||||||||||||||||||||||||||||
abseqR 1.20.0 (landing page) JiaHong Fong
| nebbiolo2 | Linux (Ubuntu 22.04.2 LTS) / x86_64 | OK | OK | OK | ![]() | ||||||||||||||||||||||||||||||
palomino4 | Windows Server 2022 Datacenter / x64 | OK | OK | OK | OK | ![]() | ||||||||||||||||||||||||||||||
lconway | macOS 12.7.1 Monterey / x86_64 | OK | OK | OK | OK | ![]() | ||||||||||||||||||||||||||||||
kjohnson1 | macOS 13.6.1 Ventura / arm64 | see weekly results here | ||||||||||||||||||||||||||||||||||
Package 9/2266 | Hostname | OS / Arch | INSTALL | BUILD | CHECK | BUILD BIN | ||||||||||||||||||||||||||||||
ABSSeq 1.56.0 (landing page) Wentao Yang
| nebbiolo2 | Linux (Ubuntu 22.04.2 LTS) / x86_64 | OK | OK | OK | ![]() | ||||||||||||||||||||||||||||||
palomino4 | Windows Server 2022 Datacenter / x64 | OK | OK | OK | OK | ![]() | ||||||||||||||||||||||||||||||
lconway | macOS 12.7.1 Monterey / x86_64 | OK | OK | OK | OK | ![]() | ||||||||||||||||||||||||||||||
kjohnson1 | macOS 13.6.1 Ventura / arm64 | see weekly results here | ||||||||||||||||||||||||||||||||||
Package 10/2266 | Hostname | OS / Arch | INSTALL | BUILD | CHECK | BUILD BIN | ||||||||||||||||||||||||||||||
acde 1.32.0 (landing page) Juan Pablo Acosta
| nebbiolo2 | Linux (Ubuntu 22.04.2 LTS) / x86_64 | OK | OK | OK | ![]() | ||||||||||||||||||||||||||||||
palomino4 | Windows Server 2022 Datacenter / x64 | OK | OK | OK | OK | ![]() | ||||||||||||||||||||||||||||||
lconway | macOS 12.7.1 Monterey / x86_64 | OK | OK | OK | OK | ![]() | ||||||||||||||||||||||||||||||
kjohnson1 | macOS 13.6.1 Ventura / arm64 | see weekly results here | ||||||||||||||||||||||||||||||||||
Package 11/2266 | Hostname | OS / Arch | INSTALL | BUILD | CHECK | BUILD BIN | ||||||||||||||||||||||||||||||
ACE 1.20.0 (landing page) Jos B Poell
| nebbiolo2 | Linux (Ubuntu 22.04.2 LTS) / x86_64 | OK | OK | OK | ![]() | ||||||||||||||||||||||||||||||
palomino4 | Windows Server 2022 Datacenter / x64 | OK | OK | OK | OK | ![]() | ||||||||||||||||||||||||||||||
lconway | macOS 12.7.1 Monterey / x86_64 | OK | OK | OK | OK | ![]() | ||||||||||||||||||||||||||||||
kjohnson1 | macOS 13.6.1 Ventura / arm64 | see weekly results here | ||||||||||||||||||||||||||||||||||
Package 12/2266 | Hostname | OS / Arch | INSTALL | BUILD | CHECK | BUILD BIN | ||||||||||||||||||||||||||||||
aCGH 1.80.0 (landing page) Peter Dimitrov
| nebbiolo2 | Linux (Ubuntu 22.04.2 LTS) / x86_64 | OK | OK | OK | ![]() | ||||||||||||||||||||||||||||||
palomino4 | Windows Server 2022 Datacenter / x64 | OK | OK | OK | OK | ![]() | ||||||||||||||||||||||||||||||
lconway | macOS 12.7.1 Monterey / x86_64 | OK | OK | OK | OK | ![]() | ||||||||||||||||||||||||||||||
kjohnson1 | macOS 13.6.1 Ventura / arm64 | see weekly results here | ||||||||||||||||||||||||||||||||||
Package 13/2266 | Hostname | OS / Arch | INSTALL | BUILD | CHECK | BUILD BIN | ||||||||||||||||||||||||||||||
ACME 2.58.0 (landing page) Sean Davis
| nebbiolo2 | Linux (Ubuntu 22.04.2 LTS) / x86_64 | OK | OK | WARNINGS | ![]() | ||||||||||||||||||||||||||||||
palomino4 | Windows Server 2022 Datacenter / x64 | OK | OK | WARNINGS | OK | ![]() | ||||||||||||||||||||||||||||||
lconway | macOS 12.7.1 Monterey / x86_64 | OK | OK | OK | OK | ![]() | ||||||||||||||||||||||||||||||
kjohnson1 | macOS 13.6.1 Ventura / arm64 | see weekly results here | ||||||||||||||||||||||||||||||||||
Package 14/2266 | Hostname | OS / Arch | INSTALL | BUILD | CHECK | BUILD BIN | ||||||||||||||||||||||||||||||
ADaCGH2 2.42.0 (landing page) Ramon Diaz-Uriarte
| nebbiolo2 | Linux (Ubuntu 22.04.2 LTS) / x86_64 | OK | OK | OK | ![]() | ||||||||||||||||||||||||||||||
palomino4 | Windows Server 2022 Datacenter / x64 | OK | OK | OK | OK | ![]() | ||||||||||||||||||||||||||||||
lconway | macOS 12.7.1 Monterey / x86_64 | OK | OK | OK | OK | ![]() | ||||||||||||||||||||||||||||||
kjohnson1 | macOS 13.6.1 Ventura / arm64 | see weekly results here | ||||||||||||||||||||||||||||||||||
Package 15/2266 | Hostname | OS / Arch | INSTALL | BUILD | CHECK | BUILD BIN | ||||||||||||||||||||||||||||||
ADAM 1.18.0 (landing page) Jose Luiz Rybarczyk Filho
| nebbiolo2 | Linux (Ubuntu 22.04.2 LTS) / x86_64 | OK | OK | OK | ![]() | ||||||||||||||||||||||||||||||
palomino4 | Windows Server 2022 Datacenter / x64 | OK | OK | OK | OK | ![]() | ||||||||||||||||||||||||||||||
lconway | macOS 12.7.1 Monterey / x86_64 | OK | OK | OK | OK | ![]() | ||||||||||||||||||||||||||||||
kjohnson1 | macOS 13.6.1 Ventura / arm64 | see weekly results here | ||||||||||||||||||||||||||||||||||
Package 16/2266 | Hostname | OS / Arch | INSTALL | BUILD | CHECK | BUILD BIN | ||||||||||||||||||||||||||||||
ADAMgui 1.18.0 (landing page) Jose Luiz Rybarczyk Filho
| nebbiolo2 | Linux (Ubuntu 22.04.2 LTS) / x86_64 | OK | OK | OK | ![]() | ||||||||||||||||||||||||||||||
palomino4 | Windows Server 2022 Datacenter / x64 | OK | OK | OK | OK | ![]() | ||||||||||||||||||||||||||||||
lconway | macOS 12.7.1 Monterey / x86_64 | OK | OK | OK | OK | ![]() | ||||||||||||||||||||||||||||||
kjohnson1 | macOS 13.6.1 Ventura / arm64 | see weekly results here | ||||||||||||||||||||||||||||||||||
Package 17/2266 | Hostname | OS / Arch | INSTALL | BUILD | CHECK | BUILD BIN | ||||||||||||||||||||||||||||||
adductomicsR 1.18.0 (landing page) Josie Hayes
| nebbiolo2 | Linux (Ubuntu 22.04.2 LTS) / x86_64 | OK | OK | WARNINGS | ![]() | ||||||||||||||||||||||||||||||
palomino4 | Windows Server 2022 Datacenter / x64 | OK | OK | WARNINGS | OK | ![]() | ||||||||||||||||||||||||||||||
lconway | macOS 12.7.1 Monterey / x86_64 | OK | OK | WARNINGS | OK | ![]() | ||||||||||||||||||||||||||||||
kjohnson1 | macOS 13.6.1 Ventura / arm64 | see weekly results here | ||||||||||||||||||||||||||||||||||
Package 18/2266 | Hostname | OS / Arch | INSTALL | BUILD | CHECK | BUILD BIN | ||||||||||||||||||||||||||||||
ADImpute 1.12.0 (landing page) Ana Carolina Leote
| nebbiolo2 | Linux (Ubuntu 22.04.2 LTS) / x86_64 | OK | OK | WARNINGS | ![]() | ||||||||||||||||||||||||||||||
palomino4 | Windows Server 2022 Datacenter / x64 | OK | OK | WARNINGS | OK | ![]() | ||||||||||||||||||||||||||||||
lconway | macOS 12.7.1 Monterey / x86_64 | OK | OK | WARNINGS | OK | ![]() | ||||||||||||||||||||||||||||||
kjohnson1 | macOS 13.6.1 Ventura / arm64 | see weekly results here | ||||||||||||||||||||||||||||||||||
Package 19/2266 | Hostname | OS / Arch | INSTALL | BUILD | CHECK | BUILD BIN | ||||||||||||||||||||||||||||||
adSplit 1.72.0 (landing page) Claudio Lottaz
| nebbiolo2 | Linux (Ubuntu 22.04.2 LTS) / x86_64 | OK | OK | OK | ![]() | ||||||||||||||||||||||||||||||
palomino4 | Windows Server 2022 Datacenter / x64 | OK | OK | OK | OK | ![]() | ||||||||||||||||||||||||||||||
lconway | macOS 12.7.1 Monterey / x86_64 | OK | OK | OK | OK | ![]() | ||||||||||||||||||||||||||||||
kjohnson1 | macOS 13.6.1 Ventura / arm64 | see weekly results here | ||||||||||||||||||||||||||||||||||
Package 20/2266 | Hostname | OS / Arch | INSTALL | BUILD | CHECK | BUILD BIN | ||||||||||||||||||||||||||||||
adverSCarial 1.0.0 (landing page) Ghislain FIEVET
| nebbiolo2 | Linux (Ubuntu 22.04.2 LTS) / x86_64 | OK | OK | OK | ![]() | ||||||||||||||||||||||||||||||
palomino4 | Windows Server 2022 Datacenter / x64 | OK | OK | OK | OK | ![]() | ||||||||||||||||||||||||||||||
lconway | macOS 12.7.1 Monterey / x86_64 | OK | OK | OK | OK | ![]() | ||||||||||||||||||||||||||||||
kjohnson1 | macOS 13.6.1 Ventura / arm64 | see weekly results here | ||||||||||||||||||||||||||||||||||
Package 21/2266 | Hostname | OS / Arch | INSTALL | BUILD | CHECK | BUILD BIN | ||||||||||||||||||||||||||||||
AffiXcan 1.20.0 (landing page) Alessandro Lussana
| nebbiolo2 | Linux (Ubuntu 22.04.2 LTS) / x86_64 | OK | OK | OK | ![]() | ||||||||||||||||||||||||||||||
palomino4 | Windows Server 2022 Datacenter / x64 | OK | OK | OK | OK | ![]() | ||||||||||||||||||||||||||||||
lconway | macOS 12.7.1 Monterey / x86_64 | OK | OK | OK | OK | ![]() | ||||||||||||||||||||||||||||||
kjohnson1 | macOS 13.6.1 Ventura / arm64 | see weekly results here | ||||||||||||||||||||||||||||||||||
Package 22/2266 | Hostname | OS / Arch | INSTALL | BUILD | CHECK | BUILD BIN | ||||||||||||||||||||||||||||||
affxparser 1.74.0 (landing page) Kasper Daniel Hansen
| nebbiolo2 | Linux (Ubuntu 22.04.2 LTS) / x86_64 | OK | OK | WARNINGS | ![]() | ||||||||||||||||||||||||||||||
palomino4 | Windows Server 2022 Datacenter / x64 | OK | OK | WARNINGS | OK | ![]() | ||||||||||||||||||||||||||||||
lconway | macOS 12.7.1 Monterey / x86_64 | OK | OK | WARNINGS | OK | ![]() | ||||||||||||||||||||||||||||||
kjohnson1 | macOS 13.6.1 Ventura / arm64 | see weekly results here | ||||||||||||||||||||||||||||||||||
Package 23/2266 | Hostname | OS / Arch | INSTALL | BUILD | CHECK | BUILD BIN | ||||||||||||||||||||||||||||||
affy 1.80.0 (landing page) Robert D. Shear
| nebbiolo2 | Linux (Ubuntu 22.04.2 LTS) / x86_64 | OK | OK | WARNINGS | ![]() | ||||||||||||||||||||||||||||||
palomino4 | Windows Server 2022 Datacenter / x64 | OK | OK | WARNINGS | OK | ![]() | ||||||||||||||||||||||||||||||
lconway | macOS 12.7.1 Monterey / x86_64 | OK | OK | WARNINGS | OK | ![]() | ||||||||||||||||||||||||||||||
kjohnson1 | macOS 13.6.1 Ventura / arm64 | see weekly results here | ||||||||||||||||||||||||||||||||||
Package 24/2266 | Hostname | OS / Arch | INSTALL | BUILD | CHECK | BUILD BIN | ||||||||||||||||||||||||||||||
affycomp 1.78.0 (landing page) Robert D. Shear
| nebbiolo2 | Linux (Ubuntu 22.04.2 LTS) / x86_64 | OK | OK | OK | ![]() | ||||||||||||||||||||||||||||||
palomino4 | Windows Server 2022 Datacenter / x64 | OK | OK | OK | OK | ![]() | ||||||||||||||||||||||||||||||
lconway | macOS 12.7.1 Monterey / x86_64 | OK | OK | OK | OK | ![]() | ||||||||||||||||||||||||||||||
kjohnson1 | macOS 13.6.1 Ventura / arm64 | see weekly results here | ||||||||||||||||||||||||||||||||||
Package 25/2266 | Hostname | OS / Arch | INSTALL | BUILD | CHECK | BUILD BIN | ||||||||||||||||||||||||||||||
affyContam 1.60.0 (landing page) V. Carey
| nebbiolo2 | Linux (Ubuntu 22.04.2 LTS) / x86_64 | OK | OK | OK | ![]() | ||||||||||||||||||||||||||||||
palomino4 | Windows Server 2022 Datacenter / x64 | OK | OK | OK | OK | ![]() | ||||||||||||||||||||||||||||||
lconway | macOS 12.7.1 Monterey / x86_64 | OK | OK | OK | OK | ![]() | ||||||||||||||||||||||||||||||
kjohnson1 | macOS 13.6.1 Ventura / arm64 | see weekly results here | ||||||||||||||||||||||||||||||||||
Package 26/2266 | Hostname | OS / Arch | INSTALL | BUILD | CHECK | BUILD BIN | ||||||||||||||||||||||||||||||
affycoretools 1.74.0 (landing page) James W. MacDonald
| nebbiolo2 | Linux (Ubuntu 22.04.2 LTS) / x86_64 | OK | OK | OK | ![]() | ||||||||||||||||||||||||||||||
palomino4 | Windows Server 2022 Datacenter / x64 | OK | OK | OK | OK | ![]() | ||||||||||||||||||||||||||||||
lconway | macOS 12.7.1 Monterey / x86_64 | OK | OK | OK | OK | ![]() | ||||||||||||||||||||||||||||||
kjohnson1 | macOS 13.6.1 Ventura / arm64 | see weekly results here | ||||||||||||||||||||||||||||||||||
Package 27/2266 | Hostname | OS / Arch | INSTALL | BUILD | CHECK | BUILD BIN | ||||||||||||||||||||||||||||||
affyILM 1.54.0 (landing page) Myriam Kroll and Fabrice Berger
| nebbiolo2 | Linux (Ubuntu 22.04.2 LTS) / x86_64 | OK | OK | OK | ![]() | ||||||||||||||||||||||||||||||
palomino4 | Windows Server 2022 Datacenter / x64 | OK | OK | OK | OK | ![]() | ||||||||||||||||||||||||||||||
lconway | macOS 12.7.1 Monterey / x86_64 | OK | OK | OK | OK | ![]() | ||||||||||||||||||||||||||||||
kjohnson1 | macOS 13.6.1 Ventura / arm64 | see weekly results here | ||||||||||||||||||||||||||||||||||
Package 28/2266 | Hostname | OS / Arch | INSTALL | BUILD | CHECK | BUILD BIN | ||||||||||||||||||||||||||||||
affyio 1.72.0 (landing page) Ben Bolstad
| nebbiolo2 | Linux (Ubuntu 22.04.2 LTS) / x86_64 | OK | OK | WARNINGS | ![]() | ||||||||||||||||||||||||||||||
palomino4 | Windows Server 2022 Datacenter / x64 | OK | OK | WARNINGS | OK | ![]() | ||||||||||||||||||||||||||||||
lconway | macOS 12.7.1 Monterey / x86_64 | OK | OK | WARNINGS | OK | ![]() | ||||||||||||||||||||||||||||||
kjohnson1 | macOS 13.6.1 Ventura / arm64 | see weekly results here | ||||||||||||||||||||||||||||||||||
Package 29/2266 | Hostname | OS / Arch | INSTALL | BUILD | CHECK | BUILD BIN | ||||||||||||||||||||||||||||||
affylmGUI 1.76.0 (landing page) Gordon Smyth
| nebbiolo2 | Linux (Ubuntu 22.04.2 LTS) / x86_64 | OK | OK | OK | ![]() | ||||||||||||||||||||||||||||||
palomino4 | Windows Server 2022 Datacenter / x64 | OK | OK | OK | OK | ![]() | ||||||||||||||||||||||||||||||
lconway | macOS 12.7.1 Monterey / x86_64 | OK | OK | OK | OK | ![]() | ||||||||||||||||||||||||||||||
kjohnson1 | macOS 13.6.1 Ventura / arm64 | see weekly results here | ||||||||||||||||||||||||||||||||||
Package 30/2266 | Hostname | OS / Arch | INSTALL | BUILD | CHECK | BUILD BIN | ||||||||||||||||||||||||||||||
affyPLM 1.78.0 (landing page) Ben Bolstad
| nebbiolo2 | Linux (Ubuntu 22.04.2 LTS) / x86_64 | OK | OK | WARNINGS | ![]() | ||||||||||||||||||||||||||||||
palomino4 | Windows Server 2022 Datacenter / x64 | OK | OK | WARNINGS | OK | ![]() | ||||||||||||||||||||||||||||||
lconway | macOS 12.7.1 Monterey / x86_64 | OK | OK | OK | OK | ![]() | ||||||||||||||||||||||||||||||
kjohnson1 | macOS 13.6.1 Ventura / arm64 | see weekly results here | ||||||||||||||||||||||||||||||||||
Package 31/2266 | Hostname | OS / Arch | INSTALL | BUILD | CHECK | BUILD BIN | ||||||||||||||||||||||||||||||
AffyRNADegradation 1.48.0 (landing page) Mario Fasold
| nebbiolo2 | Linux (Ubuntu 22.04.2 LTS) / x86_64 | OK | OK | OK | ![]() | ||||||||||||||||||||||||||||||
palomino4 | Windows Server 2022 Datacenter / x64 | OK | OK | OK | OK | ![]() | ||||||||||||||||||||||||||||||
lconway | macOS 12.7.1 Monterey / x86_64 | OK | OK | OK | OK | ![]() | ||||||||||||||||||||||||||||||
kjohnson1 | macOS 13.6.1 Ventura / arm64 | see weekly results here | ||||||||||||||||||||||||||||||||||
Package 32/2266 | Hostname | OS / Arch | INSTALL | BUILD | CHECK | BUILD BIN | ||||||||||||||||||||||||||||||
AGDEX 1.50.0 (landing page) Cuilan lani Gao
| nebbiolo2 | Linux (Ubuntu 22.04.2 LTS) / x86_64 | OK | OK | OK | ![]() | ||||||||||||||||||||||||||||||
palomino4 | Windows Server 2022 Datacenter / x64 | OK | OK | OK | OK | ![]() | ||||||||||||||||||||||||||||||
lconway | macOS 12.7.1 Monterey / x86_64 | OK | OK | OK | OK | ![]() | ||||||||||||||||||||||||||||||
kjohnson1 | macOS 13.6.1 Ventura / arm64 | see weekly results here | ||||||||||||||||||||||||||||||||||
Package 33/2266 | Hostname | OS / Arch | INSTALL | BUILD | CHECK | BUILD BIN | ||||||||||||||||||||||||||||||
aggregateBioVar 1.12.0 (landing page) Jason Ratcliff
| nebbiolo2 | Linux (Ubuntu 22.04.2 LTS) / x86_64 | OK | OK | OK | ![]() | ||||||||||||||||||||||||||||||
palomino4 | Windows Server 2022 Datacenter / x64 | OK | OK | OK | OK | ![]() | ||||||||||||||||||||||||||||||
lconway | macOS 12.7.1 Monterey / x86_64 | OK | OK | OK | OK | ![]() | ||||||||||||||||||||||||||||||
kjohnson1 | macOS 13.6.1 Ventura / arm64 | see weekly results here | ||||||||||||||||||||||||||||||||||
Package 34/2266 | Hostname | OS / Arch | INSTALL | BUILD | CHECK | BUILD BIN | ||||||||||||||||||||||||||||||
agilp 3.34.0 (landing page) Benny Chain
| nebbiolo2 | Linux (Ubuntu 22.04.2 LTS) / x86_64 | OK | OK | OK | ![]() | ||||||||||||||||||||||||||||||
palomino4 | Windows Server 2022 Datacenter / x64 | OK | OK | OK | OK | ![]() | ||||||||||||||||||||||||||||||
lconway | macOS 12.7.1 Monterey / x86_64 | OK | OK | OK | OK | ![]() | ||||||||||||||||||||||||||||||
kjohnson1 | macOS 13.6.1 Ventura / arm64 | see weekly results here | ||||||||||||||||||||||||||||||||||
Package 35/2266 | Hostname | OS / Arch | INSTALL | BUILD | CHECK | BUILD BIN | ||||||||||||||||||||||||||||||
AgiMicroRna 2.52.0 (landing page) Pedro Lopez-Romero
| nebbiolo2 | Linux (Ubuntu 22.04.2 LTS) / x86_64 | OK | OK | WARNINGS | ![]() | ||||||||||||||||||||||||||||||
palomino4 | Windows Server 2022 Datacenter / x64 | OK | OK | WARNINGS | OK | ![]() | ||||||||||||||||||||||||||||||
lconway | macOS 12.7.1 Monterey / x86_64 | OK | OK | WARNINGS | OK | ![]() | ||||||||||||||||||||||||||||||
kjohnson1 | macOS 13.6.1 Ventura / arm64 | see weekly results here | ||||||||||||||||||||||||||||||||||
Package 36/2266 | Hostname | OS / Arch | INSTALL | BUILD | CHECK | BUILD BIN | ||||||||||||||||||||||||||||||
AHMassBank 1.2.0 (landing page) Johannes Rainer
| nebbiolo2 | Linux (Ubuntu 22.04.2 LTS) / x86_64 | OK | OK | OK | ![]() | ||||||||||||||||||||||||||||||
palomino4 | Windows Server 2022 Datacenter / x64 | OK | OK | OK | OK | ![]() | ||||||||||||||||||||||||||||||
lconway | macOS 12.7.1 Monterey / x86_64 | OK | OK | OK | OK | ![]() | ||||||||||||||||||||||||||||||
kjohnson1 | macOS 13.6.1 Ventura / arm64 | see weekly results here | ||||||||||||||||||||||||||||||||||
Package 37/2266 | Hostname | OS / Arch | INSTALL | BUILD | CHECK | BUILD BIN | ||||||||||||||||||||||||||||||
AIMS 1.34.0 (landing page) Eric R Paquet
| nebbiolo2 | Linux (Ubuntu 22.04.2 LTS) / x86_64 | OK | OK | OK | ![]() | ||||||||||||||||||||||||||||||
palomino4 | Windows Server 2022 Datacenter / x64 | OK | OK | OK | OK | ![]() | ||||||||||||||||||||||||||||||
lconway | macOS 12.7.1 Monterey / x86_64 | OK | OK | OK | OK | ![]() | ||||||||||||||||||||||||||||||
kjohnson1 | macOS 13.6.1 Ventura / arm64 | see weekly results here | ||||||||||||||||||||||||||||||||||
Package 38/2266 | Hostname | OS / Arch | INSTALL | BUILD | CHECK | BUILD BIN | ||||||||||||||||||||||||||||||
airpart 1.10.0 (landing page) Wancen Mu
| nebbiolo2 | Linux (Ubuntu 22.04.2 LTS) / x86_64 | OK | OK | OK | ![]() | ||||||||||||||||||||||||||||||
palomino4 | Windows Server 2022 Datacenter / x64 | OK | OK | OK | OK | ![]() | ||||||||||||||||||||||||||||||
lconway | macOS 12.7.1 Monterey / x86_64 | OK | OK | OK | OK | ![]() | ||||||||||||||||||||||||||||||
kjohnson1 | macOS 13.6.1 Ventura / arm64 | see weekly results here | ||||||||||||||||||||||||||||||||||
Package 39/2266 | Hostname | OS / Arch | INSTALL | BUILD | CHECK | BUILD BIN | ||||||||||||||||||||||||||||||
alabaster 1.2.0 (landing page) Aaron Lun
| nebbiolo2 | Linux (Ubuntu 22.04.2 LTS) / x86_64 | OK | OK | OK | ![]() | ||||||||||||||||||||||||||||||
palomino4 | Windows Server 2022 Datacenter / x64 | OK | OK | OK | OK | ![]() | ||||||||||||||||||||||||||||||
lconway | macOS 12.7.1 Monterey / x86_64 | OK | OK | OK | OK | ![]() | ||||||||||||||||||||||||||||||
kjohnson1 | macOS 13.6.1 Ventura / arm64 | see weekly results here | ||||||||||||||||||||||||||||||||||
Package 40/2266 | Hostname | OS / Arch | INSTALL | BUILD | CHECK | BUILD BIN | ||||||||||||||||||||||||||||||
alabaster.base 1.2.1 (landing page) Aaron Lun
| nebbiolo2 | Linux (Ubuntu 22.04.2 LTS) / x86_64 | OK | OK | WARNINGS | ![]() | ||||||||||||||||||||||||||||||
palomino4 | Windows Server 2022 Datacenter / x64 | OK | OK | OK | OK | ![]() | ||||||||||||||||||||||||||||||
lconway | macOS 12.7.1 Monterey / x86_64 | OK | OK | WARNINGS | OK | ![]() | ||||||||||||||||||||||||||||||
kjohnson1 | macOS 13.6.1 Ventura / arm64 | see weekly results here | ||||||||||||||||||||||||||||||||||
Package 41/2266 | Hostname | OS / Arch | INSTALL | BUILD | CHECK | BUILD BIN | ||||||||||||||||||||||||||||||
alabaster.bumpy 1.2.0 (landing page) Aaron Lun
| nebbiolo2 | Linux (Ubuntu 22.04.2 LTS) / x86_64 | OK | OK | OK | ![]() | ||||||||||||||||||||||||||||||
palomino4 | Windows Server 2022 Datacenter / x64 | OK | OK | OK | OK | ![]() | ||||||||||||||||||||||||||||||
lconway | macOS 12.7.1 Monterey / x86_64 | OK | OK | OK | OK | ![]() | ||||||||||||||||||||||||||||||
kjohnson1 | macOS 13.6.1 Ventura / arm64 | see weekly results here | ||||||||||||||||||||||||||||||||||
Package 42/2266 | Hostname | OS / Arch | INSTALL | BUILD | CHECK | BUILD BIN | ||||||||||||||||||||||||||||||
alabaster.files 1.0.0 (landing page) Aaron Lun
| nebbiolo2 | Linux (Ubuntu 22.04.2 LTS) / x86_64 | OK | OK | OK | ![]() | ||||||||||||||||||||||||||||||
palomino4 | Windows Server 2022 Datacenter / x64 | OK | OK | OK | OK | ![]() | ||||||||||||||||||||||||||||||
lconway | macOS 12.7.1 Monterey / x86_64 | OK | OK | OK | OK | ![]() | ||||||||||||||||||||||||||||||
kjohnson1 | macOS 13.6.1 Ventura / arm64 | see weekly results here | ||||||||||||||||||||||||||||||||||
Package 43/2266 | Hostname | OS / Arch | INSTALL | BUILD | CHECK | BUILD BIN | ||||||||||||||||||||||||||||||
alabaster.mae 1.2.0 (landing page) Aaron Lun
| nebbiolo2 | Linux (Ubuntu 22.04.2 LTS) / x86_64 | OK | OK | OK | ![]() | ||||||||||||||||||||||||||||||
palomino4 | Windows Server 2022 Datacenter / x64 | OK | OK | OK | OK | ![]() | ||||||||||||||||||||||||||||||
lconway | macOS 12.7.1 Monterey / x86_64 | OK | OK | OK | OK | ![]() | ||||||||||||||||||||||||||||||
kjohnson1 | macOS 13.6.1 Ventura / arm64 | see weekly results here | ||||||||||||||||||||||||||||||||||
Package 44/2266 | Hostname | OS / Arch | INSTALL | BUILD | CHECK | BUILD BIN | ||||||||||||||||||||||||||||||
alabaster.matrix 1.2.0 (landing page) Aaron Lun
| nebbiolo2 | Linux (Ubuntu 22.04.2 LTS) / x86_64 | OK | OK | OK | ![]() | ||||||||||||||||||||||||||||||
palomino4 | Windows Server 2022 Datacenter / x64 | OK | OK | OK | OK | ![]() | ||||||||||||||||||||||||||||||
lconway | macOS 12.7.1 Monterey / x86_64 | OK | OK | OK | OK | ![]() | ||||||||||||||||||||||||||||||
kjohnson1 | macOS 13.6.1 Ventura / arm64 | see weekly results here | ||||||||||||||||||||||||||||||||||
Package 45/2266 | Hostname | OS / Arch | INSTALL | BUILD | CHECK | BUILD BIN | ||||||||||||||||||||||||||||||
alabaster.ranges 1.2.0 (landing page) Aaron Lun
| nebbiolo2 | Linux (Ubuntu 22.04.2 LTS) / x86_64 | OK | OK | OK | ![]() | ||||||||||||||||||||||||||||||
palomino4 | Windows Server 2022 Datacenter / x64 | OK | OK | OK | OK | ![]() | ||||||||||||||||||||||||||||||
lconway | macOS 12.7.1 Monterey / x86_64 | OK | OK | OK | OK | ![]() | ||||||||||||||||||||||||||||||
kjohnson1 | macOS 13.6.1 Ventura / arm64 | see weekly results here | ||||||||||||||||||||||||||||||||||
Package 46/2266 | Hostname | OS / Arch | INSTALL | BUILD | CHECK | BUILD BIN | ||||||||||||||||||||||||||||||
alabaster.sce 1.2.0 (landing page) Aaron Lun
| nebbiolo2 | Linux (Ubuntu 22.04.2 LTS) / x86_64 | OK | OK | OK | ![]() | ||||||||||||||||||||||||||||||
palomino4 | Windows Server 2022 Datacenter / x64 | OK | OK | OK | OK | ![]() | ||||||||||||||||||||||||||||||
lconway | macOS 12.7.1 Monterey / x86_64 | OK | OK | OK | OK | ![]() | ||||||||||||||||||||||||||||||
kjohnson1 | macOS 13.6.1 Ventura / arm64 | see weekly results here | ||||||||||||||||||||||||||||||||||
Package 47/2266 | Hostname | OS / Arch | INSTALL | BUILD | CHECK | BUILD BIN | ||||||||||||||||||||||||||||||
alabaster.schemas 1.2.0 (landing page) Aaron Lun
| nebbiolo2 | Linux (Ubuntu 22.04.2 LTS) / x86_64 | OK | OK | OK | ![]() | ||||||||||||||||||||||||||||||
palomino4 | Windows Server 2022 Datacenter / x64 | OK | OK | OK | OK | ![]() | ||||||||||||||||||||||||||||||
lconway | macOS 12.7.1 Monterey / x86_64 | OK | OK | OK | OK | ![]() | ||||||||||||||||||||||||||||||
kjohnson1 | macOS 13.6.1 Ventura / arm64 | see weekly results here | ||||||||||||||||||||||||||||||||||
Package 48/2266 | Hostname | OS / Arch | INSTALL | BUILD | CHECK | BUILD BIN | ||||||||||||||||||||||||||||||
alabaster.se 1.2.0 (landing page) Aaron Lun
| nebbiolo2 | Linux (Ubuntu 22.04.2 LTS) / x86_64 | OK | OK | OK | ![]() | ||||||||||||||||||||||||||||||
palomino4 | Windows Server 2022 Datacenter / x64 | OK | OK | OK | OK | ![]() | ||||||||||||||||||||||||||||||
lconway | macOS 12.7.1 Monterey / x86_64 | OK | OK | OK | OK | ![]() | ||||||||||||||||||||||||||||||
kjohnson1 | macOS 13.6.1 Ventura / arm64 | see weekly results here | ||||||||||||||||||||||||||||||||||
Package 49/2266 | Hostname | OS / Arch | INSTALL | BUILD | CHECK | BUILD BIN | ||||||||||||||||||||||||||||||
alabaster.spatial 1.2.0 (landing page) Aaron Lun
| nebbiolo2 | Linux (Ubuntu 22.04.2 LTS) / x86_64 | OK | OK | OK | ![]() | ||||||||||||||||||||||||||||||
palomino4 | Windows Server 2022 Datacenter / x64 | OK | OK | OK | OK | ![]() | ||||||||||||||||||||||||||||||
lconway | macOS 12.7.1 Monterey / x86_64 | OK | OK | OK | OK | ![]() | ||||||||||||||||||||||||||||||
kjohnson1 | macOS 13.6.1 Ventura / arm64 | see weekly results here | ||||||||||||||||||||||||||||||||||
Package 50/2266 | Hostname | OS / Arch | INSTALL | BUILD | CHECK | BUILD BIN | ||||||||||||||||||||||||||||||
alabaster.string 1.2.0 (landing page) Aaron Lun
| nebbiolo2 | Linux (Ubuntu 22.04.2 LTS) / x86_64 | OK | OK | OK | ![]() | ||||||||||||||||||||||||||||||
palomino4 | Windows Server 2022 Datacenter / x64 | OK | OK | OK | OK | ![]() | ||||||||||||||||||||||||||||||
lconway | macOS 12.7.1 Monterey / x86_64 | OK | OK | OK | OK | ![]() | ||||||||||||||||||||||||||||||
kjohnson1 | macOS 13.6.1 Ventura / arm64 | see weekly results here | ||||||||||||||||||||||||||||||||||
Package 51/2266 | Hostname | OS / Arch | INSTALL | BUILD | CHECK | BUILD BIN | ||||||||||||||||||||||||||||||
alabaster.vcf 1.2.0 (landing page) Aaron Lun
| nebbiolo2 | Linux (Ubuntu 22.04.2 LTS) / x86_64 | OK | OK | OK | ![]() | ||||||||||||||||||||||||||||||
palomino4 | Windows Server 2022 Datacenter / x64 | OK | OK | OK | OK | ![]() | ||||||||||||||||||||||||||||||
lconway | macOS 12.7.1 Monterey / x86_64 | OK | OK | OK | OK | ![]() | ||||||||||||||||||||||||||||||
kjohnson1 | macOS 13.6.1 Ventura / arm64 | see weekly results here | ||||||||||||||||||||||||||||||||||
Package 52/2266 | Hostname | OS / Arch | INSTALL | BUILD | CHECK | BUILD BIN | ||||||||||||||||||||||||||||||
ALDEx2 1.34.0 (landing page) Greg Gloor
| nebbiolo2 | Linux (Ubuntu 22.04.2 LTS) / x86_64 | OK | OK | OK | ![]() | ||||||||||||||||||||||||||||||
palomino4 | Windows Server 2022 Datacenter / x64 | OK | OK | OK | OK | ![]() | ||||||||||||||||||||||||||||||
lconway | macOS 12.7.1 Monterey / x86_64 | OK | OK | OK | OK | ![]() | ||||||||||||||||||||||||||||||
kjohnson1 | macOS 13.6.1 Ventura / arm64 | see weekly results here | ||||||||||||||||||||||||||||||||||
Package 53/2266 | Hostname | OS / Arch | INSTALL | BUILD | CHECK | BUILD BIN | ||||||||||||||||||||||||||||||
alevinQC 1.18.0 (landing page) Charlotte Soneson
| nebbiolo2 | Linux (Ubuntu 22.04.2 LTS) / x86_64 | OK | OK | OK | ![]() | ||||||||||||||||||||||||||||||
palomino4 | Windows Server 2022 Datacenter / x64 | OK | OK | OK | OK | ![]() | ||||||||||||||||||||||||||||||
lconway | macOS 12.7.1 Monterey / x86_64 | OK | OK | OK | OK | ![]() | ||||||||||||||||||||||||||||||
kjohnson1 | macOS 13.6.1 Ventura / arm64 | see weekly results here | ||||||||||||||||||||||||||||||||||
Package 54/2266 | Hostname | OS / Arch | INSTALL | BUILD | CHECK | BUILD BIN | ||||||||||||||||||||||||||||||
AllelicImbalance 1.40.0 (landing page) Jesper R Gadin
| nebbiolo2 | Linux (Ubuntu 22.04.2 LTS) / x86_64 | OK | OK | OK | ![]() | ||||||||||||||||||||||||||||||
palomino4 | Windows Server 2022 Datacenter / x64 | OK | OK | OK | OK | ![]() | ||||||||||||||||||||||||||||||
lconway | macOS 12.7.1 Monterey / x86_64 | OK | OK | OK | OK | ![]() | ||||||||||||||||||||||||||||||
kjohnson1 | macOS 13.6.1 Ventura / arm64 | see weekly results here | ||||||||||||||||||||||||||||||||||
Package 55/2266 | Hostname | OS / Arch | INSTALL | BUILD | CHECK | BUILD BIN | ||||||||||||||||||||||||||||||
AlphaBeta 1.16.0 (landing page) Yadollah Shahryary Dizaji
| nebbiolo2 | Linux (Ubuntu 22.04.2 LTS) / x86_64 | OK | OK | OK | ![]() | ||||||||||||||||||||||||||||||
palomino4 | Windows Server 2022 Datacenter / x64 | OK | OK | OK | OK | ![]() | ||||||||||||||||||||||||||||||
lconway | macOS 12.7.1 Monterey / x86_64 | OK | OK | OK | OK | ![]() | ||||||||||||||||||||||||||||||
kjohnson1 | macOS 13.6.1 Ventura / arm64 | see weekly results here | ||||||||||||||||||||||||||||||||||
Package 56/2266 | Hostname | OS / Arch | INSTALL | BUILD | CHECK | BUILD BIN | ||||||||||||||||||||||||||||||
AlpsNMR 4.4.0 (landing page) Sergio Oller Moreno
| nebbiolo2 | Linux (Ubuntu 22.04.2 LTS) / x86_64 | OK | OK | OK | ![]() | ||||||||||||||||||||||||||||||
palomino4 | Windows Server 2022 Datacenter / x64 | OK | OK | OK | OK | ![]() | ||||||||||||||||||||||||||||||
lconway | macOS 12.7.1 Monterey / x86_64 | OK | OK | OK | OK | ![]() | ||||||||||||||||||||||||||||||
kjohnson1 | macOS 13.6.1 Ventura / arm64 | see weekly results here | ||||||||||||||||||||||||||||||||||
Package 57/2266 | Hostname | OS / Arch | INSTALL | BUILD | CHECK | BUILD BIN | ||||||||||||||||||||||||||||||
altcdfenvs 2.64.0 (landing page) Laurent Gautier
| nebbiolo2 | Linux (Ubuntu 22.04.2 LTS) / x86_64 | OK | OK | OK | ![]() | ||||||||||||||||||||||||||||||
palomino4 | Windows Server 2022 Datacenter / x64 | OK | OK | OK | OK | ![]() | ||||||||||||||||||||||||||||||
lconway | macOS 12.7.1 Monterey / x86_64 | OK | OK | OK | OK | ![]() | ||||||||||||||||||||||||||||||
kjohnson1 | macOS 13.6.1 Ventura / arm64 | see weekly results here | ||||||||||||||||||||||||||||||||||
Package 58/2266 | Hostname | OS / Arch | INSTALL | BUILD | CHECK | BUILD BIN | ||||||||||||||||||||||||||||||
AMARETTO 1.18.0 (landing page) Olivier Gevaert
| nebbiolo2 | Linux (Ubuntu 22.04.2 LTS) / x86_64 | OK | OK | WARNINGS | ![]() | ||||||||||||||||||||||||||||||
palomino4 | Windows Server 2022 Datacenter / x64 | OK | OK | WARNINGS | OK | ![]() | ||||||||||||||||||||||||||||||
lconway | macOS 12.7.1 Monterey / x86_64 | OK | OK | WARNINGS | OK | ![]() | ||||||||||||||||||||||||||||||
kjohnson1 | macOS 13.6.1 Ventura / arm64 | see weekly results here | ||||||||||||||||||||||||||||||||||
Package 59/2266 | Hostname | OS / Arch | INSTALL | BUILD | CHECK | BUILD BIN | ||||||||||||||||||||||||||||||
AMOUNTAIN 1.28.0 (landing page) Dong Li
| nebbiolo2 | Linux (Ubuntu 22.04.2 LTS) / x86_64 | OK | OK | OK | ![]() | ||||||||||||||||||||||||||||||
palomino4 | Windows Server 2022 Datacenter / x64 | OK | OK | OK | OK | ![]() | ||||||||||||||||||||||||||||||
lconway | macOS 12.7.1 Monterey / x86_64 | OK | OK | OK | OK | ![]() | ||||||||||||||||||||||||||||||
kjohnson1 | macOS 13.6.1 Ventura / arm64 | see weekly results here | ||||||||||||||||||||||||||||||||||
Package 60/2266 | Hostname | OS / Arch | INSTALL | BUILD | CHECK | BUILD BIN | ||||||||||||||||||||||||||||||
amplican 1.24.0 (landing page) Eivind Valen
| nebbiolo2 | Linux (Ubuntu 22.04.2 LTS) / x86_64 | OK | OK | OK | ![]() | ||||||||||||||||||||||||||||||
palomino4 | Windows Server 2022 Datacenter / x64 | OK | OK | OK | OK | ![]() | ||||||||||||||||||||||||||||||
lconway | macOS 12.7.1 Monterey / x86_64 | OK | OK | OK | OK | ![]() | ||||||||||||||||||||||||||||||
kjohnson1 | macOS 13.6.1 Ventura / arm64 | see weekly results here | ||||||||||||||||||||||||||||||||||
Package 61/2266 | Hostname | OS / Arch | INSTALL | BUILD | CHECK | BUILD BIN | ||||||||||||||||||||||||||||||
Anaquin 2.26.0 (landing page) Ted Wong
| nebbiolo2 | Linux (Ubuntu 22.04.2 LTS) / x86_64 | OK | OK | OK | ![]() | ||||||||||||||||||||||||||||||
palomino4 | Windows Server 2022 Datacenter / x64 | OK | OK | OK | OK | ![]() | ||||||||||||||||||||||||||||||
lconway | macOS 12.7.1 Monterey / x86_64 | OK | OK | OK | OK | ![]() | ||||||||||||||||||||||||||||||
kjohnson1 | macOS 13.6.1 Ventura / arm64 | see weekly results here | ||||||||||||||||||||||||||||||||||
Package 62/2266 | Hostname | OS / Arch | INSTALL | BUILD | CHECK | BUILD BIN | ||||||||||||||||||||||||||||||
ANCOMBC 2.4.0 (landing page) Huang Lin
| nebbiolo2 | Linux (Ubuntu 22.04.2 LTS) / x86_64 | OK | OK | OK | ![]() | ||||||||||||||||||||||||||||||
palomino4 | Windows Server 2022 Datacenter / x64 | OK | OK | OK | OK | ![]() | ||||||||||||||||||||||||||||||
lconway | macOS 12.7.1 Monterey / x86_64 | OK | OK | OK | OK | ![]() | ||||||||||||||||||||||||||||||
kjohnson1 | macOS 13.6.1 Ventura / arm64 | see weekly results here | ||||||||||||||||||||||||||||||||||
Package 63/2266 | Hostname | OS / Arch | INSTALL | BUILD | CHECK | BUILD BIN | ||||||||||||||||||||||||||||||
AneuFinder 1.30.0 (landing page) Aaron Taudt
| nebbiolo2 | Linux (Ubuntu 22.04.2 LTS) / x86_64 | OK | OK | OK | ![]() | ||||||||||||||||||||||||||||||
palomino4 | Windows Server 2022 Datacenter / x64 | OK | OK | OK | OK | ![]() | ||||||||||||||||||||||||||||||
lconway | macOS 12.7.1 Monterey / x86_64 | OK | OK | OK | OK | ![]() | ||||||||||||||||||||||||||||||
kjohnson1 | macOS 13.6.1 Ventura / arm64 | see weekly results here | ||||||||||||||||||||||||||||||||||
Package 64/2266 | Hostname | OS / Arch | INSTALL | BUILD | CHECK | BUILD BIN | ||||||||||||||||||||||||||||||
ANF 1.24.0 (landing page) Tianle Ma
| nebbiolo2 | Linux (Ubuntu 22.04.2 LTS) / x86_64 | OK | OK | ERROR | |||||||||||||||||||||||||||||||
palomino4 | Windows Server 2022 Datacenter / x64 | OK | OK | OK | OK | ![]() | ||||||||||||||||||||||||||||||
lconway | macOS 12.7.1 Monterey / x86_64 | OK | OK | OK | OK | ![]() | ||||||||||||||||||||||||||||||
kjohnson1 | macOS 13.6.1 Ventura / arm64 | see weekly results here | ||||||||||||||||||||||||||||||||||
Package 65/2266 | Hostname | OS / Arch | INSTALL | BUILD | CHECK | BUILD BIN | ||||||||||||||||||||||||||||||
animalcules 1.18.0 (landing page) Yue Zhao
| nebbiolo2 | Linux (Ubuntu 22.04.2 LTS) / x86_64 | OK | OK | ERROR | |||||||||||||||||||||||||||||||
palomino4 | Windows Server 2022 Datacenter / x64 | OK | OK | WARNINGS | OK | ![]() | ||||||||||||||||||||||||||||||
lconway | macOS 12.7.1 Monterey / x86_64 | OK | OK | WARNINGS | OK | ![]() | ||||||||||||||||||||||||||||||
kjohnson1 | macOS 13.6.1 Ventura / arm64 | see weekly results here | ||||||||||||||||||||||||||||||||||
Package 66/2266 | Hostname | OS / Arch | INSTALL | BUILD | CHECK | BUILD BIN | ||||||||||||||||||||||||||||||
annaffy 1.74.0 (landing page) Colin A. Smith
| nebbiolo2 | Linux (Ubuntu 22.04.2 LTS) / x86_64 | OK | OK | WARNINGS | ![]() | ||||||||||||||||||||||||||||||
palomino4 | Windows Server 2022 Datacenter / x64 | OK | OK | WARNINGS | OK | ![]() | ||||||||||||||||||||||||||||||
lconway | macOS 12.7.1 Monterey / x86_64 | OK | OK | WARNINGS | OK | ![]() | ||||||||||||||||||||||||||||||
kjohnson1 | macOS 13.6.1 Ventura / arm64 | see weekly results here | ||||||||||||||||||||||||||||||||||
Package 67/2266 | Hostname | OS / Arch | INSTALL | BUILD | CHECK | BUILD BIN | ||||||||||||||||||||||||||||||
annmap 1.44.0 (landing page) Chris Wirth
| nebbiolo2 | Linux (Ubuntu 22.04.2 LTS) / x86_64 | OK | OK | WARNINGS | ![]() | ||||||||||||||||||||||||||||||
palomino4 | Windows Server 2022 Datacenter / x64 | ... NOT SUPPORTED ... | ||||||||||||||||||||||||||||||||||
lconway | macOS 12.7.1 Monterey / x86_64 | OK | OK | WARNINGS | OK | ![]() | ||||||||||||||||||||||||||||||
kjohnson1 | macOS 13.6.1 Ventura / arm64 | see weekly results here | ||||||||||||||||||||||||||||||||||
Package 68/2266 | Hostname | OS / Arch | INSTALL | BUILD | CHECK | BUILD BIN | ||||||||||||||||||||||||||||||
annotate 1.80.0 (landing page) Bioconductor Package Maintainer
| nebbiolo2 | Linux (Ubuntu 22.04.2 LTS) / x86_64 | OK | OK | TIMEOUT | |||||||||||||||||||||||||||||||
palomino4 | Windows Server 2022 Datacenter / x64 | OK | OK | ERROR | OK | |||||||||||||||||||||||||||||||
lconway | macOS 12.7.1 Monterey / x86_64 | OK | OK | TIMEOUT | OK | |||||||||||||||||||||||||||||||
kjohnson1 | macOS 13.6.1 Ventura / arm64 | see weekly results here | ||||||||||||||||||||||||||||||||||
Package 69/2266 | Hostname | OS / Arch | INSTALL | BUILD | CHECK | BUILD BIN | ||||||||||||||||||||||||||||||
AnnotationDbi 1.64.1 (landing page) Bioconductor Package Maintainer
| nebbiolo2 | Linux (Ubuntu 22.04.2 LTS) / x86_64 | OK | OK | WARNINGS | ![]() | ||||||||||||||||||||||||||||||
palomino4 | Windows Server 2022 Datacenter / x64 | OK | OK | WARNINGS | OK | ![]() | ||||||||||||||||||||||||||||||
lconway | macOS 12.7.1 Monterey / x86_64 | OK | OK | WARNINGS | OK | ![]() | ||||||||||||||||||||||||||||||
kjohnson1 | macOS 13.6.1 Ventura / arm64 | see weekly results here | ||||||||||||||||||||||||||||||||||
Package 70/2266 | Hostname | OS / Arch | INSTALL | BUILD | CHECK | BUILD BIN | ||||||||||||||||||||||||||||||
AnnotationFilter 1.26.0 (landing page) Bioconductor Package Maintainer
| nebbiolo2 | Linux (Ubuntu 22.04.2 LTS) / x86_64 | OK | OK | OK | ![]() | ||||||||||||||||||||||||||||||
palomino4 | Windows Server 2022 Datacenter / x64 | OK | OK | OK | OK | ![]() | ||||||||||||||||||||||||||||||
lconway | macOS 12.7.1 Monterey / x86_64 | OK | OK | OK | OK | ![]() | ||||||||||||||||||||||||||||||
kjohnson1 | macOS 13.6.1 Ventura / arm64 | see weekly results here | ||||||||||||||||||||||||||||||||||
Package 71/2266 | Hostname | OS / Arch | INSTALL | BUILD | CHECK | BUILD BIN | ||||||||||||||||||||||||||||||
AnnotationForge 1.44.0 (landing page) Bioconductor Package Maintainer
| nebbiolo2 | Linux (Ubuntu 22.04.2 LTS) / x86_64 | OK | OK | OK | ![]() | ||||||||||||||||||||||||||||||
palomino4 | Windows Server 2022 Datacenter / x64 | OK | OK | OK | OK | ![]() | ||||||||||||||||||||||||||||||
lconway | macOS 12.7.1 Monterey / x86_64 | OK | OK | OK | OK | ![]() | ||||||||||||||||||||||||||||||
kjohnson1 | macOS 13.6.1 Ventura / arm64 | see weekly results here | ||||||||||||||||||||||||||||||||||
Package 72/2266 | Hostname | OS / Arch | INSTALL | BUILD | CHECK | BUILD BIN | ||||||||||||||||||||||||||||||
AnnotationHub 3.10.0 (landing page) Bioconductor Package Maintainer
| nebbiolo2 | Linux (Ubuntu 22.04.2 LTS) / x86_64 | OK | OK | WARNINGS | ![]() | ||||||||||||||||||||||||||||||
palomino4 | Windows Server 2022 Datacenter / x64 | OK | OK | WARNINGS | OK | ![]() | ||||||||||||||||||||||||||||||
lconway | macOS 12.7.1 Monterey / x86_64 | OK | OK | WARNINGS | OK | ![]() | ||||||||||||||||||||||||||||||
kjohnson1 | macOS 13.6.1 Ventura / arm64 | see weekly results here | ||||||||||||||||||||||||||||||||||
Package 73/2266 | Hostname | OS / Arch | INSTALL | BUILD | CHECK | BUILD BIN | ||||||||||||||||||||||||||||||
AnnotationHubData 1.32.0 (landing page) Bioconductor Package Maintainer
| nebbiolo2 | Linux (Ubuntu 22.04.2 LTS) / x86_64 | OK | OK | WARNINGS | ![]() | ||||||||||||||||||||||||||||||
palomino4 | Windows Server 2022 Datacenter / x64 | OK | OK | WARNINGS | OK | ![]() | ||||||||||||||||||||||||||||||
lconway | macOS 12.7.1 Monterey / x86_64 | OK | OK | WARNINGS | OK | ![]() | ||||||||||||||||||||||||||||||
kjohnson1 | macOS 13.6.1 Ventura / arm64 | see weekly results here | ||||||||||||||||||||||||||||||||||
Package 74/2266 | Hostname | OS / Arch | INSTALL | BUILD | CHECK | BUILD BIN | ||||||||||||||||||||||||||||||
annotationTools 1.76.0 (landing page) Alexandre Kuhn
| nebbiolo2 | Linux (Ubuntu 22.04.2 LTS) / x86_64 | OK | OK | OK | ![]() | ||||||||||||||||||||||||||||||
palomino4 | Windows Server 2022 Datacenter / x64 | OK | OK | OK | OK | ![]() | ||||||||||||||||||||||||||||||
lconway | macOS 12.7.1 Monterey / x86_64 | OK | OK | OK | OK | ![]() | ||||||||||||||||||||||||||||||
kjohnson1 | macOS 13.6.1 Ventura / arm64 | see weekly results here | ||||||||||||||||||||||||||||||||||
Package 75/2266 | Hostname | OS / Arch | INSTALL | BUILD | CHECK | BUILD BIN | ||||||||||||||||||||||||||||||
annotatr 1.28.0 (landing page) Raymond G. Cavalcante
| nebbiolo2 | Linux (Ubuntu 22.04.2 LTS) / x86_64 | OK | OK | OK | ![]() | ||||||||||||||||||||||||||||||
palomino4 | Windows Server 2022 Datacenter / x64 | OK | OK | OK | OK | ![]() | ||||||||||||||||||||||||||||||
lconway | macOS 12.7.1 Monterey / x86_64 | OK | OK | OK | OK | ![]() | ||||||||||||||||||||||||||||||
kjohnson1 | macOS 13.6.1 Ventura / arm64 | see weekly results here | ||||||||||||||||||||||||||||||||||
Package 76/2266 | Hostname | OS / Arch | INSTALL | BUILD | CHECK | BUILD BIN | ||||||||||||||||||||||||||||||
anota 1.50.0 (landing page) Ola Larsson
| nebbiolo2 | Linux (Ubuntu 22.04.2 LTS) / x86_64 | OK | OK | OK | ![]() | ||||||||||||||||||||||||||||||
palomino4 | Windows Server 2022 Datacenter / x64 | OK | OK | OK | OK | ![]() | ||||||||||||||||||||||||||||||
lconway | macOS 12.7.1 Monterey / x86_64 | OK | OK | OK | OK | ![]() | ||||||||||||||||||||||||||||||
kjohnson1 | macOS 13.6.1 Ventura / arm64 | see weekly results here | ||||||||||||||||||||||||||||||||||
Package 77/2266 | Hostname | OS / Arch | INSTALL | BUILD | CHECK | BUILD BIN | ||||||||||||||||||||||||||||||
anota2seq 1.24.0 (landing page) Christian Oertlin
| nebbiolo2 | Linux (Ubuntu 22.04.2 LTS) / x86_64 | OK | OK | WARNINGS | ![]() | ||||||||||||||||||||||||||||||
palomino4 | Windows Server 2022 Datacenter / x64 | OK | OK | OK | OK | ![]() | ||||||||||||||||||||||||||||||
lconway | macOS 12.7.1 Monterey / x86_64 | OK | OK | OK | OK | ![]() | ||||||||||||||||||||||||||||||
kjohnson1 | macOS 13.6.1 Ventura / arm64 | see weekly results here | ||||||||||||||||||||||||||||||||||
Package 78/2266 | Hostname | OS / Arch | INSTALL | BUILD | CHECK | BUILD BIN | ||||||||||||||||||||||||||||||
antiProfiles 1.42.0 (landing page) Hector Corrada Bravo
| nebbiolo2 | Linux (Ubuntu 22.04.2 LTS) / x86_64 | OK | OK | OK | ![]() | ||||||||||||||||||||||||||||||
palomino4 | Windows Server 2022 Datacenter / x64 | OK | OK | OK | OK | ![]() | ||||||||||||||||||||||||||||||
lconway | macOS 12.7.1 Monterey / x86_64 | OK | OK | OK | OK | ![]() | ||||||||||||||||||||||||||||||
kjohnson1 | macOS 13.6.1 Ventura / arm64 | see weekly results here | ||||||||||||||||||||||||||||||||||
Package 79/2266 | Hostname | OS / Arch | INSTALL | BUILD | CHECK | BUILD BIN | ||||||||||||||||||||||||||||||
AnVIL 1.14.1 (landing page) Marcel Ramos
| nebbiolo2 | Linux (Ubuntu 22.04.2 LTS) / x86_64 | OK | OK | OK | ![]() | ||||||||||||||||||||||||||||||
palomino4 | Windows Server 2022 Datacenter / x64 | OK | OK | OK | OK | ![]() | ||||||||||||||||||||||||||||||
lconway | macOS 12.7.1 Monterey / x86_64 | OK | OK | OK | OK | ![]() | ||||||||||||||||||||||||||||||
kjohnson1 | macOS 13.6.1 Ventura / arm64 | see weekly results here | ||||||||||||||||||||||||||||||||||
Package 80/2266 | Hostname | OS / Arch | INSTALL | BUILD | CHECK | BUILD BIN | ||||||||||||||||||||||||||||||
AnVILBilling 1.12.0 (landing page) Vince Carey
| nebbiolo2 | Linux (Ubuntu 22.04.2 LTS) / x86_64 | OK | OK | OK | ![]() | ||||||||||||||||||||||||||||||
palomino4 | Windows Server 2022 Datacenter / x64 | OK | OK | OK | OK | ![]() | ||||||||||||||||||||||||||||||
lconway | macOS 12.7.1 Monterey / x86_64 | OK | OK | OK | OK | ![]() | ||||||||||||||||||||||||||||||
kjohnson1 | macOS 13.6.1 Ventura / arm64 | see weekly results here | ||||||||||||||||||||||||||||||||||
Package 81/2266 | Hostname | OS / Arch | INSTALL | BUILD | CHECK | BUILD BIN | ||||||||||||||||||||||||||||||
AnVILPublish 1.12.0 (landing page) Marcel Ramos
| nebbiolo2 | Linux (Ubuntu 22.04.2 LTS) / x86_64 | OK | OK | OK | ![]() | ||||||||||||||||||||||||||||||
palomino4 | Windows Server 2022 Datacenter / x64 | OK | OK | OK | OK | ![]() | ||||||||||||||||||||||||||||||
lconway | macOS 12.7.1 Monterey / x86_64 | OK | OK | OK | OK | ![]() | ||||||||||||||||||||||||||||||
kjohnson1 | macOS 13.6.1 Ventura / arm64 | see weekly results here | ||||||||||||||||||||||||||||||||||
Package 82/2266 | Hostname | OS / Arch | INSTALL | BUILD | CHECK | BUILD BIN | ||||||||||||||||||||||||||||||
AnVILWorkflow 1.2.0 (landing page) Sehyun Oh
| nebbiolo2 | Linux (Ubuntu 22.04.2 LTS) / x86_64 | OK | OK | OK | ![]() | ||||||||||||||||||||||||||||||
palomino4 | Windows Server 2022 Datacenter / x64 | OK | OK | OK | OK | ![]() | ||||||||||||||||||||||||||||||
lconway | macOS 12.7.1 Monterey / x86_64 | OK | OK | OK | OK | ![]() | ||||||||||||||||||||||||||||||
kjohnson1 | macOS 13.6.1 Ventura / arm64 | see weekly results here | ||||||||||||||||||||||||||||||||||
Package 83/2266 | Hostname | OS / Arch | INSTALL | BUILD | CHECK | BUILD BIN | ||||||||||||||||||||||||||||||
APAlyzer 1.16.0 (landing page) Ruijia Wang
| nebbiolo2 | Linux (Ubuntu 22.04.2 LTS) / x86_64 | OK | OK | WARNINGS | ![]() | ||||||||||||||||||||||||||||||
palomino4 | Windows Server 2022 Datacenter / x64 | OK | OK | WARNINGS | OK | ![]() | ||||||||||||||||||||||||||||||
lconway | macOS 12.7.1 Monterey / x86_64 | OK | OK | WARNINGS | OK | ![]() | ||||||||||||||||||||||||||||||
kjohnson1 | macOS 13.6.1 Ventura / arm64 | see weekly results here | ||||||||||||||||||||||||||||||||||
Package 84/2266 | Hostname | OS / Arch | INSTALL | BUILD | CHECK | BUILD BIN | ||||||||||||||||||||||||||||||
apComplex 2.68.0 (landing page) Denise Scholtens
| nebbiolo2 | Linux (Ubuntu 22.04.2 LTS) / x86_64 | OK | OK | OK | ![]() | ||||||||||||||||||||||||||||||
palomino4 | Windows Server 2022 Datacenter / x64 | OK | OK | OK | OK | ![]() | ||||||||||||||||||||||||||||||
lconway | macOS 12.7.1 Monterey / x86_64 | OK | OK | OK | OK | ![]() | ||||||||||||||||||||||||||||||
kjohnson1 | macOS 13.6.1 Ventura / arm64 | see weekly results here | ||||||||||||||||||||||||||||||||||
Package 85/2266 | Hostname | OS / Arch | INSTALL | BUILD | CHECK | BUILD BIN | ||||||||||||||||||||||||||||||
apeglm 1.24.0 (landing page) Anqi Zhu
| nebbiolo2 | Linux (Ubuntu 22.04.2 LTS) / x86_64 | OK | OK | OK | ![]() | ||||||||||||||||||||||||||||||
palomino4 | Windows Server 2022 Datacenter / x64 | OK | OK | OK | OK | ![]() | ||||||||||||||||||||||||||||||
lconway | macOS 12.7.1 Monterey / x86_64 | OK | OK | OK | OK | ![]() | ||||||||||||||||||||||||||||||
kjohnson1 | macOS 13.6.1 Ventura / arm64 | see weekly results here | ||||||||||||||||||||||||||||||||||
Package 86/2266 | Hostname | OS / Arch | INSTALL | BUILD | CHECK | BUILD BIN | ||||||||||||||||||||||||||||||
APL 1.6.0 (landing page) Elzbieta Gralinska
| nebbiolo2 | Linux (Ubuntu 22.04.2 LTS) / x86_64 | OK | OK | ERROR | |||||||||||||||||||||||||||||||
palomino4 | Windows Server 2022 Datacenter / x64 | OK | OK | ERROR | OK | |||||||||||||||||||||||||||||||
lconway | macOS 12.7.1 Monterey / x86_64 | OK | OK | ERROR | OK | |||||||||||||||||||||||||||||||
kjohnson1 | macOS 13.6.1 Ventura / arm64 | see weekly results here | ||||||||||||||||||||||||||||||||||
Package 87/2266 | Hostname | OS / Arch | INSTALL | BUILD | CHECK | BUILD BIN | ||||||||||||||||||||||||||||||
appreci8R 1.20.1 (landing page) Sarah Sandmann
| nebbiolo2 | Linux (Ubuntu 22.04.2 LTS) / x86_64 | OK | OK | OK | ![]() | ||||||||||||||||||||||||||||||
palomino4 | Windows Server 2022 Datacenter / x64 | OK | OK | OK | OK | ![]() | ||||||||||||||||||||||||||||||
lconway | macOS 12.7.1 Monterey / x86_64 | OK | OK | OK | OK | ![]() | ||||||||||||||||||||||||||||||
kjohnson1 | macOS 13.6.1 Ventura / arm64 | see weekly results here | ||||||||||||||||||||||||||||||||||
Package 88/2266 | Hostname | OS / Arch | INSTALL | BUILD | CHECK | BUILD BIN | ||||||||||||||||||||||||||||||
aroma.light 3.32.0 (landing page) Henrik Bengtsson
| nebbiolo2 | Linux (Ubuntu 22.04.2 LTS) / x86_64 | OK | OK | OK | ![]() | ||||||||||||||||||||||||||||||
palomino4 | Windows Server 2022 Datacenter / x64 | OK | OK | OK | OK | ![]() | ||||||||||||||||||||||||||||||
lconway | macOS 12.7.1 Monterey / x86_64 | OK | OK | OK | OK | ![]() | ||||||||||||||||||||||||||||||
kjohnson1 | macOS 13.6.1 Ventura / arm64 | see weekly results here | ||||||||||||||||||||||||||||||||||
Package 89/2266 | Hostname | OS / Arch | INSTALL | BUILD | CHECK | BUILD BIN | ||||||||||||||||||||||||||||||
ArrayExpress 1.62.0 (landing page) Jose Marugan
| nebbiolo2 | Linux (Ubuntu 22.04.2 LTS) / x86_64 | OK | OK | OK | ![]() | ||||||||||||||||||||||||||||||
palomino4 | Windows Server 2022 Datacenter / x64 | OK | OK | OK | OK | ![]() | ||||||||||||||||||||||||||||||
lconway | macOS 12.7.1 Monterey / x86_64 | OK | OK | OK | OK | ![]() | ||||||||||||||||||||||||||||||
kjohnson1 | macOS 13.6.1 Ventura / arm64 | see weekly results here | ||||||||||||||||||||||||||||||||||
Package 90/2266 | Hostname | OS / Arch | INSTALL | BUILD | CHECK | BUILD BIN | ||||||||||||||||||||||||||||||
arrayMvout 1.60.0 (landing page) V. Carey
| nebbiolo2 | Linux (Ubuntu 22.04.2 LTS) / x86_64 | OK | OK | OK | ![]() | ||||||||||||||||||||||||||||||
palomino4 | Windows Server 2022 Datacenter / x64 | OK | OK | OK | OK | ![]() | ||||||||||||||||||||||||||||||
lconway | macOS 12.7.1 Monterey / x86_64 | OK | OK | OK | OK | ![]() | ||||||||||||||||||||||||||||||
kjohnson1 | macOS 13.6.1 Ventura / arm64 | see weekly results here | ||||||||||||||||||||||||||||||||||
Package 91/2266 | Hostname | OS / Arch | INSTALL | BUILD | CHECK | BUILD BIN | ||||||||||||||||||||||||||||||
arrayQuality 1.80.0 (landing page) Agnes Paquet
| nebbiolo2 | Linux (Ubuntu 22.04.2 LTS) / x86_64 | OK | OK | WARNINGS | ![]() | ||||||||||||||||||||||||||||||
palomino4 | Windows Server 2022 Datacenter / x64 | OK | OK | WARNINGS | OK | ![]() | ||||||||||||||||||||||||||||||
lconway | macOS 12.7.1 Monterey / x86_64 | OK | OK | WARNINGS | OK | ![]() | ||||||||||||||||||||||||||||||
kjohnson1 | macOS 13.6.1 Ventura / arm64 | see weekly results here | ||||||||||||||||||||||||||||||||||
Package 92/2266 | Hostname | OS / Arch | INSTALL | BUILD | CHECK | BUILD BIN | ||||||||||||||||||||||||||||||
arrayQualityMetrics 3.58.0 (landing page) Mike Smith
| nebbiolo2 | Linux (Ubuntu 22.04.2 LTS) / x86_64 | OK | OK | OK | ![]() | ||||||||||||||||||||||||||||||
palomino4 | Windows Server 2022 Datacenter / x64 | OK | OK | OK | OK | ![]() | ||||||||||||||||||||||||||||||
lconway | macOS 12.7.1 Monterey / x86_64 | OK | OK | OK | OK | ![]() | ||||||||||||||||||||||||||||||
kjohnson1 | macOS 13.6.1 Ventura / arm64 | see weekly results here | ||||||||||||||||||||||||||||||||||
Package 93/2266 | Hostname | OS / Arch | INSTALL | BUILD | CHECK | BUILD BIN | ||||||||||||||||||||||||||||||
ARRmNormalization 1.42.0 (landing page) Jean-Philippe Fortin
| nebbiolo2 | Linux (Ubuntu 22.04.2 LTS) / x86_64 | OK | OK | OK | ![]() | ||||||||||||||||||||||||||||||
palomino4 | Windows Server 2022 Datacenter / x64 | OK | OK | OK | OK | ![]() | ||||||||||||||||||||||||||||||
lconway | macOS 12.7.1 Monterey / x86_64 | OK | OK | OK | OK | ![]() | ||||||||||||||||||||||||||||||
kjohnson1 | macOS 13.6.1 Ventura / arm64 | see weekly results here | ||||||||||||||||||||||||||||||||||
Package 94/2266 | Hostname | OS / Arch | INSTALL | BUILD | CHECK | BUILD BIN | ||||||||||||||||||||||||||||||
artMS 1.20.0 (landing page) David Jimenez-Morales
| nebbiolo2 | Linux (Ubuntu 22.04.2 LTS) / x86_64 | OK | OK | OK | ![]() | ||||||||||||||||||||||||||||||
palomino4 | Windows Server 2022 Datacenter / x64 | OK | OK | OK | OK | ![]() | ||||||||||||||||||||||||||||||
lconway | macOS 12.7.1 Monterey / x86_64 | OK | OK | OK | OK | ![]() | ||||||||||||||||||||||||||||||
kjohnson1 | macOS 13.6.1 Ventura / arm64 | see weekly results here | ||||||||||||||||||||||||||||||||||
Package 95/2266 | Hostname | OS / Arch | INSTALL | BUILD | CHECK | BUILD BIN | ||||||||||||||||||||||||||||||
ASAFE 1.28.0 (landing page) Qian Zhang
| nebbiolo2 | Linux (Ubuntu 22.04.2 LTS) / x86_64 | OK | OK | OK | ![]() | ||||||||||||||||||||||||||||||
palomino4 | Windows Server 2022 Datacenter / x64 | OK | OK | OK | OK | ![]() | ||||||||||||||||||||||||||||||
lconway | macOS 12.7.1 Monterey / x86_64 | OK | OK | OK | OK | ![]() | ||||||||||||||||||||||||||||||
kjohnson1 | macOS 13.6.1 Ventura / arm64 | see weekly results here | ||||||||||||||||||||||||||||||||||
Package 96/2266 | Hostname | OS / Arch | INSTALL | BUILD | CHECK | BUILD BIN | ||||||||||||||||||||||||||||||
ASEB 1.46.3 (landing page) Likun Wang
| nebbiolo2 | Linux (Ubuntu 22.04.2 LTS) / x86_64 | OK | OK | WARNINGS | ![]() | ||||||||||||||||||||||||||||||
palomino4 | Windows Server 2022 Datacenter / x64 | OK | OK | OK | OK | ![]() | ||||||||||||||||||||||||||||||
lconway | macOS 12.7.1 Monterey / x86_64 | OK | OK | WARNINGS | OK | ![]() | ||||||||||||||||||||||||||||||
kjohnson1 | macOS 13.6.1 Ventura / arm64 | see weekly results here | ||||||||||||||||||||||||||||||||||
Package 97/2266 | Hostname | OS / Arch | INSTALL | BUILD | CHECK | BUILD BIN | ||||||||||||||||||||||||||||||
ASGSCA 1.36.0 (landing page) Hela Romdhani
| nebbiolo2 | Linux (Ubuntu 22.04.2 LTS) / x86_64 | OK | OK | OK | ![]() | ||||||||||||||||||||||||||||||
palomino4 | Windows Server 2022 Datacenter / x64 | OK | OK | OK | OK | ![]() | ||||||||||||||||||||||||||||||
lconway | macOS 12.7.1 Monterey / x86_64 | OK | OK | OK | OK | ![]() | ||||||||||||||||||||||||||||||
kjohnson1 | macOS 13.6.1 Ventura / arm64 | see weekly results here | ||||||||||||||||||||||||||||||||||
Package 98/2266 | Hostname | OS / Arch | INSTALL | BUILD | CHECK | BUILD BIN | ||||||||||||||||||||||||||||||
ASICS 2.18.0 (landing page) Gaëlle Lefort
| nebbiolo2 | Linux (Ubuntu 22.04.2 LTS) / x86_64 | OK | OK | OK | ![]() | ||||||||||||||||||||||||||||||
palomino4 | Windows Server 2022 Datacenter / x64 | OK | OK | OK | OK | ![]() | ||||||||||||||||||||||||||||||
lconway | macOS 12.7.1 Monterey / x86_64 | OK | OK | OK | OK | ![]() | ||||||||||||||||||||||||||||||
kjohnson1 | macOS 13.6.1 Ventura / arm64 | see weekly results here | ||||||||||||||||||||||||||||||||||
Package 99/2266 | Hostname | OS / Arch | INSTALL | BUILD | CHECK | BUILD BIN | ||||||||||||||||||||||||||||||
ASpli 2.12.0 (landing page) Ariel Chernomoretz
| nebbiolo2 | Linux (Ubuntu 22.04.2 LTS) / x86_64 | OK | OK | WARNINGS | ![]() | ||||||||||||||||||||||||||||||
palomino4 | Windows Server 2022 Datacenter / x64 | OK | OK | WARNINGS | OK | ![]() | ||||||||||||||||||||||||||||||
lconway | macOS 12.7.1 Monterey / x86_64 | OK | OK | WARNINGS | OK | ![]() | ||||||||||||||||||||||||||||||
kjohnson1 | macOS 13.6.1 Ventura / arm64 | see weekly results here | ||||||||||||||||||||||||||||||||||
Package 100/2266 | Hostname | OS / Arch | INSTALL | BUILD | CHECK | BUILD BIN | ||||||||||||||||||||||||||||||
AssessORF 1.20.0 (landing page) Deepank Korandla
| nebbiolo2 | Linux (Ubuntu 22.04.2 LTS) / x86_64 | OK | OK | OK | ![]() | ||||||||||||||||||||||||||||||
palomino4 | Windows Server 2022 Datacenter / x64 | OK | OK | OK | OK | ![]() | ||||||||||||||||||||||||||||||
lconway | macOS 12.7.1 Monterey / x86_64 | OK | OK | OK | OK | ![]() | ||||||||||||||||||||||||||||||
kjohnson1 | macOS 13.6.1 Ventura / arm64 | see weekly results here | ||||||||||||||||||||||||||||||||||
Package 101/2266 | Hostname | OS / Arch | INSTALL | BUILD | CHECK | BUILD BIN | ||||||||||||||||||||||||||||||
ASSET 2.20.0 (landing page) Samsiddhi Bhattacharjee
| nebbiolo2 | Linux (Ubuntu 22.04.2 LTS) / x86_64 | OK | OK | OK | ![]() | ||||||||||||||||||||||||||||||
palomino4 | Windows Server 2022 Datacenter / x64 | OK | OK | OK | OK | ![]() | ||||||||||||||||||||||||||||||
lconway | macOS 12.7.1 Monterey / x86_64 | OK | OK | OK | OK | ![]() | ||||||||||||||||||||||||||||||
kjohnson1 | macOS 13.6.1 Ventura / arm64 | see weekly results here | ||||||||||||||||||||||||||||||||||
Package 102/2266 | Hostname | OS / Arch | INSTALL | BUILD | CHECK | BUILD BIN | ||||||||||||||||||||||||||||||
ASSIGN 1.38.0 (landing page) Ying Shen
| nebbiolo2 | Linux (Ubuntu 22.04.2 LTS) / x86_64 | OK | OK | OK | ![]() | ||||||||||||||||||||||||||||||
palomino4 | Windows Server 2022 Datacenter / x64 | OK | OK | OK | OK | ![]() | ||||||||||||||||||||||||||||||
lconway | macOS 12.7.1 Monterey / x86_64 | OK | OK | OK | OK | ![]() | ||||||||||||||||||||||||||||||
kjohnson1 | macOS 13.6.1 Ventura / arm64 | see weekly results here | ||||||||||||||||||||||||||||||||||
Package 103/2266 | Hostname | OS / Arch | INSTALL | BUILD | CHECK | BUILD BIN | ||||||||||||||||||||||||||||||
ASURAT 1.6.0 (landing page) Keita Iida
| nebbiolo2 | Linux (Ubuntu 22.04.2 LTS) / x86_64 | OK | OK | OK | ![]() | ||||||||||||||||||||||||||||||
palomino4 | Windows Server 2022 Datacenter / x64 | OK | OK | OK | OK | ![]() | ||||||||||||||||||||||||||||||
lconway | macOS 12.7.1 Monterey / x86_64 | OK | OK | OK | OK | ![]() | ||||||||||||||||||||||||||||||
kjohnson1 | macOS 13.6.1 Ventura / arm64 | see weekly results here | ||||||||||||||||||||||||||||||||||
Package 104/2266 | Hostname | OS / Arch | INSTALL | BUILD | CHECK | BUILD BIN | ||||||||||||||||||||||||||||||
ATACCoGAPS 1.4.0 (landing page) Rossin Erbe
| nebbiolo2 | Linux (Ubuntu 22.04.2 LTS) / x86_64 | OK | OK | OK | ![]() | ||||||||||||||||||||||||||||||
palomino4 | Windows Server 2022 Datacenter / x64 | OK | OK | OK | OK | ![]() | ||||||||||||||||||||||||||||||
lconway | macOS 12.7.1 Monterey / x86_64 | OK | OK | OK | OK | ![]() | ||||||||||||||||||||||||||||||
kjohnson1 | macOS 13.6.1 Ventura / arm64 | see weekly results here | ||||||||||||||||||||||||||||||||||
Package 105/2266 | Hostname | OS / Arch | INSTALL | BUILD | CHECK | BUILD BIN | ||||||||||||||||||||||||||||||
ATACseqQC 1.26.0 (landing page) Jianhong Ou
| nebbiolo2 | Linux (Ubuntu 22.04.2 LTS) / x86_64 | OK | OK | OK | ![]() | ||||||||||||||||||||||||||||||
palomino4 | Windows Server 2022 Datacenter / x64 | OK | OK | OK | OK | ![]() | ||||||||||||||||||||||||||||||
lconway | macOS 12.7.1 Monterey / x86_64 | OK | OK | OK | OK | ![]() | ||||||||||||||||||||||||||||||
kjohnson1 | macOS 13.6.1 Ventura / arm64 | see weekly results here | ||||||||||||||||||||||||||||||||||
Package 106/2266 | Hostname | OS / Arch | INSTALL | BUILD | CHECK | BUILD BIN | ||||||||||||||||||||||||||||||
ATACseqTFEA 1.4.0 (landing page) Jianhong Ou
| nebbiolo2 | Linux (Ubuntu 22.04.2 LTS) / x86_64 | OK | OK | OK | ![]() | ||||||||||||||||||||||||||||||
palomino4 | Windows Server 2022 Datacenter / x64 | OK | OK | OK | OK | ![]() | ||||||||||||||||||||||||||||||
lconway | macOS 12.7.1 Monterey / x86_64 | OK | OK | OK | OK | ![]() | ||||||||||||||||||||||||||||||
kjohnson1 | macOS 13.6.1 Ventura / arm64 | see weekly results here | ||||||||||||||||||||||||||||||||||
Package 107/2266 | Hostname | OS / Arch | INSTALL | BUILD | CHECK | BUILD BIN | ||||||||||||||||||||||||||||||
atena 1.8.0 (landing page) Beatriz Calvo-Serra
| nebbiolo2 | Linux (Ubuntu 22.04.2 LTS) / x86_64 | OK | OK | OK | ![]() | ||||||||||||||||||||||||||||||
palomino4 | Windows Server 2022 Datacenter / x64 | OK | OK | OK | OK | ![]() | ||||||||||||||||||||||||||||||
lconway | macOS 12.7.1 Monterey / x86_64 | OK | OK | OK | OK | ![]() | ||||||||||||||||||||||||||||||
kjohnson1 | macOS 13.6.1 Ventura / arm64 | see weekly results here | ||||||||||||||||||||||||||||||||||
Package 108/2266 | Hostname | OS / Arch | INSTALL | BUILD | CHECK | BUILD BIN | ||||||||||||||||||||||||||||||
atSNP 1.18.0 (landing page) Sunyoung Shin
| nebbiolo2 | Linux (Ubuntu 22.04.2 LTS) / x86_64 | OK | OK | OK | ![]() | ||||||||||||||||||||||||||||||
palomino4 | Windows Server 2022 Datacenter / x64 | OK | OK | OK | OK | ![]() | ||||||||||||||||||||||||||||||
lconway | macOS 12.7.1 Monterey / x86_64 | OK | OK | OK | OK | ![]() | ||||||||||||||||||||||||||||||
kjohnson1 | macOS 13.6.1 Ventura / arm64 | see weekly results here | ||||||||||||||||||||||||||||||||||
Package 109/2266 | Hostname | OS / Arch | INSTALL | BUILD | CHECK | BUILD BIN | ||||||||||||||||||||||||||||||
attract 1.54.0 (landing page) Samuel Zimmerman
| nebbiolo2 | Linux (Ubuntu 22.04.2 LTS) / x86_64 | OK | OK | OK | ![]() | ||||||||||||||||||||||||||||||
palomino4 | Windows Server 2022 Datacenter / x64 | OK | OK | OK | OK | ![]() | ||||||||||||||||||||||||||||||
lconway | macOS 12.7.1 Monterey / x86_64 | OK | OK | OK | OK | ![]() | ||||||||||||||||||||||||||||||
kjohnson1 | macOS 13.6.1 Ventura / arm64 | see weekly results here | ||||||||||||||||||||||||||||||||||
Package 110/2266 | Hostname | OS / Arch | INSTALL | BUILD | CHECK | BUILD BIN | ||||||||||||||||||||||||||||||
AUCell 1.24.0 (landing page) Sara Aibar
| nebbiolo2 | Linux (Ubuntu 22.04.2 LTS) / x86_64 | OK | OK | ERROR | |||||||||||||||||||||||||||||||
palomino4 | Windows Server 2022 Datacenter / x64 | OK | OK | ERROR | OK | |||||||||||||||||||||||||||||||
lconway | macOS 12.7.1 Monterey / x86_64 | OK | OK | ERROR | OK | |||||||||||||||||||||||||||||||
kjohnson1 | macOS 13.6.1 Ventura / arm64 | see weekly results here | ||||||||||||||||||||||||||||||||||
Package 111/2266 | Hostname | OS / Arch | INSTALL | BUILD | CHECK | BUILD BIN | ||||||||||||||||||||||||||||||
autonomics 1.10.2 (landing page) Aditya Bhagwat
| nebbiolo2 | Linux (Ubuntu 22.04.2 LTS) / x86_64 | OK | OK | OK | ![]() | ||||||||||||||||||||||||||||||
palomino4 | Windows Server 2022 Datacenter / x64 | OK | OK | OK | OK | ![]() | ||||||||||||||||||||||||||||||
lconway | macOS 12.7.1 Monterey / x86_64 | OK | OK | OK | OK | ![]() | ||||||||||||||||||||||||||||||
kjohnson1 | macOS 13.6.1 Ventura / arm64 | see weekly results here | ||||||||||||||||||||||||||||||||||
Package 112/2266 | Hostname | OS / Arch | INSTALL | BUILD | CHECK | BUILD BIN | ||||||||||||||||||||||||||||||
AWFisher 1.16.0 (landing page) Zhiguang Huo
| nebbiolo2 | Linux (Ubuntu 22.04.2 LTS) / x86_64 | OK | OK | OK | ![]() | ||||||||||||||||||||||||||||||
palomino4 | Windows Server 2022 Datacenter / x64 | OK | OK | OK | OK | ![]() | ||||||||||||||||||||||||||||||
lconway | macOS 12.7.1 Monterey / x86_64 | OK | OK | OK | OK | ![]() | ||||||||||||||||||||||||||||||
kjohnson1 | macOS 13.6.1 Ventura / arm64 | see weekly results here | ||||||||||||||||||||||||||||||||||
Package 113/2266 | Hostname | OS / Arch | INSTALL | BUILD | CHECK | BUILD BIN | ||||||||||||||||||||||||||||||
awst 1.10.0 (landing page) Davide Risso
| nebbiolo2 | Linux (Ubuntu 22.04.2 LTS) / x86_64 | OK | OK | OK | ![]() | ||||||||||||||||||||||||||||||
palomino4 | Windows Server 2022 Datacenter / x64 | OK | OK | OK | OK | ![]() | ||||||||||||||||||||||||||||||
lconway | macOS 12.7.1 Monterey / x86_64 | OK | OK | OK | OK | ![]() | ||||||||||||||||||||||||||||||
kjohnson1 | macOS 13.6.1 Ventura / arm64 | see weekly results here | ||||||||||||||||||||||||||||||||||
|
| |||||||||||||||||||||||||||||||||||
Package 114/2266 | Hostname | OS / Arch | INSTALL | BUILD | CHECK | BUILD BIN | ||||||||||||||||||||||||||||||
BaalChIP 1.28.0 (landing page) Ines de Santiago
| nebbiolo2 | Linux (Ubuntu 22.04.2 LTS) / x86_64 | OK | OK | WARNINGS | ![]() | ||||||||||||||||||||||||||||||
palomino4 | Windows Server 2022 Datacenter / x64 | OK | OK | WARNINGS | OK | ![]() | ||||||||||||||||||||||||||||||
lconway | macOS 12.7.1 Monterey / x86_64 | OK | OK | WARNINGS | OK | ![]() | ||||||||||||||||||||||||||||||
kjohnson1 | macOS 13.6.1 Ventura / arm64 | see weekly results here | ||||||||||||||||||||||||||||||||||
Package 115/2266 | Hostname | OS / Arch | INSTALL | BUILD | CHECK | BUILD BIN | ||||||||||||||||||||||||||||||
bacon 1.30.0 (landing page) Maarten van Iterson
| nebbiolo2 | Linux (Ubuntu 22.04.2 LTS) / x86_64 | OK | OK | OK | ![]() | ||||||||||||||||||||||||||||||
palomino4 | Windows Server 2022 Datacenter / x64 | OK | OK | OK | OK | ![]() | ||||||||||||||||||||||||||||||
lconway | macOS 12.7.1 Monterey / x86_64 | OK | OK | OK | OK | ![]() | ||||||||||||||||||||||||||||||
kjohnson1 | macOS 13.6.1 Ventura / arm64 | see weekly results here | ||||||||||||||||||||||||||||||||||
Package 116/2266 | Hostname | OS / Arch | INSTALL | BUILD | CHECK | BUILD BIN | ||||||||||||||||||||||||||||||
BADER 1.40.0 (landing page) Andreas Neudecker
| nebbiolo2 | Linux (Ubuntu 22.04.2 LTS) / x86_64 | OK | OK | OK | ![]() | ||||||||||||||||||||||||||||||
palomino4 | Windows Server 2022 Datacenter / x64 | OK | OK | OK | OK | ![]() | ||||||||||||||||||||||||||||||
lconway | macOS 12.7.1 Monterey / x86_64 | OK | OK | OK | OK | ![]() | ||||||||||||||||||||||||||||||
kjohnson1 | macOS 13.6.1 Ventura / arm64 | see weekly results here | ||||||||||||||||||||||||||||||||||
Package 117/2266 | Hostname | OS / Arch | INSTALL | BUILD | CHECK | BUILD BIN | ||||||||||||||||||||||||||||||
BadRegionFinder 1.30.0 (landing page) Sarah Sandmann
| nebbiolo2 | Linux (Ubuntu 22.04.2 LTS) / x86_64 | OK | OK | OK | ![]() | ||||||||||||||||||||||||||||||
palomino4 | Windows Server 2022 Datacenter / x64 | OK | OK | OK | OK | ![]() | ||||||||||||||||||||||||||||||
lconway | macOS 12.7.1 Monterey / x86_64 | OK | OK | OK | OK | ![]() | ||||||||||||||||||||||||||||||
kjohnson1 | macOS 13.6.1 Ventura / arm64 | see weekly results here | ||||||||||||||||||||||||||||||||||
Package 118/2266 | Hostname | OS / Arch | INSTALL | BUILD | CHECK | BUILD BIN | ||||||||||||||||||||||||||||||
BAGS 2.42.0 (landing page) Alejandro Quiroz-Zarate
| nebbiolo2 | Linux (Ubuntu 22.04.2 LTS) / x86_64 | OK | OK | OK | ![]() | ||||||||||||||||||||||||||||||
palomino4 | Windows Server 2022 Datacenter / x64 | OK | OK | OK | OK | ![]() | ||||||||||||||||||||||||||||||
lconway | macOS 12.7.1 Monterey / x86_64 | OK | OK | OK | OK | ![]() | ||||||||||||||||||||||||||||||
kjohnson1 | macOS 13.6.1 Ventura / arm64 | see weekly results here | ||||||||||||||||||||||||||||||||||
Package 119/2266 | Hostname | OS / Arch | INSTALL | BUILD | CHECK | BUILD BIN | ||||||||||||||||||||||||||||||
ballgown 2.34.0 (landing page) Jack Fu
| nebbiolo2 | Linux (Ubuntu 22.04.2 LTS) / x86_64 | OK | OK | OK | ![]() | ||||||||||||||||||||||||||||||
palomino4 | Windows Server 2022 Datacenter / x64 | OK | OK | OK | OK | ![]() | ||||||||||||||||||||||||||||||
lconway | macOS 12.7.1 Monterey / x86_64 | OK | OK | OK | OK | ![]() | ||||||||||||||||||||||||||||||
kjohnson1 | macOS 13.6.1 Ventura / arm64 | see weekly results here | ||||||||||||||||||||||||||||||||||
Package 120/2266 | Hostname | OS / Arch | INSTALL | BUILD | CHECK | BUILD BIN | ||||||||||||||||||||||||||||||
bambu 3.4.0 (landing page) Ying Chen
| nebbiolo2 | Linux (Ubuntu 22.04.2 LTS) / x86_64 | OK | OK | OK | ![]() | ||||||||||||||||||||||||||||||
palomino4 | Windows Server 2022 Datacenter / x64 | OK | OK | OK | OK | ![]() | ||||||||||||||||||||||||||||||
lconway | macOS 12.7.1 Monterey / x86_64 | OK | OK | OK | OK | ![]() | ||||||||||||||||||||||||||||||
kjohnson1 | macOS 13.6.1 Ventura / arm64 | see weekly results here | ||||||||||||||||||||||||||||||||||
Package 121/2266 | Hostname | OS / Arch | INSTALL | BUILD | CHECK | BUILD BIN | ||||||||||||||||||||||||||||||
bamsignals 1.34.0 (landing page) Johannes Helmuth
| nebbiolo2 | Linux (Ubuntu 22.04.2 LTS) / x86_64 | OK | OK | WARNINGS | ![]() | ||||||||||||||||||||||||||||||
palomino4 | Windows Server 2022 Datacenter / x64 | OK | OK | OK | OK | ![]() | ||||||||||||||||||||||||||||||
lconway | macOS 12.7.1 Monterey / x86_64 | OK | OK | WARNINGS | OK | ![]() | ||||||||||||||||||||||||||||||
kjohnson1 | macOS 13.6.1 Ventura / arm64 | see weekly results here | ||||||||||||||||||||||||||||||||||
Package 122/2266 | Hostname | OS / Arch | INSTALL | BUILD | CHECK | BUILD BIN | ||||||||||||||||||||||||||||||
BANDITS 1.18.1 (landing page) Simone Tiberi
| nebbiolo2 | Linux (Ubuntu 22.04.2 LTS) / x86_64 | OK | OK | OK | ![]() | ||||||||||||||||||||||||||||||
palomino4 | Windows Server 2022 Datacenter / x64 | OK | OK | OK | OK | ![]() | ||||||||||||||||||||||||||||||
lconway | macOS 12.7.1 Monterey / x86_64 | OK | OK | OK | OK | ![]() | ||||||||||||||||||||||||||||||
kjohnson1 | macOS 13.6.1 Ventura / arm64 | see weekly results here | ||||||||||||||||||||||||||||||||||
Package 123/2266 | Hostname | OS / Arch | INSTALL | BUILD | CHECK | BUILD BIN | ||||||||||||||||||||||||||||||
bandle 1.6.0 (landing page) Oliver M. Crook
| nebbiolo2 | Linux (Ubuntu 22.04.2 LTS) / x86_64 | OK | OK | OK | ![]() | ||||||||||||||||||||||||||||||
palomino4 | Windows Server 2022 Datacenter / x64 | OK | OK | OK | OK | ![]() | ||||||||||||||||||||||||||||||
lconway | macOS 12.7.1 Monterey / x86_64 | OK | OK | OK | OK | ![]() | ||||||||||||||||||||||||||||||
kjohnson1 | macOS 13.6.1 Ventura / arm64 | see weekly results here | ||||||||||||||||||||||||||||||||||
Package 124/2266 | Hostname | OS / Arch | INSTALL | BUILD | CHECK | BUILD BIN | ||||||||||||||||||||||||||||||
banocc 1.26.0 (landing page) George Weingart
| nebbiolo2 | Linux (Ubuntu 22.04.2 LTS) / x86_64 | OK | OK | OK | ![]() | ||||||||||||||||||||||||||||||
palomino4 | Windows Server 2022 Datacenter / x64 | OK | OK | OK | OK | ![]() | ||||||||||||||||||||||||||||||
lconway | macOS 12.7.1 Monterey / x86_64 | OK | OK | OK | OK | ![]() | ||||||||||||||||||||||||||||||
kjohnson1 | macOS 13.6.1 Ventura / arm64 | see weekly results here | ||||||||||||||||||||||||||||||||||
Package 125/2266 | Hostname | OS / Arch | INSTALL | BUILD | CHECK | BUILD BIN | ||||||||||||||||||||||||||||||
barcodetrackR 1.10.0 (landing page) Diego Alexander Espinoza
| nebbiolo2 | Linux (Ubuntu 22.04.2 LTS) / x86_64 | OK | OK | OK | ![]() | ||||||||||||||||||||||||||||||
palomino4 | Windows Server 2022 Datacenter / x64 | OK | OK | OK | OK | ![]() | ||||||||||||||||||||||||||||||
lconway | macOS 12.7.1 Monterey / x86_64 | OK | OK | OK | OK | ![]() | ||||||||||||||||||||||||||||||
kjohnson1 | macOS 13.6.1 Ventura / arm64 | see weekly results here | ||||||||||||||||||||||||||||||||||
Package 126/2266 | Hostname | OS / Arch | INSTALL | BUILD | CHECK | BUILD BIN | ||||||||||||||||||||||||||||||
basecallQC 1.26.0 (landing page) Thomas Carroll
| nebbiolo2 | Linux (Ubuntu 22.04.2 LTS) / x86_64 | OK | OK | OK | ![]() | ||||||||||||||||||||||||||||||
palomino4 | Windows Server 2022 Datacenter / x64 | OK | OK | OK | OK | ![]() | ||||||||||||||||||||||||||||||
lconway | macOS 12.7.1 Monterey / x86_64 | OK | OK | OK | OK | ![]() | ||||||||||||||||||||||||||||||
kjohnson1 | macOS 13.6.1 Ventura / arm64 | see weekly results here | ||||||||||||||||||||||||||||||||||
Package 127/2266 | Hostname | OS / Arch | INSTALL | BUILD | CHECK | BUILD BIN | ||||||||||||||||||||||||||||||
BaseSpaceR 1.46.0 (landing page) Jared O'Connell
| nebbiolo2 | Linux (Ubuntu 22.04.2 LTS) / x86_64 | OK | OK | WARNINGS | ![]() | ||||||||||||||||||||||||||||||
palomino4 | Windows Server 2022 Datacenter / x64 | OK | OK | WARNINGS | OK | ![]() | ||||||||||||||||||||||||||||||
lconway | macOS 12.7.1 Monterey / x86_64 | OK | OK | WARNINGS | OK | ![]() | ||||||||||||||||||||||||||||||
kjohnson1 | macOS 13.6.1 Ventura / arm64 | see weekly results here | ||||||||||||||||||||||||||||||||||
Package 128/2266 | Hostname | OS / Arch | INSTALL | BUILD | CHECK | BUILD BIN | ||||||||||||||||||||||||||||||
Basic4Cseq 1.38.0 (landing page) Carolin Walter
| nebbiolo2 | Linux (Ubuntu 22.04.2 LTS) / x86_64 | OK | OK | OK | ![]() | ||||||||||||||||||||||||||||||
palomino4 | Windows Server 2022 Datacenter / x64 | OK | OK | OK | OK | ![]() | ||||||||||||||||||||||||||||||
lconway | macOS 12.7.1 Monterey / x86_64 | OK | OK | OK | OK | ![]() | ||||||||||||||||||||||||||||||
kjohnson1 | macOS 13.6.1 Ventura / arm64 | see weekly results here | ||||||||||||||||||||||||||||||||||
Package 129/2266 | Hostname | OS / Arch | INSTALL | BUILD | CHECK | BUILD BIN | ||||||||||||||||||||||||||||||
BASiCS 2.14.0 (landing page) Catalina Vallejos
| nebbiolo2 | Linux (Ubuntu 22.04.2 LTS) / x86_64 | OK | OK | OK | ![]() | ||||||||||||||||||||||||||||||
palomino4 | Windows Server 2022 Datacenter / x64 | OK | OK | OK | OK | ![]() | ||||||||||||||||||||||||||||||
lconway | macOS 12.7.1 Monterey / x86_64 | OK | OK | OK | OK | ![]() | ||||||||||||||||||||||||||||||
kjohnson1 | macOS 13.6.1 Ventura / arm64 | see weekly results here | ||||||||||||||||||||||||||||||||||
Package 130/2266 | Hostname | OS / Arch | INSTALL | BUILD | CHECK | BUILD BIN | ||||||||||||||||||||||||||||||
BASiCStan 1.4.0 (landing page) Alan O'Callaghan
| nebbiolo2 | Linux (Ubuntu 22.04.2 LTS) / x86_64 | OK | OK | OK | ![]() | ||||||||||||||||||||||||||||||
palomino4 | Windows Server 2022 Datacenter / x64 | OK | OK | OK | OK | ![]() | ||||||||||||||||||||||||||||||
lconway | macOS 12.7.1 Monterey / x86_64 | OK | OK | OK | OK | ![]() | ||||||||||||||||||||||||||||||
kjohnson1 | macOS 13.6.1 Ventura / arm64 | see weekly results here | ||||||||||||||||||||||||||||||||||
Package 131/2266 | Hostname | OS / Arch | INSTALL | BUILD | CHECK | BUILD BIN | ||||||||||||||||||||||||||||||
BasicSTARRseq 1.30.0 (landing page) Annika Buerger
| nebbiolo2 | Linux (Ubuntu 22.04.2 LTS) / x86_64 | OK | OK | OK | ![]() | ||||||||||||||||||||||||||||||
palomino4 | Windows Server 2022 Datacenter / x64 | OK | OK | OK | OK | ![]() | ||||||||||||||||||||||||||||||
lconway | macOS 12.7.1 Monterey / x86_64 | OK | OK | OK | OK | ![]() | ||||||||||||||||||||||||||||||
kjohnson1 | macOS 13.6.1 Ventura / arm64 | see weekly results here | ||||||||||||||||||||||||||||||||||
Package 132/2266 | Hostname | OS / Arch | INSTALL | BUILD | CHECK | BUILD BIN | ||||||||||||||||||||||||||||||
basilisk 1.14.1 (landing page) Aaron Lun
| nebbiolo2 | Linux (Ubuntu 22.04.2 LTS) / x86_64 | OK | OK | WARNINGS | ![]() | ||||||||||||||||||||||||||||||
palomino4 | Windows Server 2022 Datacenter / x64 | OK | OK | TIMEOUT | OK | |||||||||||||||||||||||||||||||
lconway | macOS 12.7.1 Monterey / x86_64 | OK | OK | WARNINGS | OK | ![]() | ||||||||||||||||||||||||||||||
kjohnson1 | macOS 13.6.1 Ventura / arm64 | see weekly results here | ||||||||||||||||||||||||||||||||||
Package 133/2266 | Hostname | OS / Arch | INSTALL | BUILD | CHECK | BUILD BIN | ||||||||||||||||||||||||||||||
basilisk.utils 1.14.1 (landing page) Aaron Lun
| nebbiolo2 | Linux (Ubuntu 22.04.2 LTS) / x86_64 | OK | OK | OK | ![]() | ||||||||||||||||||||||||||||||
palomino4 | Windows Server 2022 Datacenter / x64 | OK | OK | OK | OK | ![]() | ||||||||||||||||||||||||||||||
lconway | macOS 12.7.1 Monterey / x86_64 | OK | OK | OK | OK | ![]() | ||||||||||||||||||||||||||||||
kjohnson1 | macOS 13.6.1 Ventura / arm64 | see weekly results here | ||||||||||||||||||||||||||||||||||
Package 134/2266 | Hostname | OS / Arch | INSTALL | BUILD | CHECK | BUILD BIN | ||||||||||||||||||||||||||||||
batchelor 1.18.0 (landing page) Aaron Lun
| nebbiolo2 | Linux (Ubuntu 22.04.2 LTS) / x86_64 | OK | OK | OK | ![]() | ||||||||||||||||||||||||||||||
palomino4 | Windows Server 2022 Datacenter / x64 | OK | OK | OK | OK | ![]() | ||||||||||||||||||||||||||||||
lconway | macOS 12.7.1 Monterey / x86_64 | OK | OK | OK | OK | ![]() | ||||||||||||||||||||||||||||||
kjohnson1 | macOS 13.6.1 Ventura / arm64 | see weekly results here | ||||||||||||||||||||||||||||||||||
Package 135/2266 | Hostname | OS / Arch | INSTALL | BUILD | CHECK | BUILD BIN | ||||||||||||||||||||||||||||||
BatchQC 1.30.0 (landing page) Solaiappan Manimaran
| nebbiolo2 | Linux (Ubuntu 22.04.2 LTS) / x86_64 | OK | OK | OK | ![]() | ||||||||||||||||||||||||||||||
palomino4 | Windows Server 2022 Datacenter / x64 | OK | OK | OK | OK | ![]() | ||||||||||||||||||||||||||||||
lconway | macOS 12.7.1 Monterey / x86_64 | OK | OK | OK | OK | ![]() | ||||||||||||||||||||||||||||||
kjohnson1 | macOS 13.6.1 Ventura / arm64 | see weekly results here | ||||||||||||||||||||||||||||||||||
Package 136/2266 | Hostname | OS / Arch | INSTALL | BUILD | CHECK | BUILD BIN | ||||||||||||||||||||||||||||||
BayesKnockdown 1.28.0 (landing page) William Chad Young
| nebbiolo2 | Linux (Ubuntu 22.04.2 LTS) / x86_64 | OK | OK | OK | ![]() | ||||||||||||||||||||||||||||||
palomino4 | Windows Server 2022 Datacenter / x64 | OK | OK | OK | OK | ![]() | ||||||||||||||||||||||||||||||
lconway | macOS 12.7.1 Monterey / x86_64 | OK | OK | OK | OK | ![]() | ||||||||||||||||||||||||||||||
kjohnson1 | macOS 13.6.1 Ventura / arm64 | see weekly results here | ||||||||||||||||||||||||||||||||||
Package 137/2266 | Hostname | OS / Arch | INSTALL | BUILD | CHECK | BUILD BIN | ||||||||||||||||||||||||||||||
BayesSpace 1.12.0 (landing page) Matt Stone
| nebbiolo2 | Linux (Ubuntu 22.04.2 LTS) / x86_64 | OK | OK | OK | ![]() | ||||||||||||||||||||||||||||||
palomino4 | Windows Server 2022 Datacenter / x64 | OK | OK | OK | OK | ![]() | ||||||||||||||||||||||||||||||
lconway | macOS 12.7.1 Monterey / x86_64 | OK | OK | OK | OK | ![]() | ||||||||||||||||||||||||||||||
kjohnson1 | macOS 13.6.1 Ventura / arm64 | see weekly results here | ||||||||||||||||||||||||||||||||||
Package 138/2266 | Hostname | OS / Arch | INSTALL | BUILD | CHECK | BUILD BIN | ||||||||||||||||||||||||||||||
bayNorm 1.20.0 (landing page) Wenhao Tang
| nebbiolo2 | Linux (Ubuntu 22.04.2 LTS) / x86_64 | OK | OK | OK | ![]() | ||||||||||||||||||||||||||||||
palomino4 | Windows Server 2022 Datacenter / x64 | OK | OK | OK | OK | ![]() | ||||||||||||||||||||||||||||||
lconway | macOS 12.7.1 Monterey / x86_64 | OK | OK | OK | OK | ![]() | ||||||||||||||||||||||||||||||
kjohnson1 | macOS 13.6.1 Ventura / arm64 | see weekly results here | ||||||||||||||||||||||||||||||||||
Package 139/2266 | Hostname | OS / Arch | INSTALL | BUILD | CHECK | BUILD BIN | ||||||||||||||||||||||||||||||
Thomas J. Hardcastle
| nebbiolo2 | Linux (Ubuntu 22.04.2 LTS) / x86_64 | OK | OK | WARNINGS | ![]() | ||||||||||||||||||||||||||||||
palomino4 | Windows Server 2022 Datacenter / x64 | OK | OK | WARNINGS | OK | ![]() | ||||||||||||||||||||||||||||||
lconway | macOS 12.7.1 Monterey / x86_64 | OK | OK | WARNINGS | OK | ![]() | ||||||||||||||||||||||||||||||
kjohnson1 | macOS 13.6.1 Ventura / arm64 | see weekly results here | ||||||||||||||||||||||||||||||||||
Package 140/2266 | Hostname | OS / Arch | INSTALL | BUILD | CHECK | BUILD BIN | ||||||||||||||||||||||||||||||
BBCAnalyzer 1.32.0 (landing page) Sarah Sandmann
| nebbiolo2 | Linux (Ubuntu 22.04.2 LTS) / x86_64 | OK | OK | OK | ![]() | ||||||||||||||||||||||||||||||
palomino4 | Windows Server 2022 Datacenter / x64 | OK | OK | WARNINGS | OK | ![]() | ||||||||||||||||||||||||||||||
lconway | macOS 12.7.1 Monterey / x86_64 | OK | OK | OK | OK | ![]() | ||||||||||||||||||||||||||||||
kjohnson1 | macOS 13.6.1 Ventura / arm64 | see weekly results here | ||||||||||||||||||||||||||||||||||
Package 141/2266 | Hostname | OS / Arch | INSTALL | BUILD | CHECK | BUILD BIN | ||||||||||||||||||||||||||||||
BCRANK 1.64.0 (landing page) Adam Ameur
| nebbiolo2 | Linux (Ubuntu 22.04.2 LTS) / x86_64 | OK | OK | OK | ![]() | ||||||||||||||||||||||||||||||
palomino4 | Windows Server 2022 Datacenter / x64 | OK | OK | OK | OK | ![]() | ||||||||||||||||||||||||||||||
lconway | macOS 12.7.1 Monterey / x86_64 | OK | OK | OK | OK | ![]() | ||||||||||||||||||||||||||||||
kjohnson1 | macOS 13.6.1 Ventura / arm64 | see weekly results here | ||||||||||||||||||||||||||||||||||
Package 142/2266 | Hostname | OS / Arch | INSTALL | BUILD | CHECK | BUILD BIN | ||||||||||||||||||||||||||||||
bcSeq 1.24.0 (landing page) Jiaxing Lin
| nebbiolo2 | Linux (Ubuntu 22.04.2 LTS) / x86_64 | OK | OK | WARNINGS | ![]() | ||||||||||||||||||||||||||||||
palomino4 | Windows Server 2022 Datacenter / x64 | OK | OK | WARNINGS | OK | ![]() | ||||||||||||||||||||||||||||||
lconway | macOS 12.7.1 Monterey / x86_64 | OK | OK | OK | OK | ![]() | ||||||||||||||||||||||||||||||
kjohnson1 | macOS 13.6.1 Ventura / arm64 | see weekly results here | ||||||||||||||||||||||||||||||||||
Package 143/2266 | Hostname | OS / Arch | INSTALL | BUILD | CHECK | BUILD BIN | ||||||||||||||||||||||||||||||
BDMMAcorrect 1.20.0 (landing page) ZHENWEI DAI
| nebbiolo2 | Linux (Ubuntu 22.04.2 LTS) / x86_64 | OK | OK | ERROR | |||||||||||||||||||||||||||||||
palomino4 | Windows Server 2022 Datacenter / x64 | OK | OK | OK | OK | ![]() | ||||||||||||||||||||||||||||||
lconway | macOS 12.7.1 Monterey / x86_64 | OK | OK | OK | OK | ![]() | ||||||||||||||||||||||||||||||
kjohnson1 | macOS 13.6.1 Ventura / arm64 | see weekly results here | ||||||||||||||||||||||||||||||||||
Package 144/2266 | Hostname | OS / Arch | INSTALL | BUILD | CHECK | BUILD BIN | ||||||||||||||||||||||||||||||
beachmat 2.18.0 (landing page) Aaron Lun
| nebbiolo2 | Linux (Ubuntu 22.04.2 LTS) / x86_64 | OK | OK | OK | ![]() | ||||||||||||||||||||||||||||||
palomino4 | Windows Server 2022 Datacenter / x64 | OK | OK | OK | OK | ![]() | ||||||||||||||||||||||||||||||
lconway | macOS 12.7.1 Monterey / x86_64 | OK | OK | OK | OK | ![]() | ||||||||||||||||||||||||||||||
kjohnson1 | macOS 13.6.1 Ventura / arm64 | see weekly results here | ||||||||||||||||||||||||||||||||||
Package 145/2266 | Hostname | OS / Arch | INSTALL | BUILD | CHECK | BUILD BIN | ||||||||||||||||||||||||||||||
beachmat.hdf5 1.0.0 (landing page) Aaron Lun
| nebbiolo2 | Linux (Ubuntu 22.04.2 LTS) / x86_64 | OK | OK | WARNINGS | ![]() | ||||||||||||||||||||||||||||||
palomino4 | Windows Server 2022 Datacenter / x64 | OK | OK | OK | OK | ![]() | ||||||||||||||||||||||||||||||
lconway | macOS 12.7.1 Monterey / x86_64 | OK | OK | WARNINGS | OK | ![]() | ||||||||||||||||||||||||||||||
kjohnson1 | macOS 13.6.1 Ventura / arm64 | see weekly results here | ||||||||||||||||||||||||||||||||||
Package 146/2266 | Hostname | OS / Arch | INSTALL | BUILD | CHECK | BUILD BIN | ||||||||||||||||||||||||||||||
beadarray 2.52.0 (landing page) Mark Dunning
| nebbiolo2 | Linux (Ubuntu 22.04.2 LTS) / x86_64 | OK | OK | OK | ![]() | ||||||||||||||||||||||||||||||
palomino4 | Windows Server 2022 Datacenter / x64 | OK | OK | OK | OK | ![]() | ||||||||||||||||||||||||||||||
lconway | macOS 12.7.1 Monterey / x86_64 | OK | OK | OK | OK | ![]() | ||||||||||||||||||||||||||||||
kjohnson1 | macOS 13.6.1 Ventura / arm64 | see weekly results here | ||||||||||||||||||||||||||||||||||
Package 147/2266 | Hostname | OS / Arch | INSTALL | BUILD | CHECK | BUILD BIN | ||||||||||||||||||||||||||||||
beadarraySNP 1.68.0 (landing page) Jan Oosting
| nebbiolo2 | Linux (Ubuntu 22.04.2 LTS) / x86_64 | OK | OK | OK | ![]() | ||||||||||||||||||||||||||||||
palomino4 | Windows Server 2022 Datacenter / x64 | OK | OK | OK | OK | ![]() | ||||||||||||||||||||||||||||||
lconway | macOS 12.7.1 Monterey / x86_64 | OK | OK | OK | OK | ![]() | ||||||||||||||||||||||||||||||
kjohnson1 | macOS 13.6.1 Ventura / arm64 | see weekly results here | ||||||||||||||||||||||||||||||||||
Package 148/2266 | Hostname | OS / Arch | INSTALL | BUILD | CHECK | BUILD BIN | ||||||||||||||||||||||||||||||
BeadDataPackR 1.54.0 (landing page) Mike Smith
| nebbiolo2 | Linux (Ubuntu 22.04.2 LTS) / x86_64 | OK | OK | OK | ![]() | ||||||||||||||||||||||||||||||
palomino4 | Windows Server 2022 Datacenter / x64 | OK | OK | OK | OK | ![]() | ||||||||||||||||||||||||||||||
lconway | macOS 12.7.1 Monterey / x86_64 | OK | OK | OK | OK | ![]() | ||||||||||||||||||||||||||||||
kjohnson1 | macOS 13.6.1 Ventura / arm64 | see weekly results here | ||||||||||||||||||||||||||||||||||
Package 149/2266 | Hostname | OS / Arch | INSTALL | BUILD | CHECK | BUILD BIN | ||||||||||||||||||||||||||||||
BEARscc 1.22.0 (landing page) Benjamin Schuster-Boeckler
| nebbiolo2 | Linux (Ubuntu 22.04.2 LTS) / x86_64 | OK | OK | OK | ![]() | ||||||||||||||||||||||||||||||
palomino4 | Windows Server 2022 Datacenter / x64 | OK | OK | OK | OK | ![]() | ||||||||||||||||||||||||||||||
lconway | macOS 12.7.1 Monterey / x86_64 | OK | OK | OK | OK | ![]() | ||||||||||||||||||||||||||||||
kjohnson1 | macOS 13.6.1 Ventura / arm64 | see weekly results here | ||||||||||||||||||||||||||||||||||
Package 150/2266 | Hostname | OS / Arch | INSTALL | BUILD | CHECK | BUILD BIN | ||||||||||||||||||||||||||||||
BEAT 1.40.0 (landing page) Kemal Akman
| nebbiolo2 | Linux (Ubuntu 22.04.2 LTS) / x86_64 | OK | OK | OK | ![]() | ||||||||||||||||||||||||||||||
palomino4 | Windows Server 2022 Datacenter / x64 | OK | OK | OK | OK | ![]() | ||||||||||||||||||||||||||||||
lconway | macOS 12.7.1 Monterey / x86_64 | OK | OK | OK | OK | ![]() | ||||||||||||||||||||||||||||||
kjohnson1 | macOS 13.6.1 Ventura / arm64 | see weekly results here | ||||||||||||||||||||||||||||||||||
Package 151/2266 | Hostname | OS / Arch | INSTALL | BUILD | CHECK | BUILD BIN | ||||||||||||||||||||||||||||||
BEclear 2.18.0 (landing page) Livia Rasp
| nebbiolo2 | Linux (Ubuntu 22.04.2 LTS) / x86_64 | OK | OK | OK | ![]() | ||||||||||||||||||||||||||||||
palomino4 | Windows Server 2022 Datacenter / x64 | OK | OK | OK | OK | ![]() | ||||||||||||||||||||||||||||||
lconway | macOS 12.7.1 Monterey / x86_64 | OK | OK | OK | OK | ![]() | ||||||||||||||||||||||||||||||
kjohnson1 | macOS 13.6.1 Ventura / arm64 | see weekly results here | ||||||||||||||||||||||||||||||||||
Package 152/2266 | Hostname | OS / Arch | INSTALL | BUILD | CHECK | BUILD BIN | ||||||||||||||||||||||||||||||
beer 1.6.0 (landing page) Athena Chen
| nebbiolo2 | Linux (Ubuntu 22.04.2 LTS) / x86_64 | OK | OK | OK | ![]() | ||||||||||||||||||||||||||||||
palomino4 | Windows Server 2022 Datacenter / x64 | OK | OK | OK | OK | ![]() | ||||||||||||||||||||||||||||||
lconway | macOS 12.7.1 Monterey / x86_64 | OK | OK | OK | OK | ![]() | ||||||||||||||||||||||||||||||
kjohnson1 | macOS 13.6.1 Ventura / arm64 | see weekly results here | ||||||||||||||||||||||||||||||||||
Package 153/2266 | Hostname | OS / Arch | INSTALL | BUILD | CHECK | BUILD BIN | ||||||||||||||||||||||||||||||
benchdamic 1.8.1 (landing page) Matteo Calgaro
| nebbiolo2 | Linux (Ubuntu 22.04.2 LTS) / x86_64 | OK | OK | OK | ![]() | ||||||||||||||||||||||||||||||
palomino4 | Windows Server 2022 Datacenter / x64 | OK | OK | OK | OK | ![]() | ||||||||||||||||||||||||||||||
lconway | macOS 12.7.1 Monterey / x86_64 | OK | OK | OK | OK | ![]() | ||||||||||||||||||||||||||||||
kjohnson1 | macOS 13.6.1 Ventura / arm64 | see weekly results here | ||||||||||||||||||||||||||||||||||
Package 154/2266 | Hostname | OS / Arch | INSTALL | BUILD | CHECK | BUILD BIN | ||||||||||||||||||||||||||||||
BG2 1.2.0 (landing page) Jacob Williams
| nebbiolo2 | Linux (Ubuntu 22.04.2 LTS) / x86_64 | OK | OK | OK | ![]() | ||||||||||||||||||||||||||||||
palomino4 | Windows Server 2022 Datacenter / x64 | OK | OK | OK | OK | ![]() | ||||||||||||||||||||||||||||||
lconway | macOS 12.7.1 Monterey / x86_64 | OK | OK | OK | OK | ![]() | ||||||||||||||||||||||||||||||
kjohnson1 | macOS 13.6.1 Ventura / arm64 | see weekly results here | ||||||||||||||||||||||||||||||||||
Package 155/2266 | Hostname | OS / Arch | INSTALL | BUILD | CHECK | BUILD BIN | ||||||||||||||||||||||||||||||
BgeeCall 1.18.1 (landing page) Julien Wollbrett
| nebbiolo2 | Linux (Ubuntu 22.04.2 LTS) / x86_64 | OK | OK | OK | ![]() | ||||||||||||||||||||||||||||||
palomino4 | Windows Server 2022 Datacenter / x64 | OK | OK | OK | OK | ![]() | ||||||||||||||||||||||||||||||
lconway | macOS 12.7.1 Monterey / x86_64 | OK | OK | OK | OK | ![]() | ||||||||||||||||||||||||||||||
kjohnson1 | macOS 13.6.1 Ventura / arm64 | see weekly results here | ||||||||||||||||||||||||||||||||||
Package 156/2266 | Hostname | OS / Arch | INSTALL | BUILD | CHECK | BUILD BIN | ||||||||||||||||||||||||||||||
BgeeDB 2.28.0 (landing page) Julien Wollbrett
| nebbiolo2 | Linux (Ubuntu 22.04.2 LTS) / x86_64 | OK | OK | OK | ![]() | ||||||||||||||||||||||||||||||
palomino4 | Windows Server 2022 Datacenter / x64 | OK | OK | OK | OK | ![]() | ||||||||||||||||||||||||||||||
lconway | macOS 12.7.1 Monterey / x86_64 | OK | OK | OK | OK | ![]() | ||||||||||||||||||||||||||||||
kjohnson1 | macOS 13.6.1 Ventura / arm64 | see weekly results here | ||||||||||||||||||||||||||||||||||
Package 157/2266 | Hostname | OS / Arch | INSTALL | BUILD | CHECK | BUILD BIN | ||||||||||||||||||||||||||||||
Alex Lewin
| nebbiolo2 | Linux (Ubuntu 22.04.2 LTS) / x86_64 | ERROR | ERROR | skipped | |||||||||||||||||||||||||||||||
palomino4 | Windows Server 2022 Datacenter / x64 | ... NOT SUPPORTED ... | ||||||||||||||||||||||||||||||||||
lconway | macOS 12.7.1 Monterey / x86_64 | ERROR | ERROR | skipped | skipped | |||||||||||||||||||||||||||||||
kjohnson1 | macOS 13.6.1 Ventura / arm64 | see weekly results here | ||||||||||||||||||||||||||||||||||
Package 158/2266 | Hostname | OS / Arch | INSTALL | BUILD | CHECK | BUILD BIN | ||||||||||||||||||||||||||||||
bgx 1.68.0 (landing page) Ernest Turro
| nebbiolo2 | Linux (Ubuntu 22.04.2 LTS) / x86_64 | OK | OK | OK | ![]() | ||||||||||||||||||||||||||||||
palomino4 | Windows Server 2022 Datacenter / x64 | OK | OK | OK | OK | ![]() | ||||||||||||||||||||||||||||||
lconway | macOS 12.7.1 Monterey / x86_64 | ERROR | ERROR | skipped | skipped | |||||||||||||||||||||||||||||||
kjohnson1 | macOS 13.6.1 Ventura / arm64 | see weekly results here | ||||||||||||||||||||||||||||||||||
Package 159/2266 | Hostname | OS / Arch | INSTALL | BUILD | CHECK | BUILD BIN | ||||||||||||||||||||||||||||||
BHC 1.54.0 (landing page) Rich Savage
| nebbiolo2 | Linux (Ubuntu 22.04.2 LTS) / x86_64 | OK | OK | OK | ![]() | ||||||||||||||||||||||||||||||
palomino4 | Windows Server 2022 Datacenter / x64 | OK | OK | OK | OK | ![]() | ||||||||||||||||||||||||||||||
lconway | macOS 12.7.1 Monterey / x86_64 | ERROR | ERROR | skipped | skipped | |||||||||||||||||||||||||||||||
kjohnson1 | macOS 13.6.1 Ventura / arm64 | see weekly results here | ||||||||||||||||||||||||||||||||||
Package 160/2266 | Hostname | OS / Arch | INSTALL | BUILD | CHECK | BUILD BIN | ||||||||||||||||||||||||||||||
BicARE 1.60.0 (landing page) Pierre Gestraud
| nebbiolo2 | Linux (Ubuntu 22.04.2 LTS) / x86_64 | OK | OK | OK | ![]() | ||||||||||||||||||||||||||||||
palomino4 | Windows Server 2022 Datacenter / x64 | OK | OK | OK | OK | ![]() | ||||||||||||||||||||||||||||||
lconway | macOS 12.7.1 Monterey / x86_64 | OK | OK | OK | OK | ![]() | ||||||||||||||||||||||||||||||
kjohnson1 | macOS 13.6.1 Ventura / arm64 | see weekly results here | ||||||||||||||||||||||||||||||||||
Package 161/2266 | Hostname | OS / Arch | INSTALL | BUILD | CHECK | BUILD BIN | ||||||||||||||||||||||||||||||
BiFET 1.22.0 (landing page) Ahrim Youn
| nebbiolo2 | Linux (Ubuntu 22.04.2 LTS) / x86_64 | OK | OK | OK | ![]() | ||||||||||||||||||||||||||||||
palomino4 | Windows Server 2022 Datacenter / x64 | OK | OK | OK | OK | ![]() | ||||||||||||||||||||||||||||||
lconway | macOS 12.7.1 Monterey / x86_64 | OK | OK | OK | OK | ![]() | ||||||||||||||||||||||||||||||
kjohnson1 | macOS 13.6.1 Ventura / arm64 | see weekly results here | ||||||||||||||||||||||||||||||||||
Package 162/2266 | Hostname | OS / Arch | INSTALL | BUILD | CHECK | BUILD BIN | ||||||||||||||||||||||||||||||
BiGGR 1.38.0 (landing page) Anand K. Gavai
| nebbiolo2 | Linux (Ubuntu 22.04.2 LTS) / x86_64 | OK | OK | OK | ![]() | ||||||||||||||||||||||||||||||
palomino4 | Windows Server 2022 Datacenter / x64 | OK | OK | OK | OK | ![]() | ||||||||||||||||||||||||||||||
lconway | macOS 12.7.1 Monterey / x86_64 | ... NOT SUPPORTED ... | ||||||||||||||||||||||||||||||||||
kjohnson1 | macOS 13.6.1 Ventura / arm64 | see weekly results here | ||||||||||||||||||||||||||||||||||
Package 163/2266 | Hostname | OS / Arch | INSTALL | BUILD | CHECK | BUILD BIN | ||||||||||||||||||||||||||||||
bigmelon 1.28.0 (landing page) Leonard C. Schalkwyk
| nebbiolo2 | Linux (Ubuntu 22.04.2 LTS) / x86_64 | OK | OK | WARNINGS | ![]() | ||||||||||||||||||||||||||||||
palomino4 | Windows Server 2022 Datacenter / x64 | OK | OK | WARNINGS | OK | ![]() | ||||||||||||||||||||||||||||||
lconway | macOS 12.7.1 Monterey / x86_64 | OK | OK | WARNINGS | OK | ![]() | ||||||||||||||||||||||||||||||
kjohnson1 | macOS 13.6.1 Ventura / arm64 | see weekly results here | ||||||||||||||||||||||||||||||||||
Package 164/2266 | Hostname | OS / Arch | INSTALL | BUILD | CHECK | BUILD BIN | ||||||||||||||||||||||||||||||
Lindsay Rutter
| nebbiolo2 | Linux (Ubuntu 22.04.2 LTS) / x86_64 | OK | OK | ERROR | |||||||||||||||||||||||||||||||
palomino4 | Windows Server 2022 Datacenter / x64 | OK | OK | ERROR | OK | |||||||||||||||||||||||||||||||
lconway | macOS 12.7.1 Monterey / x86_64 | OK | OK | ERROR | OK | |||||||||||||||||||||||||||||||
kjohnson1 | macOS 13.6.1 Ventura / arm64 | see weekly results here | ||||||||||||||||||||||||||||||||||
Package 165/2266 | Hostname | OS / Arch | INSTALL | BUILD | CHECK | BUILD BIN | ||||||||||||||||||||||||||||||
BindingSiteFinder 2.0.0 (landing page) Mirko BrĂĽggemann
| nebbiolo2 | Linux (Ubuntu 22.04.2 LTS) / x86_64 | OK | OK | OK | ![]() | ||||||||||||||||||||||||||||||
palomino4 | Windows Server 2022 Datacenter / x64 | OK | OK | OK | OK | ![]() | ||||||||||||||||||||||||||||||
lconway | macOS 12.7.1 Monterey / x86_64 | OK | OK | OK | OK | ![]() | ||||||||||||||||||||||||||||||
kjohnson1 | macOS 13.6.1 Ventura / arm64 | see weekly results here | ||||||||||||||||||||||||||||||||||
Package 166/2266 | Hostname | OS / Arch | INSTALL | BUILD | CHECK | BUILD BIN | ||||||||||||||||||||||||||||||
bioassayR 1.40.0 (landing page) Daniela Cassol
| nebbiolo2 | Linux (Ubuntu 22.04.2 LTS) / x86_64 | OK | OK | OK | ![]() | ||||||||||||||||||||||||||||||
palomino4 | Windows Server 2022 Datacenter / x64 | OK | OK | OK | OK | ![]() | ||||||||||||||||||||||||||||||
lconway | macOS 12.7.1 Monterey / x86_64 | OK | OK | OK | OK | ![]() | ||||||||||||||||||||||||||||||
kjohnson1 | macOS 13.6.1 Ventura / arm64 | see weekly results here | ||||||||||||||||||||||||||||||||||
Package 167/2266 | Hostname | OS / Arch | INSTALL | BUILD | CHECK | BUILD BIN | ||||||||||||||||||||||||||||||
Biobase 2.62.0 (landing page) Bioconductor Package Maintainer
| nebbiolo2 | Linux (Ubuntu 22.04.2 LTS) / x86_64 | OK | OK | WARNINGS | ![]() | ||||||||||||||||||||||||||||||
palomino4 | Windows Server 2022 Datacenter / x64 | OK | OK | OK | OK | ![]() | ||||||||||||||||||||||||||||||
lconway | macOS 12.7.1 Monterey / x86_64 | OK | OK | OK | OK | ![]() | ||||||||||||||||||||||||||||||
kjohnson1 | macOS 13.6.1 Ventura / arm64 | see weekly results here | ||||||||||||||||||||||||||||||||||
Package 168/2266 | Hostname | OS / Arch | INSTALL | BUILD | CHECK | BUILD BIN | ||||||||||||||||||||||||||||||
biobroom 1.34.0 (landing page) John D. Storey
| nebbiolo2 | Linux (Ubuntu 22.04.2 LTS) / x86_64 | OK | OK | WARNINGS | ![]() | ||||||||||||||||||||||||||||||
palomino4 | Windows Server 2022 Datacenter / x64 | OK | OK | WARNINGS | OK | ![]() | ||||||||||||||||||||||||||||||
lconway | macOS 12.7.1 Monterey / x86_64 | OK | OK | WARNINGS | OK | ![]() | ||||||||||||||||||||||||||||||
kjohnson1 | macOS 13.6.1 Ventura / arm64 | see weekly results here | ||||||||||||||||||||||||||||||||||
Package 169/2266 | Hostname | OS / Arch | INSTALL | BUILD | CHECK | BUILD BIN | ||||||||||||||||||||||||||||||
biobtreeR 1.14.0 (landing page) Tamer Gur
| nebbiolo2 | Linux (Ubuntu 22.04.2 LTS) / x86_64 | OK | OK | OK | ![]() | ||||||||||||||||||||||||||||||
palomino4 | Windows Server 2022 Datacenter / x64 | OK | OK | OK | OK | ![]() | ||||||||||||||||||||||||||||||
lconway | macOS 12.7.1 Monterey / x86_64 | OK | OK | OK | OK | ![]() | ||||||||||||||||||||||||||||||
kjohnson1 | macOS 13.6.1 Ventura / arm64 | see weekly results here | ||||||||||||||||||||||||||||||||||
Package 170/2266 | Hostname | OS / Arch | INSTALL | BUILD | CHECK | BUILD BIN | ||||||||||||||||||||||||||||||
bioCancer 1.30.0 (landing page) Karim Mezhoud
| nebbiolo2 | Linux (Ubuntu 22.04.2 LTS) / x86_64 | OK | OK | OK | ![]() | ||||||||||||||||||||||||||||||
palomino4 | Windows Server 2022 Datacenter / x64 | OK | OK | OK | OK | ![]() | ||||||||||||||||||||||||||||||
lconway | macOS 12.7.1 Monterey / x86_64 | OK | OK | OK | OK | ![]() | ||||||||||||||||||||||||||||||
kjohnson1 | macOS 13.6.1 Ventura / arm64 | see weekly results here | ||||||||||||||||||||||||||||||||||
Package 171/2266 | Hostname | OS / Arch | INSTALL | BUILD | CHECK | BUILD BIN | ||||||||||||||||||||||||||||||
BioCartaImage 1.0.0 (landing page) Zuguang Gu
| nebbiolo2 | Linux (Ubuntu 22.04.2 LTS) / x86_64 | OK | OK | OK | ![]() | ||||||||||||||||||||||||||||||
palomino4 | Windows Server 2022 Datacenter / x64 | OK | OK | OK | OK | ![]() | ||||||||||||||||||||||||||||||
lconway | macOS 12.7.1 Monterey / x86_64 | OK | OK | OK | OK | ![]() | ||||||||||||||||||||||||||||||
kjohnson1 | macOS 13.6.1 Ventura / arm64 | see weekly results here | ||||||||||||||||||||||||||||||||||
Package 172/2266 | Hostname | OS / Arch | INSTALL | BUILD | CHECK | BUILD BIN | ||||||||||||||||||||||||||||||
BiocBaseUtils 1.4.0 (landing page) Marcel Ramos
| nebbiolo2 | Linux (Ubuntu 22.04.2 LTS) / x86_64 | OK | OK | OK | ![]() | ||||||||||||||||||||||||||||||
palomino4 | Windows Server 2022 Datacenter / x64 | OK | OK | OK | OK | ![]() | ||||||||||||||||||||||||||||||
lconway | macOS 12.7.1 Monterey / x86_64 | OK | OK | OK | OK | ![]() | ||||||||||||||||||||||||||||||
kjohnson1 | macOS 13.6.1 Ventura / arm64 | see weekly results here | ||||||||||||||||||||||||||||||||||
Package 173/2266 | Hostname | OS / Arch | INSTALL | BUILD | CHECK | BUILD BIN | ||||||||||||||||||||||||||||||
BiocBook 1.0.0 (landing page) Jacques Serizay
| nebbiolo2 | Linux (Ubuntu 22.04.2 LTS) / x86_64 | OK | OK | OK | ![]() | ||||||||||||||||||||||||||||||
palomino4 | Windows Server 2022 Datacenter / x64 | OK | OK | ERROR | OK | |||||||||||||||||||||||||||||||
lconway | macOS 12.7.1 Monterey / x86_64 | OK | OK | OK | OK | ![]() | ||||||||||||||||||||||||||||||
kjohnson1 | macOS 13.6.1 Ventura / arm64 | see weekly results here | ||||||||||||||||||||||||||||||||||
Package 174/2266 | Hostname | OS / Arch | INSTALL | BUILD | CHECK | BUILD BIN | ||||||||||||||||||||||||||||||
BiocCheck 1.38.0 (landing page) Marcel Ramos
| nebbiolo2 | Linux (Ubuntu 22.04.2 LTS) / x86_64 | OK | OK | OK | ![]() | ||||||||||||||||||||||||||||||
palomino4 | Windows Server 2022 Datacenter / x64 | OK | OK | OK | OK | ![]() | ||||||||||||||||||||||||||||||
lconway | macOS 12.7.1 Monterey / x86_64 | OK | OK | OK | OK | ![]() | ||||||||||||||||||||||||||||||
kjohnson1 | macOS 13.6.1 Ventura / arm64 | see weekly results here | ||||||||||||||||||||||||||||||||||
Package 175/2266 | Hostname | OS / Arch | INSTALL | BUILD | CHECK | BUILD BIN | ||||||||||||||||||||||||||||||
BiocFHIR 1.4.0 (landing page) Vincent Carey
| nebbiolo2 | Linux (Ubuntu 22.04.2 LTS) / x86_64 | OK | OK | OK | ![]() | ||||||||||||||||||||||||||||||
palomino4 | Windows Server 2022 Datacenter / x64 | OK | OK | OK | OK | ![]() | ||||||||||||||||||||||||||||||
lconway | macOS 12.7.1 Monterey / x86_64 | OK | OK | OK | OK | ![]() | ||||||||||||||||||||||||||||||
kjohnson1 | macOS 13.6.1 Ventura / arm64 | see weekly results here | ||||||||||||||||||||||||||||||||||
Package 176/2266 | Hostname | OS / Arch | INSTALL | BUILD | CHECK | BUILD BIN | ||||||||||||||||||||||||||||||
BiocFileCache 2.10.1 (landing page) Lori Shepherd
| nebbiolo2 | Linux (Ubuntu 22.04.2 LTS) / x86_64 | OK | OK | OK | ![]() | ||||||||||||||||||||||||||||||
palomino4 | Windows Server 2022 Datacenter / x64 | OK | OK | OK | OK | ![]() | ||||||||||||||||||||||||||||||
lconway | macOS 12.7.1 Monterey / x86_64 | OK | OK | OK | OK | ![]() | ||||||||||||||||||||||||||||||
kjohnson1 | macOS 13.6.1 Ventura / arm64 | see weekly results here | ||||||||||||||||||||||||||||||||||
Package 177/2266 | Hostname | OS / Arch | INSTALL | BUILD | CHECK | BUILD BIN | ||||||||||||||||||||||||||||||
BiocGenerics 0.48.1 (landing page) Hervé Pagès
| nebbiolo2 | Linux (Ubuntu 22.04.2 LTS) / x86_64 | OK | OK | WARNINGS | ![]() | ||||||||||||||||||||||||||||||
palomino4 | Windows Server 2022 Datacenter / x64 | OK | OK | WARNINGS | OK | ![]() | ||||||||||||||||||||||||||||||
lconway | macOS 12.7.1 Monterey / x86_64 | OK | OK | WARNINGS | OK | ![]() | ||||||||||||||||||||||||||||||
kjohnson1 | macOS 13.6.1 Ventura / arm64 | see weekly results here | ||||||||||||||||||||||||||||||||||
Package 178/2266 | Hostname | OS / Arch | INSTALL | BUILD | CHECK | BUILD BIN | ||||||||||||||||||||||||||||||
biocGraph 1.64.0 (landing page) Florian Hahne
| nebbiolo2 | Linux (Ubuntu 22.04.2 LTS) / x86_64 | OK | OK | OK | ![]() | ||||||||||||||||||||||||||||||
palomino4 | Windows Server 2022 Datacenter / x64 | OK | OK | OK | OK | ![]() | ||||||||||||||||||||||||||||||
lconway | macOS 12.7.1 Monterey / x86_64 | OK | OK | OK | OK | ![]() | ||||||||||||||||||||||||||||||
kjohnson1 | macOS 13.6.1 Ventura / arm64 | see weekly results here | ||||||||||||||||||||||||||||||||||
Package 179/2266 | Hostname | OS / Arch | INSTALL | BUILD | CHECK | BUILD BIN | ||||||||||||||||||||||||||||||
BiocHail 1.2.0 (landing page) Vincent Carey
| nebbiolo2 | Linux (Ubuntu 22.04.2 LTS) / x86_64 | OK | OK | OK | ![]() | ||||||||||||||||||||||||||||||
palomino4 | Windows Server 2022 Datacenter / x64 | ... NOT SUPPORTED ... | ||||||||||||||||||||||||||||||||||
lconway | macOS 12.7.1 Monterey / x86_64 | ... NOT SUPPORTED ... | ||||||||||||||||||||||||||||||||||
kjohnson1 | macOS 13.6.1 Ventura / arm64 | see weekly results here | ||||||||||||||||||||||||||||||||||
Package 180/2266 | Hostname | OS / Arch | INSTALL | BUILD | CHECK | BUILD BIN | ||||||||||||||||||||||||||||||
BiocHubsShiny 1.2.0 (landing page) Marcel Ramos
| nebbiolo2 | Linux (Ubuntu 22.04.2 LTS) / x86_64 | OK | OK | OK | ![]() | ||||||||||||||||||||||||||||||
palomino4 | Windows Server 2022 Datacenter / x64 | OK | OK | OK | OK | ![]() | ||||||||||||||||||||||||||||||
lconway | macOS 12.7.1 Monterey / x86_64 | OK | OK | OK | OK | ![]() | ||||||||||||||||||||||||||||||
kjohnson1 | macOS 13.6.1 Ventura / arm64 | see weekly results here | ||||||||||||||||||||||||||||||||||
Package 181/2266 | Hostname | OS / Arch | INSTALL | BUILD | CHECK | BUILD BIN | ||||||||||||||||||||||||||||||
BiocIO 1.12.0 (landing page) Marcel Ramos
| nebbiolo2 | Linux (Ubuntu 22.04.2 LTS) / x86_64 | OK | OK | OK | ![]() | ||||||||||||||||||||||||||||||
palomino4 | Windows Server 2022 Datacenter / x64 | OK | OK | OK | OK | ![]() | ||||||||||||||||||||||||||||||
lconway | macOS 12.7.1 Monterey / x86_64 | OK | OK | OK | OK | ![]() | ||||||||||||||||||||||||||||||
kjohnson1 | macOS 13.6.1 Ventura / arm64 | see weekly results here | ||||||||||||||||||||||||||||||||||
Package 182/2266 | Hostname | OS / Arch | INSTALL | BUILD | CHECK | BUILD BIN | ||||||||||||||||||||||||||||||
BiocNeighbors 1.20.0 (landing page) Aaron Lun
| nebbiolo2 | Linux (Ubuntu 22.04.2 LTS) / x86_64 | OK | OK | WARNINGS | ![]() | ||||||||||||||||||||||||||||||
palomino4 | Windows Server 2022 Datacenter / x64 | OK | OK | WARNINGS | OK | ![]() | ||||||||||||||||||||||||||||||
lconway | macOS 12.7.1 Monterey / x86_64 | OK | OK | WARNINGS | OK | ![]() | ||||||||||||||||||||||||||||||
kjohnson1 | macOS 13.6.1 Ventura / arm64 | see weekly results here | ||||||||||||||||||||||||||||||||||
Package 183/2266 | Hostname | OS / Arch | INSTALL | BUILD | CHECK | BUILD BIN | ||||||||||||||||||||||||||||||
BiocOncoTK 1.22.0 (landing page) VJ Carey
| nebbiolo2 | Linux (Ubuntu 22.04.2 LTS) / x86_64 | OK | OK | OK | ![]() | ||||||||||||||||||||||||||||||
palomino4 | Windows Server 2022 Datacenter / x64 | OK | OK | OK | OK | ![]() | ||||||||||||||||||||||||||||||
lconway | macOS 12.7.1 Monterey / x86_64 | OK | OK | OK | OK | ![]() | ||||||||||||||||||||||||||||||
kjohnson1 | macOS 13.6.1 Ventura / arm64 | see weekly results here | ||||||||||||||||||||||||||||||||||
Package 184/2266 | Hostname | OS / Arch | INSTALL | BUILD | CHECK | BUILD BIN | ||||||||||||||||||||||||||||||
BioCor 1.26.0 (landing page) LluĂs Revilla Sancho
| nebbiolo2 | Linux (Ubuntu 22.04.2 LTS) / x86_64 | OK | OK | OK | ![]() | ||||||||||||||||||||||||||||||
palomino4 | Windows Server 2022 Datacenter / x64 | OK | OK | OK | OK | ![]() | ||||||||||||||||||||||||||||||
lconway | macOS 12.7.1 Monterey / x86_64 | OK | OK | OK | OK | ![]() | ||||||||||||||||||||||||||||||
kjohnson1 | macOS 13.6.1 Ventura / arm64 | see weekly results here | ||||||||||||||||||||||||||||||||||
Package 185/2266 | Hostname | OS / Arch | INSTALL | BUILD | CHECK | BUILD BIN | ||||||||||||||||||||||||||||||
BiocParallel 1.36.0 (landing page) Martin Morgan
| nebbiolo2 | Linux (Ubuntu 22.04.2 LTS) / x86_64 | OK | OK | OK | ![]() | ||||||||||||||||||||||||||||||
palomino4 | Windows Server 2022 Datacenter / x64 | OK | OK | OK | OK | ![]() | ||||||||||||||||||||||||||||||
lconway | macOS 12.7.1 Monterey / x86_64 | OK | OK | OK | OK | ![]() | ||||||||||||||||||||||||||||||
kjohnson1 | macOS 13.6.1 Ventura / arm64 | see weekly results here | ||||||||||||||||||||||||||||||||||
Package 186/2266 | Hostname | OS / Arch | INSTALL | BUILD | CHECK | BUILD BIN | ||||||||||||||||||||||||||||||
BiocPkgTools 1.20.0 (landing page) Sean Davis
| nebbiolo2 | Linux (Ubuntu 22.04.2 LTS) / x86_64 | OK | OK | ERROR | |||||||||||||||||||||||||||||||
palomino4 | Windows Server 2022 Datacenter / x64 | OK | ERROR | skipped | skipped | |||||||||||||||||||||||||||||||
lconway | macOS 12.7.1 Monterey / x86_64 | OK | OK | OK | OK | ![]() | ||||||||||||||||||||||||||||||
kjohnson1 | macOS 13.6.1 Ventura / arm64 | see weekly results here | ||||||||||||||||||||||||||||||||||
Package 187/2266 | Hostname | OS / Arch | INSTALL | BUILD | CHECK | BUILD BIN | ||||||||||||||||||||||||||||||
BiocSet 1.16.0 (landing page) Kayla Morrell
| nebbiolo2 | Linux (Ubuntu 22.04.2 LTS) / x86_64 | OK | OK | OK | ![]() | ||||||||||||||||||||||||||||||
palomino4 | Windows Server 2022 Datacenter / x64 | OK | OK | OK | OK | ![]() | ||||||||||||||||||||||||||||||
lconway | macOS 12.7.1 Monterey / x86_64 | OK | OK | OK | OK | ![]() | ||||||||||||||||||||||||||||||
kjohnson1 | macOS 13.6.1 Ventura / arm64 | see weekly results here | ||||||||||||||||||||||||||||||||||
Package 188/2266 | Hostname | OS / Arch | INSTALL | BUILD | CHECK | BUILD BIN | ||||||||||||||||||||||||||||||
BiocSingular 1.18.0 (landing page) Aaron Lun
| nebbiolo2 | Linux (Ubuntu 22.04.2 LTS) / x86_64 | OK | OK | OK | ![]() | ||||||||||||||||||||||||||||||
palomino4 | Windows Server 2022 Datacenter / x64 | OK | OK | OK | OK | ![]() | ||||||||||||||||||||||||||||||
lconway | macOS 12.7.1 Monterey / x86_64 | OK | OK | OK | OK | ![]() | ||||||||||||||||||||||||||||||
kjohnson1 | macOS 13.6.1 Ventura / arm64 | see weekly results here | ||||||||||||||||||||||||||||||||||
Package 189/2266 | Hostname | OS / Arch | INSTALL | BUILD | CHECK | BUILD BIN | ||||||||||||||||||||||||||||||
BiocSklearn 1.24.0 (landing page) Vince Carey
| nebbiolo2 | Linux (Ubuntu 22.04.2 LTS) / x86_64 | OK | OK | OK | ![]() | ||||||||||||||||||||||||||||||
palomino4 | Windows Server 2022 Datacenter / x64 | OK | OK | OK | OK | ![]() | ||||||||||||||||||||||||||||||
lconway | macOS 12.7.1 Monterey / x86_64 | OK | OK | OK | OK | ![]() | ||||||||||||||||||||||||||||||
kjohnson1 | macOS 13.6.1 Ventura / arm64 | see weekly results here | ||||||||||||||||||||||||||||||||||
Package 190/2266 | Hostname | OS / Arch | INSTALL | BUILD | CHECK | BUILD BIN | ||||||||||||||||||||||||||||||
BiocStyle 2.30.0 (landing page) Bioconductor Package
| nebbiolo2 | Linux (Ubuntu 22.04.2 LTS) / x86_64 | OK | OK | OK | ![]() | ||||||||||||||||||||||||||||||
palomino4 | Windows Server 2022 Datacenter / x64 | OK | OK | OK | OK | ![]() | ||||||||||||||||||||||||||||||
lconway | macOS 12.7.1 Monterey / x86_64 | OK | OK | OK |