Back to Mac ARM64 build report for BioC 3.18
ABCD[E]FGHIJKLMNOPQRSTUVWXYZ

This page was generated on 2024-02-19 11:31:55 -0500 (Mon, 19 Feb 2024).

HostnameOSArch (*)R versionInstalled pkgs
kjohnson1macOS 13.6.1 Venturaarm644.3.2 (2023-10-31) -- "Eye Holes" 4299
Click on any hostname to see more info about the system (e.g. compilers)      (*) as reported by 'uname -p', except on Windows and Mac OS X

All results for package ExperimentHub


To the developers/maintainers of the ExperimentHub package:
- Use the following Renviron settings to reproduce errors and warnings.
- If 'R CMD check' started to fail recently on the Linux builder(s) over a missing dependency, add the missing dependency to 'Suggests:' in your DESCRIPTION file. See Renviron.bioc for more information.

raw results

Package 679/2266HostnameOS / ArchINSTALLBUILDCHECKBUILD BIN
ExperimentHub 2.10.0  (landing page)
Bioconductor Package Maintainer
Snapshot Date: 2024-02-17 09:00:03 -0500 (Sat, 17 Feb 2024)
git_url: https://git.bioconductor.org/packages/ExperimentHub
git_branch: RELEASE_3_18
git_last_commit: f9cb6a0
git_last_commit_date: 2023-10-24 10:48:01 -0500 (Tue, 24 Oct 2023)
kjohnson1macOS 13.6.1 Ventura / arm64  OK    OK    WARNINGS    OK  UNNEEDED, same version is already published

Results for Bioconductor software packages that depend directly on package ExperimentHub

QUICK STATSOS / ArchINSTALLBUILDCHECKBUILD BIN
kjohnson1macOS 13.6.1 Ventura / arm64
0128
0227
02421
0027
Package 1/29HostnameOS / ArchINSTALLBUILDCHECKBUILD BIN
adductomicsR 1.18.0  (landing page)
Josie Hayes
git_last_commit: 35a34c9
git_last_commit_date: 2023-10-24 11:10:34 -0500
kjohnson1macOS 13.6.1 Ventura / arm64  OK    OK    WARNINGS    OK  UNNEEDED, same version is already published
Package 2/29HostnameOS / ArchINSTALLBUILDCHECKBUILD BIN
BiocHubsShiny 1.2.0  (landing page)
Marcel Ramos
git_last_commit: ed13c43
git_last_commit_date: 2023-10-24 11:46:37 -0500
kjohnson1macOS 13.6.1 Ventura / arm64  OK    OK    OK    OK  UNNEEDED, same version is already published
Package 3/29HostnameOS / ArchINSTALLBUILDCHECKBUILD BIN
BloodGen3Module 1.10.0  (landing page)
Darawan Rinchai
git_last_commit: 388b9c6
git_last_commit_date: 2023-10-24 11:33:38 -0500
kjohnson1macOS 13.6.1 Ventura / arm64  OK    OK    WARNINGS    OK  UNNEEDED, same version is already published
Package 4/29HostnameOS / ArchINSTALLBUILDCHECKBUILD BIN
CBNplot 1.2.1  (landing page)
Noriaki Sato
git_last_commit: ccccb66
git_last_commit_date: 2023-12-21 00:59:20 -0500
kjohnson1macOS 13.6.1 Ventura / arm64  OK    OK    OK    OK  UNNEEDED, same version is already published
Package 5/29HostnameOS / ArchINSTALLBUILDCHECKBUILD BIN
coMethDMR 1.6.0  (landing page)
Fernanda Veitzman
git_last_commit: aa83334
git_last_commit_date: 2023-10-24 11:38:47 -0500
kjohnson1macOS 13.6.1 Ventura / arm64  OK    OK    OK    OK  UNNEEDED, same version is already published
Package 6/29HostnameOS / ArchINSTALLBUILDCHECKBUILD BIN
CoSIA 1.2.0  (landing page)
Amanda D. Clark
git_last_commit: d957b0a
git_last_commit_date: 2023-10-24 11:49:07 -0500
kjohnson1macOS 13.6.1 Ventura / arm64  OK    ERROR  skippedskipped
Package 7/29HostnameOS / ArchINSTALLBUILDCHECKBUILD BIN
CTdata 1.2.0  (landing page)
Laurent Gatto
git_last_commit: b5173cc
git_last_commit_date: 2023-10-24 11:48:02 -0500
kjohnson1macOS 13.6.1 Ventura / arm64  OK    OK    OK    OK  UNNEEDED, same version is already published
Package 8/29HostnameOS / ArchINSTALLBUILDCHECKBUILD BIN
DMRcate 2.16.1  (landing page)
Tim Peters
git_last_commit: 4cd2397
git_last_commit_date: 2023-12-04 22:28:28 -0500
kjohnson1macOS 13.6.1 Ventura / arm64  OK    OK    ERROR    OK  
Package 9/29HostnameOS / ArchINSTALLBUILDCHECKBUILD BIN
ENmix 1.38.01  (landing page)
Zongli Xu
git_last_commit: 0a1ee50
git_last_commit_date: 2023-10-25 08:27:48 -0500
kjohnson1macOS 13.6.1 Ventura / arm64  OK    OK    OK    OK  UNNEEDED, same version is already published
Package 10/29HostnameOS / ArchINSTALLBUILDCHECKBUILD BIN
EpiMix 1.4.0  (landing page)
Yuanning Zheng
git_last_commit: dd3578d
git_last_commit_date: 2023-10-24 11:43:01 -0500
kjohnson1macOS 13.6.1 Ventura / arm64  OK    OK    OK    OK  UNNEEDED, same version is already published
Package 11/29HostnameOS / ArchINSTALLBUILDCHECKBUILD BIN
epimutacions 1.6.1  (landing page)
Dolors Pelegri-Siso
git_last_commit: ba2e314
git_last_commit_date: 2023-11-03 07:47:17 -0500
kjohnson1macOS 13.6.1 Ventura / arm64  OK    OK    OK    OK  UNNEEDED, same version is already published
Package 12/29HostnameOS / ArchINSTALLBUILDCHECKBUILD BIN
ExperimentHubData 1.28.0  (landing page)
Bioconductor Package Maintainer
git_last_commit: ac4c327
git_last_commit_date: 2023-10-24 10:48:04 -0500
kjohnson1macOS 13.6.1 Ventura / arm64  OK    OK    WARNINGS    OK  UNNEEDED, same version is already published
Package 13/29HostnameOS / ArchINSTALLBUILDCHECKBUILD BIN
GSEABenchmarkeR 1.22.0  (landing page)
Ludwig Geistlinger
git_last_commit: 40d5688
git_last_commit_date: 2023-10-24 11:03:50 -0500
kjohnson1macOS 13.6.1 Ventura / arm64  OK    OK    OK    OK  UNNEEDED, same version is already published
Package 14/29HostnameOS / ArchINSTALLBUILDCHECKBUILD BIN
hpar 1.44.0  (landing page)
Laurent Gatto
git_last_commit: c1f5902
git_last_commit_date: 2023-10-24 09:51:13 -0500
kjohnson1macOS 13.6.1 Ventura / arm64  OK    OK    OK    OK  UNNEEDED, same version is already published
Package 15/29HostnameOS / ArchINSTALLBUILDCHECKBUILD BIN
iSEEhub 1.4.0  (landing page)
Kevin Rue-Albrecht
git_last_commit: a3ff71c
git_last_commit_date: 2023-10-24 11:44:04 -0500
kjohnson1macOS 13.6.1 Ventura / arm64  OK    OK    OK    OK  UNNEEDED, same version is already published
Package 16/29HostnameOS / ArchINSTALLBUILDCHECKBUILD BIN
LRcell 1.10.0  (landing page)
Wenjing Ma
git_last_commit: 3cb2264
git_last_commit_date: 2023-10-24 11:31:38 -0500
kjohnson1macOS 13.6.1 Ventura / arm64  OK    OK    OK    OK  UNNEEDED, same version is already published
Package 17/29HostnameOS / ArchINSTALLBUILDCHECKBUILD BIN
m6Aboost 1.8.0  (landing page)
You Zhou
git_last_commit: c64f738
git_last_commit_date: 2023-10-24 11:34:23 -0500
kjohnson1macOS 13.6.1 Ventura / arm64  OK    OK    OK    OK  UNNEEDED, same version is already published
Package 18/29HostnameOS / ArchINSTALLBUILDCHECKBUILD BIN
MACSr 1.10.0  (landing page)
Qiang Hu
git_last_commit: 640c4c3
git_last_commit_date: 2023-10-24 11:29:48 -0500
kjohnson1macOS 13.6.1 Ventura / arm64  OK    OK    OK    OK  UNNEEDED, same version is already published
Package 19/29HostnameOS / ArchINSTALLBUILDCHECKBUILD BIN
MatrixQCvis 1.10.0  (landing page)
Thomas Naake
git_last_commit: 9124112
git_last_commit_date: 2023-10-24 11:33:30 -0500
kjohnson1macOS 13.6.1 Ventura / arm64  OK    OK    OK    OK  UNNEEDED, same version is already published
Package 20/29HostnameOS / ArchINSTALLBUILDCHECKBUILD BIN
MethReg 1.12.0  (landing page)
Tiago Silva
git_last_commit: 30684d3
git_last_commit_date: 2023-10-24 11:25:49 -0500
kjohnson1macOS 13.6.1 Ventura / arm64  OK    OK    WARNINGS    OK  UNNEEDED, same version is already published
Package 21/29HostnameOS / ArchINSTALLBUILDCHECKBUILD BIN
methylclock 1.8.0  (landing page)
Dolors Pelegri-Siso
git_last_commit: bcf2548
git_last_commit_date: 2023-10-24 11:34:39 -0500
kjohnson1macOS 13.6.1 Ventura / arm64  OK    OK    OK    OK  UNNEEDED, same version is already published
Package 22/29HostnameOS / ArchINSTALLBUILDCHECKBUILD BIN
MsDataHub 1.2.0  (landing page)
Laurent Gatto
git_last_commit: 5e14284
git_last_commit_date: 2023-10-24 11:47:35 -0500
kjohnson1macOS 13.6.1 Ventura / arm64  OK    OK    OK    OK  UNNEEDED, same version is already published
Package 23/29HostnameOS / ArchINSTALLBUILDCHECKBUILD BIN
octad 1.4.0  (landing page)
E. Chekalin
git_last_commit: 4fe9b79
git_last_commit_date: 2023-10-24 11:45:19 -0500
kjohnson1macOS 13.6.1 Ventura / arm64  OK    OK    OK    OK  UNNEEDED, same version is already published
Package 24/29HostnameOS / ArchINSTALLBUILDCHECKBUILD BIN
orthos 1.0.1  (landing page)
Panagiotis Papasaikas
git_last_commit: 84d1a58
git_last_commit_date: 2023-11-02 08:46:54 -0500
kjohnson1macOS 13.6.1 Ventura / arm64  OK    OK    OK    OK  UNNEEDED, same version is already published
Package 25/29HostnameOS / ArchINSTALLBUILDCHECKBUILD BIN
PhyloProfile 1.16.3  (landing page)
Vinh Tran
git_last_commit: 17dee2d
git_last_commit_date: 2024-02-15 04:34:00 -0500
kjohnson1macOS 13.6.1 Ventura / arm64  OK    OK    OK    OK  YES
Package 26/29HostnameOS / ArchINSTALLBUILDCHECKBUILD BIN
restfulSE 1.24.0  (landing page)
Shweta Gopaulakrishnan
git_last_commit: 8154538
git_last_commit_date: 2023-10-24 10:59:57 -0500
kjohnson1macOS 13.6.1 Ventura / arm64  OK    OK    OK    OK  UNNEEDED, same version is already published
Package 27/29HostnameOS / ArchINSTALLBUILDCHECKBUILD BIN
SeqSQC 1.24.0  (landing page)
Qian Liu
git_last_commit: 6197238
git_last_commit_date: 2023-10-24 11:01:01 -0500
kjohnson1macOS 13.6.1 Ventura / arm64  ERROR    ERROR  skippedskipped
Package 28/29HostnameOS / ArchINSTALLBUILDCHECKBUILD BIN
signatureSearch 1.16.0  (landing page)
Brendan Gongol
git_last_commit: 4230980
git_last_commit_date: 2023-10-24 11:18:10 -0500
kjohnson1macOS 13.6.1 Ventura / arm64  OK    OK    OK    OK  UNNEEDED, same version is already published
Package 29/29HostnameOS / ArchINSTALLBUILDCHECKBUILD BIN
singleCellTK 2.12.2  (landing page)
Joshua David Campbell
git_last_commit: 14c92130
git_last_commit_date: 2024-02-05 14:45:10 -0500
kjohnson1macOS 13.6.1 Ventura / arm64  OK    OK    ERROR    OK