Back to Mac ARM64 build report for BioC 3.18
ABCDEFGHIJKLMNOPQRSTU[V]WXYZ

This page was generated on 2024-02-19 11:32:02 -0500 (Mon, 19 Feb 2024).

HostnameOSArch (*)R versionInstalled pkgs
kjohnson1macOS 13.6.1 Venturaarm644.3.2 (2023-10-31) -- "Eye Holes" 4299
Click on any hostname to see more info about the system (e.g. compilers)      (*) as reported by 'uname -p', except on Windows and Mac OS X

All results for package VplotR


To the developers/maintainers of the VplotR package:
- Use the following Renviron settings to reproduce errors and warnings.
- If 'R CMD check' started to fail recently on the Linux builder(s) over a missing dependency, add the missing dependency to 'Suggests:' in your DESCRIPTION file. See Renviron.bioc for more information.

raw results

Package 2234/2266HostnameOS / ArchINSTALLBUILDCHECKBUILD BIN
VplotR 1.12.1  (landing page)
Jacques Serizay
Snapshot Date: 2024-02-17 09:00:03 -0500 (Sat, 17 Feb 2024)
git_url: https://git.bioconductor.org/packages/VplotR
git_branch: RELEASE_3_18
git_last_commit: 3f96ff5
git_last_commit_date: 2023-12-01 07:07:44 -0500 (Fri, 01 Dec 2023)
kjohnson1macOS 13.6.1 Ventura / arm64  OK    OK    OK    OK  UNNEEDED, same version is already published