Back to Multiple platform build/check report for BioC 3.18:   simplified   long
ABCDEFGHIJKL[M]NOPQRSTUVWXYZ

This page was generated on 2024-02-22 11:35:20 -0500 (Thu, 22 Feb 2024).

HostnameOSArch (*)R versionInstalled pkgs
nebbiolo2Linux (Ubuntu 22.04.3 LTS)x86_644.3.2 Patched (2023-11-13 r85521) -- "Eye Holes" 4691
palomino4Windows Server 2022 Datacenterx644.3.2 (2023-10-31 ucrt) -- "Eye Holes" 4444
lconwaymacOS 12.7.1 Montereyx86_644.3.2 Patched (2023-11-01 r85457) -- "Eye Holes" 4465
Click on any hostname to see more info about the system (e.g. compilers)      (*) as reported by 'uname -p', except on Windows and Mac OS X

All results for package MSnbase


To the developers/maintainers of the MSnbase package:
- Allow up to 24 hours (and sometimes 48 hours) for your latest push to git@git.bioconductor.org:packages/MSnbase.git to reflect on this report. See Troubleshooting Build Report for more information.
- Use the following Renviron settings to reproduce errors and warnings.
- If 'R CMD check' started to fail recently on the Linux builder(s) over a missing dependency, add the missing dependency to 'Suggests:' in your DESCRIPTION file. See Renviron.bioc for more information.

raw results

Package 1336/2266HostnameOS / ArchINSTALLBUILDCHECKBUILD BIN
MSnbase 2.28.1  (landing page)
Laurent Gatto
Snapshot Date: 2024-02-21 14:05:05 -0500 (Wed, 21 Feb 2024)
git_url: https://git.bioconductor.org/packages/MSnbase
git_branch: RELEASE_3_18
git_last_commit: 6329ed35
git_last_commit_date: 2023-11-06 01:58:23 -0500 (Mon, 06 Nov 2023)
nebbiolo2Linux (Ubuntu 22.04.3 LTS) / x86_64  OK    OK    OK  UNNEEDED, same version is already published
palomino4Windows Server 2022 Datacenter / x64  OK    OK    OK    OK  UNNEEDED, same version is already published
lconwaymacOS 12.7.1 Monterey / x86_64  OK    OK    OK    OK  UNNEEDED, same version is already published
kjohnson1macOS 13.6.1 Ventura / arm64see weekly results here

Results for Bioconductor software packages that depend directly on package MSnbase

QUICK STATSOS / ArchINSTALLBUILDCHECKBUILD BIN
nebbiolo2Linux (Ubuntu 22.04.3 LTS) / x86_64
0020
0020
00515
palomino4Windows Server 2022 Datacenter / x64
0020
0020
00416
0020
lconwaymacOS 12.7.1 Monterey / x86_64
0020
0020
00614
0020
Package 1/20HostnameOS / ArchINSTALLBUILDCHECKBUILD BIN
bandle 1.6.0  (landing page)
Oliver M. Crook
git_last_commit: 94e6ac6
git_last_commit_date: 2023-10-24 11:41:12 -0500
nebbiolo2Linux (Ubuntu 22.04.3 LTS) / x86_64  OK    OK    OK  UNNEEDED, same version is already published
palomino4Windows Server 2022 Datacenter / x64  OK    OK    OK    OK  UNNEEDED, same version is already published
lconwaymacOS 12.7.1 Monterey / x86_64  OK    OK    WARNINGS    OK  UNNEEDED, same version is already published
kjohnson1macOS 13.6.1 Ventura / arm64see weekly results here
Package 2/20HostnameOS / ArchINSTALLBUILDCHECKBUILD BIN
cliqueMS 1.16.0  (landing page)
Oriol Senan Campos
git_last_commit: 18f4483
git_last_commit_date: 2023-10-24 11:18:13 -0500
nebbiolo2Linux (Ubuntu 22.04.3 LTS) / x86_64  OK    OK    OK  UNNEEDED, same version is already published
palomino4Windows Server 2022 Datacenter / x64  OK    OK    OK    OK  UNNEEDED, same version is already published
lconwaymacOS 12.7.1 Monterey / x86_64  OK    OK    WARNINGS    OK  UNNEEDED, same version is already published
kjohnson1macOS 13.6.1 Ventura / arm64see weekly results here
Package 3/20HostnameOS / ArchINSTALLBUILDCHECKBUILD BIN
CluMSID 1.18.0  (landing page)
Tobias Depke
git_last_commit: ce1d21e
git_last_commit_date: 2023-10-24 11:10:10 -0500
nebbiolo2Linux (Ubuntu 22.04.3 LTS) / x86_64  OK    OK    WARNINGS  UNNEEDED, same version is already published
palomino4Windows Server 2022 Datacenter / x64  OK    OK    WARNINGS    OK  UNNEEDED, same version is already published
lconwaymacOS 12.7.1 Monterey / x86_64  OK    OK    WARNINGS    OK  UNNEEDED, same version is already published
kjohnson1macOS 13.6.1 Ventura / arm64see weekly results here
Package 4/20HostnameOS / ArchINSTALLBUILDCHECKBUILD BIN
DAPAR 1.34.6  (landing page)
Samuel Wieczorek
git_last_commit: 829b5ff
git_last_commit_date: 2024-02-15 01:08:59 -0500
nebbiolo2Linux (Ubuntu 22.04.3 LTS) / x86_64  OK    OK    OK  UNNEEDED, same version is already published
palomino4Windows Server 2022 Datacenter / x64  OK    OK    OK    OK  UNNEEDED, same version is already published
lconwaymacOS 12.7.1 Monterey / x86_64  OK    OK    OK    OK  UNNEEDED, same version is already published
kjohnson1macOS 13.6.1 Ventura / arm64see weekly results here
Package 5/20HostnameOS / ArchINSTALLBUILDCHECKBUILD BIN
DEP 1.24.0  (landing page)
Arne Smits
git_last_commit: 3eedbc9
git_last_commit_date: 2023-10-24 10:58:53 -0500
nebbiolo2Linux (Ubuntu 22.04.3 LTS) / x86_64  OK    OK    WARNINGS  UNNEEDED, same version is already published
palomino4Windows Server 2022 Datacenter / x64  OK    OK    WARNINGS    OK  UNNEEDED, same version is already published
lconwaymacOS 12.7.1 Monterey / x86_64  OK    OK    WARNINGS    OK  UNNEEDED, same version is already published
kjohnson1macOS 13.6.1 Ventura / arm64see weekly results here
Package 6/20HostnameOS / ArchINSTALLBUILDCHECKBUILD BIN
MobilityTransformR 1.6.0  (landing page)
Liesa Salzer
git_last_commit: 7f3073e
git_last_commit_date: 2023-10-24 11:39:51 -0500
nebbiolo2Linux (Ubuntu 22.04.3 LTS) / x86_64  OK    OK    OK  UNNEEDED, same version is already published
palomino4Windows Server 2022 Datacenter / x64  OK    OK    OK    OK  UNNEEDED, same version is already published
lconwaymacOS 12.7.1 Monterey / x86_64  OK    OK    OK    OK  UNNEEDED, same version is already published
kjohnson1macOS 13.6.1 Ventura / arm64see weekly results here
Package 7/20HostnameOS / ArchINSTALLBUILDCHECKBUILD BIN
msmsEDA 1.40.0  (landing page)
Josep Gregori
git_last_commit: 4137b23
git_last_commit_date: 2023-10-24 09:55:06 -0500
nebbiolo2Linux (Ubuntu 22.04.3 LTS) / x86_64  OK    OK    OK  UNNEEDED, same version is already published
palomino4Windows Server 2022 Datacenter / x64  OK    OK    OK    OK  UNNEEDED, same version is already published
lconwaymacOS 12.7.1 Monterey / x86_64  OK    OK    OK    OK  UNNEEDED, same version is already published
kjohnson1macOS 13.6.1 Ventura / arm64see weekly results here
Package 8/20HostnameOS / ArchINSTALLBUILDCHECKBUILD BIN
msmsTests 1.40.0  (landing page)
Josep Gregori i Font
git_last_commit: f5a9e4e
git_last_commit_date: 2023-10-24 09:55:11 -0500
nebbiolo2Linux (Ubuntu 22.04.3 LTS) / x86_64  OK    OK    WARNINGS  UNNEEDED, same version is already published
palomino4Windows Server 2022 Datacenter / x64  OK    OK    OK    OK  UNNEEDED, same version is already published
lconwaymacOS 12.7.1 Monterey / x86_64  OK    OK    OK    OK  UNNEEDED, same version is already published
kjohnson1macOS 13.6.1 Ventura / arm64see weekly results here
Package 9/20HostnameOS / ArchINSTALLBUILDCHECKBUILD BIN
MSnID 1.36.0  (landing page)
Vlad Petyuk
git_last_commit: 605438e
git_last_commit_date: 2023-10-24 10:38:36 -0500
nebbiolo2Linux (Ubuntu 22.04.3 LTS) / x86_64  OK    OK    OK  UNNEEDED, same version is already published
palomino4Windows Server 2022 Datacenter / x64  OK    OK    OK    OK  UNNEEDED, same version is already published
lconwaymacOS 12.7.1 Monterey / x86_64  OK    OK    OK    OK  UNNEEDED, same version is already published
kjohnson1macOS 13.6.1 Ventura / arm64see weekly results here
Package 10/20HostnameOS / ArchINSTALLBUILDCHECKBUILD BIN
MSstatsQC 2.20.0  (landing page)
Eralp Dogu
git_last_commit: 970a773
git_last_commit_date: 2023-10-24 10:59:54 -0500
nebbiolo2Linux (Ubuntu 22.04.3 LTS) / x86_64  OK    OK    OK  UNNEEDED, same version is already published
palomino4Windows Server 2022 Datacenter / x64  OK    OK    OK    OK  UNNEEDED, same version is already published
lconwaymacOS 12.7.1 Monterey / x86_64  OK    OK    OK    OK  UNNEEDED, same version is already published
kjohnson1macOS 13.6.1 Ventura / arm64see weekly results here
Package 11/20HostnameOS / ArchINSTALLBUILDCHECKBUILD BIN
peakPantheR 1.16.0  (landing page)
Arnaud Wolfer
git_last_commit: 827e078
git_last_commit_date: 2023-10-24 11:16:40 -0500
nebbiolo2Linux (Ubuntu 22.04.3 LTS) / x86_64  OK    OK    OK  UNNEEDED, same version is already published
palomino4Windows Server 2022 Datacenter / x64  OK    OK    OK    OK  UNNEEDED, same version is already published
lconwaymacOS 12.7.1 Monterey / x86_64  OK    OK    OK    OK  UNNEEDED, same version is already published
kjohnson1macOS 13.6.1 Ventura / arm64see weekly results here
Package 12/20HostnameOS / ArchINSTALLBUILDCHECKBUILD BIN
PrInCE 1.18.0  (landing page)
Michael Skinnider
git_last_commit: 9b7f847
git_last_commit_date: 2023-10-24 11:11:41 -0500
nebbiolo2Linux (Ubuntu 22.04.3 LTS) / x86_64  OK    OK    WARNINGS  UNNEEDED, same version is already published
palomino4Windows Server 2022 Datacenter / x64  OK    OK    WARNINGS    OK  UNNEEDED, same version is already published
lconwaymacOS 12.7.1 Monterey / x86_64  OK    OK    WARNINGS    OK  UNNEEDED, same version is already published
kjohnson1macOS 13.6.1 Ventura / arm64see weekly results here
Package 13/20HostnameOS / ArchINSTALLBUILDCHECKBUILD BIN
pRoloc 1.42.0  (landing page)
Laurent Gatto
git_last_commit: 0954c0e
git_last_commit_date: 2023-10-24 09:52:04 -0500
nebbiolo2Linux (Ubuntu 22.04.3 LTS) / x86_64  OK    OK    OK  UNNEEDED, same version is already published
palomino4Windows Server 2022 Datacenter / x64  OK    OK    OK    OK  UNNEEDED, same version is already published
lconwaymacOS 12.7.1 Monterey / x86_64  OK    OK    OK    OK  UNNEEDED, same version is already published
kjohnson1macOS 13.6.1 Ventura / arm64see weekly results here
Package 14/20HostnameOS / ArchINSTALLBUILDCHECKBUILD BIN
pRolocGUI 2.12.0  (landing page)
Lisa Breckels
git_last_commit: 8622a9d
git_last_commit_date: 2023-10-24 09:59:48 -0500
nebbiolo2Linux (Ubuntu 22.04.3 LTS) / x86_64  OK    OK    OK  UNNEEDED, same version is already published
palomino4Windows Server 2022 Datacenter / x64  OK    OK    OK    OK  UNNEEDED, same version is already published
lconwaymacOS 12.7.1 Monterey / x86_64  OK    OK    OK    OK  UNNEEDED, same version is already published
kjohnson1macOS 13.6.1 Ventura / arm64see weekly results here
Package 15/20HostnameOS / ArchINSTALLBUILDCHECKBUILD BIN
ptairMS 1.10.0  (landing page)
camille Roquencourt
git_last_commit: 4b718ce
git_last_commit_date: 2023-10-24 11:31:48 -0500
nebbiolo2Linux (Ubuntu 22.04.3 LTS) / x86_64  OK    OK    WARNINGS  UNNEEDED, same version is already published
palomino4Windows Server 2022 Datacenter / x64  OK    OK    WARNINGS    OK  UNNEEDED, same version is already published
lconwaymacOS 12.7.1 Monterey / x86_64  OK    OK    WARNINGS    OK  UNNEEDED, same version is already published
kjohnson1macOS 13.6.1 Ventura / arm64see weekly results here
Package 16/20HostnameOS / ArchINSTALLBUILDCHECKBUILD BIN
qPLEXanalyzer 1.20.0  (landing page)
Ashley Sawle
git_last_commit: 18ccb64
git_last_commit_date: 2023-10-24 11:06:20 -0500
nebbiolo2Linux (Ubuntu 22.04.3 LTS) / x86_64  OK    OK    OK  UNNEEDED, same version is already published
palomino4Windows Server 2022 Datacenter / x64  OK    OK    OK    OK  UNNEEDED, same version is already published
lconwaymacOS 12.7.1 Monterey / x86_64  OK    OK    OK    OK  UNNEEDED, same version is already published
kjohnson1macOS 13.6.1 Ventura / arm64see weekly results here
Package 17/20HostnameOS / ArchINSTALLBUILDCHECKBUILD BIN
RMassBank 3.12.0  (landing page)
RMassBank at Eawag
git_last_commit: 0a05d66
git_last_commit_date: 2023-10-24 09:50:49 -0500
nebbiolo2Linux (Ubuntu 22.04.3 LTS) / x86_64  OK    OK    OK  UNNEEDED, same version is already published
palomino4Windows Server 2022 Datacenter / x64  OK    OK    OK    OK  UNNEEDED, same version is already published
lconwaymacOS 12.7.1 Monterey / x86_64  OK    OK    OK    OK  UNNEEDED, same version is already published
kjohnson1macOS 13.6.1 Ventura / arm64see weekly results here
Package 18/20HostnameOS / ArchINSTALLBUILDCHECKBUILD BIN
synapter 2.26.0  (landing page)
Laurent Gatto
git_last_commit: 3c6c084
git_last_commit_date: 2023-10-24 09:50:36 -0500
nebbiolo2Linux (Ubuntu 22.04.3 LTS) / x86_64  OK    OK    OK  UNNEEDED, same version is already published
palomino4Windows Server 2022 Datacenter / x64  OK    OK    OK    OK  UNNEEDED, same version is already published
lconwaymacOS 12.7.1 Monterey / x86_64  OK    OK    OK    OK  UNNEEDED, same version is already published
kjohnson1macOS 13.6.1 Ventura / arm64see weekly results here
Package 19/20HostnameOS / ArchINSTALLBUILDCHECKBUILD BIN
topdownr 1.24.0  (landing page)
Sebastian Gibb
git_last_commit: 261e6d6
git_last_commit_date: 2023-10-24 11:00:50 -0500
nebbiolo2Linux (Ubuntu 22.04.3 LTS) / x86_64  OK    OK    OK  UNNEEDED, same version is already published
palomino4Windows Server 2022 Datacenter / x64  OK    OK    OK    OK  UNNEEDED, same version is already published
lconwaymacOS 12.7.1 Monterey / x86_64  OK    OK    OK    OK  UNNEEDED, same version is already published
kjohnson1macOS 13.6.1 Ventura / arm64see weekly results here
Package 20/20HostnameOS / ArchINSTALLBUILDCHECKBUILD BIN
xcms 4.0.2  (landing page)
Steffen Neumann
git_last_commit: b274757
git_last_commit_date: 2023-12-20 08:47:02 -0500
nebbiolo2Linux (Ubuntu 22.04.3 LTS) / x86_64  OK    OK    OK  UNNEEDED, same version is already published
palomino4Windows Server 2022 Datacenter / x64  OK    OK    OK    OK  UNNEEDED, same version is already published
lconwaymacOS 12.7.1 Monterey / x86_64  OK    OK    OK    OK  UNNEEDED, same version is already published
kjohnson1macOS 13.6.1 Ventura / arm64see weekly results here