Back to Multiple platform build/check report for BioC 3.18:   simplified   long
ABCDEF[G]HIJKLMNOPQRSTUVWXYZ

This page was generated on 2024-02-20 11:35:59 -0500 (Tue, 20 Feb 2024).

HostnameOSArch (*)R versionInstalled pkgs
nebbiolo2Linux (Ubuntu 22.04.3 LTS)x86_644.3.2 Patched (2023-11-13 r85521) -- "Eye Holes" 4690
palomino4Windows Server 2022 Datacenterx644.3.2 (2023-10-31 ucrt) -- "Eye Holes" 4443
lconwaymacOS 12.7.1 Montereyx86_644.3.2 Patched (2023-11-01 r85457) -- "Eye Holes" 4464
Click on any hostname to see more info about the system (e.g. compilers)      (*) as reported by 'uname -p', except on Windows and Mac OS X

Package 794/2266HostnameOS / ArchINSTALLBUILDCHECKBUILD BIN
genefu 2.34.0  (landing page)
Benjamin Haibe-Kains
Snapshot Date: 2024-02-19 14:05:07 -0500 (Mon, 19 Feb 2024)
git_url: https://git.bioconductor.org/packages/genefu
git_branch: RELEASE_3_18
git_last_commit: 6911d3c
git_last_commit_date: 2023-10-24 09:46:18 -0500 (Tue, 24 Oct 2023)
nebbiolo2Linux (Ubuntu 22.04.3 LTS) / x86_64  OK    OK    OK  UNNEEDED, same version is already published
palomino4Windows Server 2022 Datacenter / x64  OK    OK    OK    OK  UNNEEDED, same version is already published
lconwaymacOS 12.7.1 Monterey / x86_64  OK    OK    OK    OK  UNNEEDED, same version is already published
kjohnson1macOS 13.6.1 Ventura / arm64see weekly results here

CHECK results for genefu on nebbiolo2


To the developers/maintainers of the genefu package:
- Allow up to 24 hours (and sometimes 48 hours) for your latest push to git@git.bioconductor.org:packages/genefu.git to reflect on this report. See Troubleshooting Build Report for more information.
- Use the following Renviron settings to reproduce errors and warnings.
- If 'R CMD check' started to fail recently on the Linux builder(s) over a missing dependency, add the missing dependency to 'Suggests:' in your DESCRIPTION file. See Renviron.bioc for more information.

raw results


Summary

Package: genefu
Version: 2.34.0
Command: /home/biocbuild/bbs-3.18-bioc/R/bin/R CMD check --install=check:genefu.install-out.txt --library=/home/biocbuild/bbs-3.18-bioc/R/site-library --timings genefu_2.34.0.tar.gz
StartedAt: 2024-02-19 22:32:23 -0500 (Mon, 19 Feb 2024)
EndedAt: 2024-02-19 22:35:26 -0500 (Mon, 19 Feb 2024)
EllapsedTime: 182.7 seconds
RetCode: 0
Status:   OK  
CheckDir: genefu.Rcheck
Warnings: 0

Command output

##############################################################################
##############################################################################
###
### Running command:
###
###   /home/biocbuild/bbs-3.18-bioc/R/bin/R CMD check --install=check:genefu.install-out.txt --library=/home/biocbuild/bbs-3.18-bioc/R/site-library --timings genefu_2.34.0.tar.gz
###
##############################################################################
##############################################################################


* using log directory ‘/home/biocbuild/bbs-3.18-bioc/meat/genefu.Rcheck’
* using R version 4.3.2 Patched (2023-11-13 r85521)
* using platform: x86_64-pc-linux-gnu (64-bit)
* R was compiled by
    gcc (Ubuntu 11.4.0-1ubuntu1~22.04) 11.4.0
    GNU Fortran (Ubuntu 11.4.0-1ubuntu1~22.04) 11.4.0
* running under: Ubuntu 22.04.3 LTS
* using session charset: UTF-8
* checking for file ‘genefu/DESCRIPTION’ ... OK
* checking extension type ... Package
* this is package ‘genefu’ version ‘2.34.0’
* package encoding: UTF-8
* checking package namespace information ... OK
* checking package dependencies ... OK
* checking if this is a source package ... OK
* checking if there is a namespace ... OK
* checking for hidden files and directories ... OK
* checking for portable file names ... OK
* checking for sufficient/correct file permissions ... OK
* checking whether package ‘genefu’ can be installed ... OK
* checking installed package size ... NOTE
  installed size is  5.2Mb
  sub-directories of 1Mb or more:
    data   4.0Mb
* checking package directory ... OK
* checking ‘build’ directory ... OK
* checking DESCRIPTION meta-information ... OK
* checking top-level files ... OK
* checking for left-over files ... OK
* checking index information ... OK
* checking package subdirectories ... OK
* checking R files for non-ASCII characters ... OK
* checking R files for syntax errors ... OK
* checking whether the package can be loaded ... OK
* checking whether the package can be loaded with stated dependencies ... OK
* checking whether the package can be unloaded cleanly ... OK
* checking whether the namespace can be loaded with stated dependencies ... OK
* checking whether the namespace can be unloaded cleanly ... OK
* checking loading without being on the library search path ... OK
* checking dependencies in R code ... NOTE
Packages in Depends field not imported from:
  ‘AIMS’ ‘biomaRt’ ‘iC10’
  These packages need to be imported from (in the NAMESPACE file)
  for when this namespace is loaded but not attached.
Unexported objects imported by ':::' calls:
  ‘mclust:::grid1’ ‘mclust:::grid2’
  See the note in ?`:::` about the use of this operator.
* checking S3 generic/method consistency ... OK
* checking replacement functions ... OK
* checking foreign function calls ... OK
* checking R code for possible problems ... OK
* checking Rd files ... OK
* checking Rd metadata ... OK
* checking Rd cross-references ... OK
* checking for missing documentation entries ... OK
* checking for code/documentation mismatches ... OK
* checking Rd \usage sections ... OK
* checking Rd contents ... OK
* checking for unstated dependencies in examples ... OK
* checking contents of ‘data’ directory ... OK
* checking data for non-ASCII characters ... OK
* checking data for ASCII and uncompressed saves ... OK
* checking files in ‘vignettes’ ... OK
* checking examples ... OK
* checking for unstated dependencies in vignettes ... OK
* checking package vignettes in ‘inst/doc’ ... OK
* checking running R code from vignettes ...
  ‘genefu.Rmd’ using ‘UTF-8’... OK
 NONE
* checking re-building of vignette outputs ... OK
* checking PDF version of manual ... OK
* DONE

Status: 2 NOTEs
See
  ‘/home/biocbuild/bbs-3.18-bioc/meat/genefu.Rcheck/00check.log’
for details.



Installation output

genefu.Rcheck/00install.out

##############################################################################
##############################################################################
###
### Running command:
###
###   /home/biocbuild/bbs-3.18-bioc/R/bin/R CMD INSTALL genefu
###
##############################################################################
##############################################################################


* installing to library ‘/home/biocbuild/bbs-3.18-bioc/R/site-library’
* installing *source* package ‘genefu’ ...
** using staged installation
** R
** data
** inst
** byte-compile and prepare package for lazy loading
** help
*** installing help indices
** building package indices
** installing vignettes
** testing if installed package can be loaded from temporary location
** testing if installed package can be loaded from final location
** testing if installed package keeps a record of temporary installation path
* DONE (genefu)

Tests output


Example timings

genefu.Rcheck/genefu-Ex.timings

nameusersystemelapsed
bimod0.1950.0080.202
boxplotplus20.0070.0000.008
claudinLow1.0050.0041.009
compareProtoCor1.1990.0521.252
compute.pairw.cor.meta1.3710.0681.440
compute.proto.cor.meta1.1930.0041.197
cordiff.dep0.1050.0040.108
endoPredict0.1080.0040.112
fuzzy.ttest0.0870.0000.087
gene700.2440.0040.248
gene760.1180.0040.122
geneid.map0.1380.0040.142
genius0.1730.0200.192
ggi0.1160.0000.116
ihc40.1250.0040.128
intrinsic.cluster0.3300.0160.332
intrinsic.cluster.predict0.1640.0000.164
map.datasets1.1220.0961.217
molecular.subtyping1.8140.0361.850
npi0.1290.0000.129
oncotypedx0.1180.0040.122
ovcAngiogenic0.1230.0000.123
ovcCrijns0.1230.0000.124
ovcTCGA0.2280.0000.229
ovcYoshihara0.1390.0000.139
pik3cags0.1160.0080.124
power.cor000
ps.cluster0.3480.0080.341
read.m.file0.0210.0000.022
rename.duplicate0.0010.0000.001
rescale0.2540.0080.261
rorS0.1980.0000.198
setcolclass.df0.0010.0010.002
sig.score0.1370.0100.147
spearmanCI0.0000.0000.001
st.gallen0.1080.0080.116
stab.fs0.1290.0120.140
stab.fs.ranking0.5210.0600.581
strescR0.0010.0000.000
subtype.cluster0.6810.0160.698
subtype.cluster.predict0.2580.0080.266
tamr130.1330.0000.132
tbrm0.0010.0000.000
weighted.meanvar0.0000.0000.001
write.m.file0.0040.0000.003