Back to Mac ARM64 build report for BioC 3.18
ABCDEFGHIJKLMNOPQRS[T]UVWXYZ

This page was generated on 2024-02-29 11:32:13 -0500 (Thu, 29 Feb 2024).

HostnameOSArch (*)R versionInstalled pkgs
kjohnson1macOS 13.6.1 Venturaarm644.3.2 (2023-10-31) -- "Eye Holes" 4300
Click on any hostname to see more info about the system (e.g. compilers)      (*) as reported by 'uname -p', except on Windows and Mac OS X

All results for package tximeta


To the developers/maintainers of the tximeta package:
- Use the following Renviron settings to reproduce errors and warnings.
- If 'R CMD check' started to fail recently on the Linux builder(s) over a missing dependency, add the missing dependency to 'Suggests:' in your DESCRIPTION file. See Renviron.bioc for more information.

raw results

Package 2198/2266HostnameOS / ArchINSTALLBUILDCHECKBUILD BIN
tximeta 1.20.3  (landing page)
Michael Love
Snapshot Date: 2024-02-27 09:00:02 -0500 (Tue, 27 Feb 2024)
git_url: https://git.bioconductor.org/packages/tximeta
git_branch: RELEASE_3_18
git_last_commit: 4b7dc4d
git_last_commit_date: 2024-01-28 21:16:35 -0500 (Sun, 28 Jan 2024)
kjohnson1macOS 13.6.1 Ventura / arm64  OK    OK    OK    OK  UNNEEDED, same version is already published

Results for Bioconductor software packages that depend directly on package tximeta

QUICK STATSOS / ArchINSTALLBUILDCHECKBUILD BIN
kjohnson1macOS 13.6.1 Ventura / arm64
001
001
0001
001
Package 1/1HostnameOS / ArchINSTALLBUILDCHECKBUILD BIN
IsoformSwitchAnalyzeR 2.2.0  (landing page)
Kristoffer Vitting-Seerup
git_last_commit: 172bcd1
git_last_commit_date: 2023-10-24 10:57:42 -0500
kjohnson1macOS 13.6.1 Ventura / arm64  OK    OK    OK    OK  UNNEEDED, same version is already published