Back to Multiple platform build/check report for BioC 3.18: simplified long |
|
This page was generated on 2024-03-29 11:37:34 -0400 (Fri, 29 Mar 2024).
Hostname | OS | Arch (*) | R version | Installed pkgs |
---|---|---|---|---|
nebbiolo2 | Linux (Ubuntu 22.04.3 LTS) | x86_64 | 4.3.3 (2024-02-29) -- "Angel Food Cake" | 4669 |
palomino4 | Windows Server 2022 Datacenter | x64 | 4.3.3 (2024-02-29 ucrt) -- "Angel Food Cake" | 4404 |
merida1 | macOS 12.7.1 Monterey | x86_64 | 4.3.3 (2024-02-29) -- "Angel Food Cake" | 4427 |
Click on any hostname to see more info about the system (e.g. compilers) (*) as reported by 'uname -p', except on Windows and Mac OS X |
Package 259/2266 | Hostname | OS / Arch | INSTALL | BUILD | CHECK | BUILD BIN | ||||||||
CAGEfightR 1.22.0 (landing page) Malte Thodberg
| nebbiolo2 | Linux (Ubuntu 22.04.3 LTS) / x86_64 | OK | OK | OK | |||||||||
palomino4 | Windows Server 2022 Datacenter / x64 | OK | OK | OK | OK | |||||||||
merida1 | macOS 12.7.1 Monterey / x86_64 | OK | OK | OK | OK | |||||||||
kjohnson1 | macOS 13.6.1 Ventura / arm64 | see weekly results here | ||||||||||||
To the developers/maintainers of the CAGEfightR package: - Allow up to 24 hours (and sometimes 48 hours) for your latest push to git@git.bioconductor.org:packages/CAGEfightR.git to reflect on this report. See Troubleshooting Build Report for more information. - Use the following Renviron settings to reproduce errors and warnings. - If 'R CMD check' started to fail recently on the Linux builder(s) over a missing dependency, add the missing dependency to 'Suggests:' in your DESCRIPTION file. See Renviron.bioc for more information. |
Package: CAGEfightR |
Version: 1.22.0 |
Command: /Library/Frameworks/R.framework/Resources/bin/R CMD check --install=check:CAGEfightR.install-out.txt --library=/Library/Frameworks/R.framework/Resources/library --no-vignettes --timings CAGEfightR_1.22.0.tar.gz |
StartedAt: 2024-03-28 00:13:45 -0400 (Thu, 28 Mar 2024) |
EndedAt: 2024-03-28 00:26:28 -0400 (Thu, 28 Mar 2024) |
EllapsedTime: 763.5 seconds |
RetCode: 0 |
Status: OK |
CheckDir: CAGEfightR.Rcheck |
Warnings: 0 |
############################################################################## ############################################################################## ### ### Running command: ### ### /Library/Frameworks/R.framework/Resources/bin/R CMD check --install=check:CAGEfightR.install-out.txt --library=/Library/Frameworks/R.framework/Resources/library --no-vignettes --timings CAGEfightR_1.22.0.tar.gz ### ############################################################################## ############################################################################## * using log directory ‘/Users/biocbuild/bbs-3.18-bioc/meat/CAGEfightR.Rcheck’ * using R version 4.3.3 (2024-02-29) * using platform: x86_64-apple-darwin20 (64-bit) * R was compiled by Apple clang version 14.0.0 (clang-1400.0.29.202) GNU Fortran (GCC) 12.2.0 * running under: macOS Monterey 12.7.1 * using session charset: UTF-8 * using option ‘--no-vignettes’ * checking for file ‘CAGEfightR/DESCRIPTION’ ... OK * checking extension type ... Package * this is package ‘CAGEfightR’ version ‘1.22.0’ * package encoding: UTF-8 * checking package namespace information ... OK * checking package dependencies ... OK * checking if this is a source package ... OK * checking if there is a namespace ... OK * checking for hidden files and directories ... OK * checking for portable file names ... OK * checking for sufficient/correct file permissions ... OK * checking whether package ‘CAGEfightR’ can be installed ... OK * checking installed package size ... OK * checking package directory ... OK * checking ‘build’ directory ... OK * checking DESCRIPTION meta-information ... OK * checking top-level files ... OK * checking for left-over files ... OK * checking index information ... OK * checking package subdirectories ... OK * checking R files for non-ASCII characters ... OK * checking R files for syntax errors ... OK * checking whether the package can be loaded ... OK * checking whether the package can be loaded with stated dependencies ... OK * checking whether the package can be unloaded cleanly ... OK * checking whether the namespace can be loaded with stated dependencies ... OK * checking whether the namespace can be unloaded cleanly ... OK * checking startup messages can be suppressed ... OK * checking dependencies in R code ... OK * checking S3 generic/method consistency ... OK * checking replacement functions ... OK * checking foreign function calls ... OK * checking R code for possible problems ... OK * checking Rd files ... OK * checking Rd metadata ... OK * checking Rd cross-references ... OK * checking for missing documentation entries ... OK * checking for code/documentation mismatches ... OK * checking Rd \usage sections ... OK * checking Rd contents ... OK * checking for unstated dependencies in examples ... OK * checking contents of ‘data’ directory ... OK * checking data for non-ASCII characters ... OK * checking LazyData ... OK * checking data for ASCII and uncompressed saves ... OK * checking files in ‘vignettes’ ... OK * checking examples ... OK Examples with CPU (user + system) or elapsed time > 5s user system elapsed findLinks 8.252 1.246 9.029 calcShape 7.223 0.353 8.403 trackCTSS 6.041 0.363 7.252 assignGeneID 6.153 0.198 6.663 * checking for unstated dependencies in vignettes ... OK * checking package vignettes in ‘inst/doc’ ... OK * checking running R code from vignettes ... SKIPPED * checking re-building of vignette outputs ... SKIPPED * checking PDF version of manual ... OK * DONE Status: OK
CAGEfightR.Rcheck/00install.out
############################################################################## ############################################################################## ### ### Running command: ### ### /Library/Frameworks/R.framework/Resources/bin/R CMD INSTALL CAGEfightR ### ############################################################################## ############################################################################## * installing to library ‘/Library/Frameworks/R.framework/Versions/4.3-x86_64/Resources/library’ * installing *source* package ‘CAGEfightR’ ... ** using staged installation ** R ** data *** moving datasets to lazyload DB ** inst ** byte-compile and prepare package for lazy loading ** help *** installing help indices ** building package indices ** installing vignettes ** testing if installed package can be loaded from temporary location ** testing if installed package can be loaded from final location ** testing if installed package keeps a record of temporary installation path * DONE (CAGEfightR)
CAGEfightR.Rcheck/CAGEfightR-Ex.timings
name | user | system | elapsed | |
assignGeneID | 6.153 | 0.198 | 6.663 | |
assignMissingID | 1.993 | 0.049 | 2.089 | |
assignTxID | 1.715 | 0.035 | 1.781 | |
assignTxType | 0.001 | 0.001 | 0.002 | |
balanceBC | 0.001 | 0.001 | 0.001 | |
balanceD | 0.000 | 0.001 | 0.001 | |
bwCommonGenome | 0.072 | 0.010 | 0.083 | |
bwGenomeCompatibility | 0.034 | 0.006 | 0.041 | |
bwValid | 0.015 | 0.005 | 0.020 | |
calcBidirectionality | 0.920 | 0.027 | 0.963 | |
calcComposition | 2.580 | 0.052 | 2.672 | |
calcPooled | 0.189 | 0.010 | 0.203 | |
calcShape | 7.223 | 0.353 | 8.403 | |
calcSupport | 0.198 | 0.006 | 0.214 | |
calcTPM | 0.243 | 0.008 | 0.261 | |
calcTotalTags | 0.105 | 0.007 | 0.114 | |
checkCTSSs | 0.533 | 0.011 | 0.564 | |
checkPeaked | 0.120 | 0.006 | 0.130 | |
checkPooled | 0.122 | 0.008 | 0.131 | |
clusterBidirectionally | 0.000 | 0.000 | 0.001 | |
clusterUnidirectionally | 2.964 | 0.039 | 3.157 | |
combineClusters | 1.559 | 0.021 | 1.663 | |
convertBAM2BigWig | 0.000 | 0.000 | 0.001 | |
convertBED2BigWig | 0.001 | 0.001 | 0.002 | |
convertGRanges2GPos | 0.156 | 0.002 | 0.169 | |
exampleDesign | 0.009 | 0.017 | 0.030 | |
findLinks | 8.252 | 1.246 | 9.029 | |
findStretches | 0.902 | 0.151 | 1.109 | |
quantifyCTSSs | 0.001 | 0.002 | 0.003 | |
quantifyCTSSs2 | 0.000 | 0.000 | 0.002 | |
quantifyClusters | 0.832 | 0.119 | 1.010 | |
quantifyGenes | 2.456 | 0.240 | 3.089 | |
quickEnhancers | 0.000 | 0.001 | 0.000 | |
quickGenes | 0.000 | 0.001 | 0.001 | |
quickTSSs | 0.000 | 0.001 | 0.000 | |
shapeEntropy | 0.001 | 0.000 | 0.005 | |
shapeIQR | 0.001 | 0.001 | 0.001 | |
shapeMean | 0.001 | 0.000 | 0.002 | |
shapeMultimodality | 0.000 | 0.001 | 0.001 | |
subsetByBidirectionality | 0.878 | 0.046 | 1.092 | |
subsetByComposition | 2.481 | 0.066 | 3.018 | |
subsetBySupport | 0.166 | 0.020 | 0.212 | |
swapRanges | 0.312 | 0.013 | 0.379 | |
swapScores | 0.195 | 0.011 | 0.246 | |
trackBalance | 0.000 | 0.001 | 0.001 | |
trackCTSS | 6.041 | 0.363 | 7.252 | |
trackClusters | 3.482 | 0.030 | 3.593 | |
trackLinks | 2.104 | 0.608 | 2.498 | |
trimToPeak | 1.811 | 0.239 | 2.167 | |
trimToPercentiles | 4.444 | 0.079 | 4.755 | |
tuneTagClustering | 0.000 | 0.001 | 0.002 | |
utilsAggregateRows | 0.802 | 1.125 | 2.039 | |
utilsDeStrand | 0.259 | 0.007 | 0.282 | |
utilsScoreOverlaps | 0.149 | 0.001 | 0.161 | |
utilsSimplifyTxDb | 0.000 | 0.001 | 0.001 | |