Back to Multiple platform build/check report for BioC 3.18:   simplified   long
AB[C]DEFGHIJKLMNOPQRSTUVWXYZ

This page was generated on 2023-12-05 11:36:32 -0500 (Tue, 05 Dec 2023).

HostnameOSArch (*)R versionInstalled pkgs
nebbiolo2Linux (Ubuntu 22.04.2 LTS)x86_644.3.2 Patched (2023-11-13 r85521) -- "Eye Holes" 4688
palomino4Windows Server 2022 Datacenterx644.3.2 (2023-10-31 ucrt) -- "Eye Holes" 4421
lconwaymacOS 12.7.1 Montereyx86_644.3.2 Patched (2023-11-01 r85457) -- "Eye Holes" 4440
Click on any hostname to see more info about the system (e.g. compilers)      (*) as reported by 'uname -p', except on Windows and Mac OS X

Package 410/2266HostnameOS / ArchINSTALLBUILDCHECKBUILD BIN
coMethDMR 1.6.0  (landing page)
Fernanda Veitzman
Snapshot Date: 2023-12-04 14:05:07 -0500 (Mon, 04 Dec 2023)
git_url: https://git.bioconductor.org/packages/coMethDMR
git_branch: RELEASE_3_18
git_last_commit: aa83334
git_last_commit_date: 2023-10-24 11:38:47 -0500 (Tue, 24 Oct 2023)
nebbiolo2Linux (Ubuntu 22.04.2 LTS) / x86_64  OK    OK    OK  UNNEEDED, same version is already published
palomino4Windows Server 2022 Datacenter / x64  OK    OK    OK    OK  UNNEEDED, same version is already published
lconwaymacOS 12.7.1 Monterey / x86_64  OK    OK    OK    OK  UNNEEDED, same version is already published
kjohnson1macOS 13.6.1 Ventura / arm64see weekly results here

BUILD results for coMethDMR on palomino4


To the developers/maintainers of the coMethDMR package:
- Allow up to 24 hours (and sometimes 48 hours) for your latest push to git@git.bioconductor.org:packages/coMethDMR.git to reflect on this report. See Troubleshooting Build Report for more information.
- Use the following Renviron settings to reproduce errors and warnings.
- If 'R CMD check' started to fail recently on the Linux builder(s) over a missing dependency, add the missing dependency to 'Suggests:' in your DESCRIPTION file. See Renviron.bioc for more information.

raw results


Summary

Package: coMethDMR
Version: 1.6.0
Command: chmod a+r coMethDMR -R && F:\biocbuild\bbs-3.18-bioc\R\bin\R.exe CMD build --keep-empty-dirs --no-resave-data coMethDMR
StartedAt: 2023-12-04 17:56:50 -0500 (Mon, 04 Dec 2023)
EndedAt: 2023-12-04 18:02:24 -0500 (Mon, 04 Dec 2023)
EllapsedTime: 334.0 seconds
RetCode: 0
Status:   OK  
PackageFile: coMethDMR_1.6.0.tar.gz
PackageFileSize: 3.073 MiB

Command output

##############################################################################
##############################################################################
###
### Running command:
###
###   chmod a+r coMethDMR -R && F:\biocbuild\bbs-3.18-bioc\R\bin\R.exe CMD build --keep-empty-dirs --no-resave-data coMethDMR
###
##############################################################################
##############################################################################


* checking for file 'coMethDMR/DESCRIPTION' ... OK
* preparing 'coMethDMR':
* checking DESCRIPTION meta-information ... OK
* installing the package to build vignettes
* creating vignettes ... OK
* checking for LF line-endings in source and make files and shell scripts
* checking for empty or unneeded directories
* looking to see if a 'data/datalist' file should be added
* building 'coMethDMR_1.6.0.tar.gz'