Back to Mac ARM64 build report for BioC 3.18
A[B]CDEFGHIJKLMNOPQRSTUVWXYZ

This page was generated on 2024-02-19 11:31:53 -0500 (Mon, 19 Feb 2024).

HostnameOSArch (*)R versionInstalled pkgs
kjohnson1macOS 13.6.1 Venturaarm644.3.2 (2023-10-31) -- "Eye Holes" 4299
Click on any hostname to see more info about the system (e.g. compilers)      (*) as reported by 'uname -p', except on Windows and Mac OS X

All results for package BiocSet


To the developers/maintainers of the BiocSet package:
- Use the following Renviron settings to reproduce errors and warnings.
- If 'R CMD check' started to fail recently on the Linux builder(s) over a missing dependency, add the missing dependency to 'Suggests:' in your DESCRIPTION file. See Renviron.bioc for more information.

raw results

Package 187/2266HostnameOS / ArchINSTALLBUILDCHECKBUILD BIN
BiocSet 1.16.1  (landing page)
Kayla Morrell
Snapshot Date: 2024-02-17 09:00:03 -0500 (Sat, 17 Feb 2024)
git_url: https://git.bioconductor.org/packages/BiocSet
git_branch: RELEASE_3_18
git_last_commit: 39ae572
git_last_commit_date: 2024-02-09 13:07:28 -0500 (Fri, 09 Feb 2024)
kjohnson1macOS 13.6.1 Ventura / arm64  OK    OK    OK    OK  UNNEEDED, same version is already published

Results for Bioconductor software packages that depend directly on package BiocSet

QUICK STATSOS / ArchINSTALLBUILDCHECKBUILD BIN
kjohnson1macOS 13.6.1 Ventura / arm64
003
003
0003
003
Package 1/3HostnameOS / ArchINSTALLBUILDCHECKBUILD BIN
CBEA 1.2.0  (landing page)
Quang Nguyen
git_last_commit: 486c9d0
git_last_commit_date: 2023-10-24 11:40:17 -0500
kjohnson1macOS 13.6.1 Ventura / arm64  OK    OK    OK    OK  UNNEEDED, same version is already published
Package 2/3HostnameOS / ArchINSTALLBUILDCHECKBUILD BIN
RegEnrich 1.12.0  (landing page)
Weiyang Tao
git_last_commit: 0524ae6
git_last_commit_date: 2023-10-24 11:23:04 -0500
kjohnson1macOS 13.6.1 Ventura / arm64  OK    OK    OK    OK  UNNEEDED, same version is already published
Package 3/3HostnameOS / ArchINSTALLBUILDCHECKBUILD BIN
sparrow 1.8.0  (landing page)
Steve Lianoglou
git_last_commit: 115a98f
git_last_commit_date: 2023-10-24 11:36:55 -0500
kjohnson1macOS 13.6.1 Ventura / arm64  OK    OK    OK    OK  UNNEEDED, same version is already published