Back to Multiple platform build/check report for BioC 3.18:   simplified   long
[A]BCDEFGHIJKLMNOPQRSTUVWXYZ

This page was generated on 2023-09-23 11:34:25 -0400 (Sat, 23 Sep 2023).

HostnameOSArch (*)R versionInstalled pkgs
nebbiolo2Linux (Ubuntu 22.04.2 LTS)x86_644.3.1 (2023-06-16) -- "Beagle Scouts" 4659
palomino4Windows Server 2022 Datacenterx644.3.1 (2023-06-16 ucrt) -- "Beagle Scouts" 4394
lconwaymacOS 12.6.5 Montereyx86_644.3.1 Patched (2023-06-17 r84564) -- "Beagle Scouts" 4408
kunpeng2Linux (openEuler 22.03 LTS-SP1)aarch644.3.1 (2023-06-16) -- "Beagle Scouts" 4397
Click on any hostname to see more info about the system (e.g. compilers)      (*) as reported by 'uname -p', except on Windows and Mac OS X

All results for package AnnotationFilter


To the developers/maintainers of the AnnotationFilter package:
- Allow up to 24 hours (and sometimes 48 hours) for your latest push to git@git.bioconductor.org:packages/AnnotationFilter.git to reflect on this report. See Troubleshooting Build Report for more information.
- Use the following Renviron settings to reproduce errors and warnings.
- If 'R CMD check' started to fail recently on the Linux builder(s) over a missing dependency, add the missing dependency to 'Suggests:' in your DESCRIPTION file. See Renviron.bioc for more information.

raw results

Package 70/2233HostnameOS / ArchINSTALLBUILDCHECKBUILD BIN
AnnotationFilter 1.25.0  (landing page)
Bioconductor Package Maintainer
Snapshot Date: 2023-09-22 14:05:07 -0400 (Fri, 22 Sep 2023)
git_url: https://git.bioconductor.org/packages/AnnotationFilter
git_branch: devel
git_last_commit: 0adec7d
git_last_commit_date: 2023-04-25 10:53:22 -0400 (Tue, 25 Apr 2023)
nebbiolo2Linux (Ubuntu 22.04.2 LTS) / x86_64  OK    OK    OK  UNNEEDED, same version is already published
palomino4Windows Server 2022 Datacenter / x64  OK    OK    OK    OK  UNNEEDED, same version is already published
lconwaymacOS 12.6.5 Monterey / x86_64  OK    OK    OK    OK  UNNEEDED, same version is already published
kunpeng2Linux (openEuler 22.03 LTS-SP1) / aarch64  OK    OK    OK  

Results for Bioconductor software packages that depend directly on package AnnotationFilter

QUICK STATSOS / ArchINSTALLBUILDCHECKBUILD BIN
nebbiolo2Linux (Ubuntu 22.04.2 LTS) / x86_64
0013
0013
0256
palomino4Windows Server 2022 Datacenter / x64
0012
0012
0147
0012
lconwaymacOS 12.6.5 Monterey / x86_64
0013
0013
0157
0013
kunpeng2Linux (openEuler 22.03 LTS-SP1) / aarch64
0013
0013
1255
Package 1/13HostnameOS / ArchINSTALLBUILDCHECKBUILD BIN
biovizBase 1.49.0  (landing page)
Michael Lawrence
git_last_commit: dd93783
git_last_commit_date: 2023-04-25 10:21:06 -0400
nebbiolo2Linux (Ubuntu 22.04.2 LTS) / x86_64  OK    OK    WARNINGS  UNNEEDED, same version is already published
palomino4Windows Server 2022 Datacenter / x64  OK    OK    WARNINGS    OK  UNNEEDED, same version is already published
lconwaymacOS 12.6.5 Monterey / x86_64  OK    OK    WARNINGS    OK  UNNEEDED, same version is already published
kunpeng2Linux (openEuler 22.03 LTS-SP1) / aarch64  OK    OK    WARNINGS  
Package 2/13HostnameOS / ArchINSTALLBUILDCHECKBUILD BIN
BUSpaRse 1.15.0  (landing page)
Lambda Moses
git_last_commit: 52dbef5
git_last_commit_date: 2023-04-25 11:11:59 -0400
nebbiolo2Linux (Ubuntu 22.04.2 LTS) / x86_64  OK    OK    OK  UNNEEDED, same version is already published
palomino4Windows Server 2022 Datacenter / x64  OK    OK    OK    OK  UNNEEDED, same version is already published
lconwaymacOS 12.6.5 Monterey / x86_64  OK    OK    OK    OK  UNNEEDED, same version is already published
kunpeng2Linux (openEuler 22.03 LTS-SP1) / aarch64  OK    OK    TIMEOUT  
Package 3/13HostnameOS / ArchINSTALLBUILDCHECKBUILD BIN
chimeraviz 1.27.0  (landing page)
Stian Lågstad
git_last_commit: 2d0306e
git_last_commit_date: 2023-07-31 03:41:51 -0400
nebbiolo2Linux (Ubuntu 22.04.2 LTS) / x86_64  OK    OK    OK  UNNEEDED, same version is already published
palomino4Windows Server 2022 Datacenter / x64  OK    OK    OK    OK  UNNEEDED, same version is already published
lconwaymacOS 12.6.5 Monterey / x86_64  OK    OK    OK    OK  UNNEEDED, same version is already published
kunpeng2Linux (openEuler 22.03 LTS-SP1) / aarch64  OK    OK    OK  
Package 4/13HostnameOS / ArchINSTALLBUILDCHECKBUILD BIN
CompoundDb 1.5.0  (landing page)
Johannes Rainer
git_last_commit: ca473a0
git_last_commit_date: 2023-04-25 11:35:41 -0400
nebbiolo2Linux (Ubuntu 22.04.2 LTS) / x86_64  OK    OK    OK  UNNEEDED, same version is already published
palomino4Windows Server 2022 Datacenter / x64  OK    OK    OK    OK  UNNEEDED, same version is already published
lconwaymacOS 12.6.5 Monterey / x86_64  OK    OK    OK    OK  UNNEEDED, same version is already published
kunpeng2Linux (openEuler 22.03 LTS-SP1) / aarch64  OK    OK    OK  
Package 5/13HostnameOS / ArchINSTALLBUILDCHECKBUILD BIN
drugTargetInteractions 1.9.0  (landing page)
Thomas Girke
git_last_commit: 3577ab5
git_last_commit_date: 2023-04-25 11:27:59 -0400
nebbiolo2Linux (Ubuntu 22.04.2 LTS) / x86_64  OK    OK    OK  UNNEEDED, same version is already published
palomino4Windows Server 2022 Datacenter / x64  OK    OK    OK    OK  UNNEEDED, same version is already published
lconwaymacOS 12.6.5 Monterey / x86_64  OK    OK    OK    OK  UNNEEDED, same version is already published
kunpeng2Linux (openEuler 22.03 LTS-SP1) / aarch64  OK    OK    OK  
Package 6/13HostnameOS / ArchINSTALLBUILDCHECKBUILD BIN
ensembldb 2.25.1  (landing page)
Johannes Rainer
git_last_commit: 9243d0e
git_last_commit_date: 2023-09-21 10:38:47 -0400
nebbiolo2Linux (Ubuntu 22.04.2 LTS) / x86_64  OK    OK    OK  UNNEEDED, same version is already published
palomino4Windows Server 2022 Datacenter / x64  OK    OK    OK    OK  UNNEEDED, same version is already published
lconwaymacOS 12.6.5 Monterey / x86_64  OK    OK    OK    OK  UNNEEDED, same version is already published
kunpeng2Linux (openEuler 22.03 LTS-SP1) / aarch64  OK    OK    OK  
Package 7/13HostnameOS / ArchINSTALLBUILDCHECKBUILD BIN
ggbio 1.49.0  (landing page)
Michael Lawrence
git_last_commit: 3a00da4
git_last_commit_date: 2023-04-25 10:21:27 -0400
nebbiolo2Linux (Ubuntu 22.04.2 LTS) / x86_64  OK    OK    WARNINGS  UNNEEDED, same version is already published
palomino4Windows Server 2022 Datacenter / x64  OK    OK    WARNINGS    OK  UNNEEDED, same version is already published
lconwaymacOS 12.6.5 Monterey / x86_64  OK    OK    WARNINGS    OK  UNNEEDED, same version is already published
kunpeng2Linux (openEuler 22.03 LTS-SP1) / aarch64  OK    OK    WARNINGS  
Package 8/13HostnameOS / ArchINSTALLBUILDCHECKBUILD BIN
Organism.dplyr 1.29.0  (landing page)
Martin Morgan
git_last_commit: 1d375c1
git_last_commit_date: 2023-04-25 10:52:39 -0400
nebbiolo2Linux (Ubuntu 22.04.2 LTS) / x86_64  OK    OK    ERROR  
palomino4Windows Server 2022 Datacenter / x64  OK    OK    ERROR    OK  
lconwaymacOS 12.6.5 Monterey / x86_64  OK    OK    ERROR    OK  
kunpeng2Linux (openEuler 22.03 LTS-SP1) / aarch64  OK    OK    ERROR  
Package 9/13HostnameOS / ArchINSTALLBUILDCHECKBUILD BIN
proteasy 1.3.0  (landing page)
Martin Rydén
git_last_commit: 654aeaa
git_last_commit_date: 2023-04-25 11:39:00 -0400
nebbiolo2Linux (Ubuntu 22.04.2 LTS) / x86_64  OK    OK    ERROR  
palomino4Windows Server 2022 Datacenter / x64  OK    OK    OK    OK  UNNEEDED, same version is already published
lconwaymacOS 12.6.5 Monterey / x86_64  OK    OK    OK    OK  UNNEEDED, same version is already published
kunpeng2Linux (openEuler 22.03 LTS-SP1) / aarch64  OK    OK    ERROR  
Package 10/13HostnameOS / ArchINSTALLBUILDCHECKBUILD BIN
QFeatures 1.11.2  (landing page)
Laurent Gatto
git_last_commit: 5a9ad34
git_last_commit_date: 2023-08-25 09:31:57 -0400
nebbiolo2Linux (Ubuntu 22.04.2 LTS) / x86_64  OK    OK    OK  UNNEEDED, same version is already published
palomino4Windows Server 2022 Datacenter / x64  OK    OK    OK    OK  UNNEEDED, same version is already published
lconwaymacOS 12.6.5 Monterey / x86_64  OK    OK    OK    OK  UNNEEDED, same version is already published
kunpeng2Linux (openEuler 22.03 LTS-SP1) / aarch64  OK    OK    OK  
Package 11/13HostnameOS / ArchINSTALLBUILDCHECKBUILD BIN
RITAN 1.25.0  (landing page)
Michael Zimmermann
git_last_commit: 3d1eccb
git_last_commit_date: 2023-04-25 10:54:17 -0400
nebbiolo2Linux (Ubuntu 22.04.2 LTS) / x86_64  OK    OK    WARNINGS  UNNEEDED, same version is already published
palomino4Windows Server 2022 Datacenter / x64  OK    OK    WARNINGS    OK  UNNEEDED, same version is already published
lconwaymacOS 12.6.5 Monterey / x86_64  OK    OK    WARNINGS    OK  UNNEEDED, same version is already published
kunpeng2Linux (openEuler 22.03 LTS-SP1) / aarch64  OK    OK    WARNINGS  
Package 12/13HostnameOS / ArchINSTALLBUILDCHECKBUILD BIN
scanMiRApp 1.7.0  (landing page)
Pierre-Luc Germain
git_last_commit: 09cb29e
git_last_commit_date: 2023-04-25 11:31:44 -0400
nebbiolo2Linux (Ubuntu 22.04.2 LTS) / x86_64  OK    OK    WARNINGS  UNNEEDED, same version is already published
palomino4Windows Server 2022 Datacenter / x64  OK    OK    WARNINGS    OK  UNNEEDED, same version is already published
lconwaymacOS 12.6.5 Monterey / x86_64  OK    OK    WARNINGS    OK  UNNEEDED, same version is already published
kunpeng2Linux (openEuler 22.03 LTS-SP1) / aarch64  OK    OK    WARNINGS  
Package 13/13HostnameOS / ArchINSTALLBUILDCHECKBUILD BIN
TVTB 1.27.0  (landing page)
Kevin Rue-Albrecht
git_last_commit: 082ad90
git_last_commit_date: 2023-04-25 10:50:43 -0400
nebbiolo2Linux (Ubuntu 22.04.2 LTS) / x86_64  OK    OK    WARNINGS  NO, package depends on 'ensemblVEP' which is not available
palomino4Windows Server 2022 Datacenter / x64... NOT SUPPORTED ...
lconwaymacOS 12.6.5 Monterey / x86_64  OK    OK    WARNINGS    OK  NO, package depends on 'ensemblVEP' which is not available
kunpeng2Linux (openEuler 22.03 LTS-SP1) / aarch64  OK    OK    WARNINGS