Back to Multiple platform build/check report for BioC 3.18:   simplified   long
ABCDEFGHIJKL[M]NOPQRSTUVWXYZ

This page was generated on 2023-09-23 11:35:21 -0400 (Sat, 23 Sep 2023).

HostnameOSArch (*)R versionInstalled pkgs
nebbiolo2Linux (Ubuntu 22.04.2 LTS)x86_644.3.1 (2023-06-16) -- "Beagle Scouts" 4659
palomino4Windows Server 2022 Datacenterx644.3.1 (2023-06-16 ucrt) -- "Beagle Scouts" 4394
lconwaymacOS 12.6.5 Montereyx86_644.3.1 Patched (2023-06-17 r84564) -- "Beagle Scouts" 4408
kunpeng2Linux (openEuler 22.03 LTS-SP1)aarch644.3.1 (2023-06-16) -- "Beagle Scouts" 4397
Click on any hostname to see more info about the system (e.g. compilers)      (*) as reported by 'uname -p', except on Windows and Mac OS X

All results for package methylumi


To the developers/maintainers of the methylumi package:
- Allow up to 24 hours (and sometimes 48 hours) for your latest push to git@git.bioconductor.org:packages/methylumi.git to reflect on this report. See Troubleshooting Build Report for more information.
- Use the following Renviron settings to reproduce errors and warnings.
- If 'R CMD check' started to fail recently on the Linux builder(s) over a missing dependency, add the missing dependency to 'Suggests:' in your DESCRIPTION file. See Renviron.bioc for more information.

raw results

Package 1219/2233HostnameOS / ArchINSTALLBUILDCHECKBUILD BIN
methylumi 2.47.0  (landing page)
Sean Davis
Snapshot Date: 2023-09-22 14:05:07 -0400 (Fri, 22 Sep 2023)
git_url: https://git.bioconductor.org/packages/methylumi
git_branch: devel
git_last_commit: 90e346d
git_last_commit_date: 2023-04-25 09:48:47 -0400 (Tue, 25 Apr 2023)
nebbiolo2Linux (Ubuntu 22.04.2 LTS) / x86_64  OK    OK    OK  UNNEEDED, same version is already published
palomino4Windows Server 2022 Datacenter / x64  OK    OK    OK    OK  UNNEEDED, same version is already published
lconwaymacOS 12.6.5 Monterey / x86_64  OK    OK    OK    OK  UNNEEDED, same version is already published
kunpeng2Linux (openEuler 22.03 LTS-SP1) / aarch64  OK    OK    OK  

Results for Bioconductor software packages that depend directly on package methylumi

QUICK STATSOS / ArchINSTALLBUILDCHECKBUILD BIN
nebbiolo2Linux (Ubuntu 22.04.2 LTS) / x86_64
007
007
0025
palomino4Windows Server 2022 Datacenter / x64
007
007
0025
007
lconwaymacOS 12.6.5 Monterey / x86_64
007
007
0025
007
kunpeng2Linux (openEuler 22.03 LTS-SP1) / aarch64
007
007
0025
Package 1/7HostnameOS / ArchINSTALLBUILDCHECKBUILD BIN
bigmelon 1.27.0  (landing page)
Tyler J. Gorrie-Stone
git_last_commit: 6e8b43d
git_last_commit_date: 2023-04-25 10:49:39 -0400
nebbiolo2Linux (Ubuntu 22.04.2 LTS) / x86_64  OK    OK    OK  UNNEEDED, same version is already published
palomino4Windows Server 2022 Datacenter / x64  OK    OK    OK    OK  UNNEEDED, same version is already published
lconwaymacOS 12.6.5 Monterey / x86_64  OK    OK    OK    OK  UNNEEDED, same version is already published
kunpeng2Linux (openEuler 22.03 LTS-SP1) / aarch64  OK    OK    OK  
Package 2/7HostnameOS / ArchINSTALLBUILDCHECKBUILD BIN
ffpe 1.45.0  (landing page)
Levi Waldron
git_last_commit: 4892943
git_last_commit_date: 2023-04-25 10:22:31 -0400
nebbiolo2Linux (Ubuntu 22.04.2 LTS) / x86_64  OK    OK    OK  UNNEEDED, same version is already published
palomino4Windows Server 2022 Datacenter / x64  OK    OK    OK    OK  UNNEEDED, same version is already published
lconwaymacOS 12.6.5 Monterey / x86_64  OK    OK    OK    OK  UNNEEDED, same version is already published
kunpeng2Linux (openEuler 22.03 LTS-SP1) / aarch64  OK    OK    OK  
Package 3/7HostnameOS / ArchINSTALLBUILDCHECKBUILD BIN
lumi 2.53.0  (landing page)
Lei Huang
git_last_commit: 7b4455c
git_last_commit_date: 2023-04-25 09:44:43 -0400
nebbiolo2Linux (Ubuntu 22.04.2 LTS) / x86_64  OK    OK    WARNINGS  UNNEEDED, same version is already published
palomino4Windows Server 2022 Datacenter / x64  OK    OK    WARNINGS    OK  UNNEEDED, same version is already published
lconwaymacOS 12.6.5 Monterey / x86_64  OK    OK    WARNINGS    OK  UNNEEDED, same version is already published
kunpeng2Linux (openEuler 22.03 LTS-SP1) / aarch64  OK    OK    WARNINGS  
Package 4/7HostnameOS / ArchINSTALLBUILDCHECKBUILD BIN
missMethyl 1.35.0  (landing page)
Belinda Phipson
git_last_commit: ed91bfb
git_last_commit_date: 2023-04-25 10:33:22 -0400
nebbiolo2Linux (Ubuntu 22.04.2 LTS) / x86_64  OK    OK    OK  UNNEEDED, same version is already published
palomino4Windows Server 2022 Datacenter / x64  OK    OK    OK    OK  UNNEEDED, same version is already published
lconwaymacOS 12.6.5 Monterey / x86_64  OK    OK    OK    OK  UNNEEDED, same version is already published
kunpeng2Linux (openEuler 22.03 LTS-SP1) / aarch64  OK    OK    OK  
Package 5/7HostnameOS / ArchINSTALLBUILDCHECKBUILD BIN
RnBeads 2.19.0  (landing page)
Fabian Mueller
git_last_commit: 8b8412e
git_last_commit_date: 2023-08-28 06:55:03 -0400
nebbiolo2Linux (Ubuntu 22.04.2 LTS) / x86_64  OK    OK    OK  UNNEEDED, same version is already published
palomino4Windows Server 2022 Datacenter / x64  OK    OK    OK    OK  UNNEEDED, same version is already published
lconwaymacOS 12.6.5 Monterey / x86_64  OK    OK    OK    OK  UNNEEDED, same version is already published
kunpeng2Linux (openEuler 22.03 LTS-SP1) / aarch64  OK    OK    OK  
Package 6/7HostnameOS / ArchINSTALLBUILDCHECKBUILD BIN
skewr 1.33.0  (landing page)
Ryan Putney
git_last_commit: 35be6ba
git_last_commit_date: 2023-04-25 10:37:52 -0400
nebbiolo2Linux (Ubuntu 22.04.2 LTS) / x86_64  OK    OK    OK  UNNEEDED, same version is already published
palomino4Windows Server 2022 Datacenter / x64  OK    OK    OK    OK  UNNEEDED, same version is already published
lconwaymacOS 12.6.5 Monterey / x86_64  OK    OK    OK    OK  UNNEEDED, same version is already published
kunpeng2Linux (openEuler 22.03 LTS-SP1) / aarch64  OK    OK    OK  
Package 7/7HostnameOS / ArchINSTALLBUILDCHECKBUILD BIN
wateRmelon 2.7.2  (landing page)
Leo C Schalkwyk
git_last_commit: e6deb0c
git_last_commit_date: 2023-09-21 10:53:18 -0400
nebbiolo2Linux (Ubuntu 22.04.2 LTS) / x86_64  OK    OK    WARNINGS  UNNEEDED, same version is already published
palomino4Windows Server 2022 Datacenter / x64  OK    OK    WARNINGS    OK  UNNEEDED, same version is already published
lconwaymacOS 12.6.5 Monterey / x86_64  OK    OK    WARNINGS    OK  UNNEEDED, same version is already published
kunpeng2Linux (openEuler 22.03 LTS-SP1) / aarch64  OK    OK    WARNINGS