Back to Multiple platform build/check report for BioC 3.18:   simplified   long
ABC[D]EFGHIJKLMNOPQRSTUVWXYZ

This page was generated on 2023-12-02 11:36:16 -0500 (Sat, 02 Dec 2023).

HostnameOSArch (*)R versionInstalled pkgs
nebbiolo2Linux (Ubuntu 22.04.2 LTS)x86_644.3.2 Patched (2023-11-13 r85521) -- "Eye Holes" 4685
palomino4Windows Server 2022 Datacenterx644.3.2 (2023-10-31 ucrt) -- "Eye Holes" 4420
lconwaymacOS 12.7.1 Montereyx86_644.3.2 Patched (2023-11-01 r85457) -- "Eye Holes" 4439
Click on any hostname to see more info about the system (e.g. compilers)      (*) as reported by 'uname -p', except on Windows and Mac OS X

Package 522/2266HostnameOS / ArchINSTALLBUILDCHECKBUILD BIN
DEFormats 1.30.0  (landing page)
Andrzej OleĊ›
Snapshot Date: 2023-12-01 14:05:06 -0500 (Fri, 01 Dec 2023)
git_url: https://git.bioconductor.org/packages/DEFormats
git_branch: RELEASE_3_18
git_last_commit: aeab5ae
git_last_commit_date: 2023-10-24 10:48:54 -0500 (Tue, 24 Oct 2023)
nebbiolo2Linux (Ubuntu 22.04.2 LTS) / x86_64  OK    OK    OK  UNNEEDED, same version is already published
palomino4Windows Server 2022 Datacenter / x64  OK    OK    OK    OK  UNNEEDED, same version is already published
lconwaymacOS 12.7.1 Monterey / x86_64  OK    OK    OK    OK  UNNEEDED, same version is already published
kjohnson1macOS 13.6.1 Ventura / arm64see weekly results here

INSTALL results for DEFormats on palomino4


To the developers/maintainers of the DEFormats package:
- Allow up to 24 hours (and sometimes 48 hours) for your latest push to git@git.bioconductor.org:packages/DEFormats.git to reflect on this report. See Troubleshooting Build Report for more information.
- Use the following Renviron settings to reproduce errors and warnings.
- If 'R CMD check' started to fail recently on the Linux builder(s) over a missing dependency, add the missing dependency to 'Suggests:' in your DESCRIPTION file. See Renviron.bioc for more information.

raw results


Summary

Package: DEFormats
Version: 1.30.0
Command: F:\biocbuild\bbs-3.18-bioc\R\bin\R.exe CMD INSTALL DEFormats
StartedAt: 2023-12-01 16:03:36 -0500 (Fri, 01 Dec 2023)
EndedAt: 2023-12-01 16:04:05 -0500 (Fri, 01 Dec 2023)
EllapsedTime: 29.9 seconds
RetCode: 0
Status:   OK  

Command output

##############################################################################
##############################################################################
###
### Running command:
###
###   F:\biocbuild\bbs-3.18-bioc\R\bin\R.exe CMD INSTALL DEFormats
###
##############################################################################
##############################################################################


* installing to library 'F:/biocbuild/bbs-3.18-bioc/R/library'
* installing *source* package 'DEFormats' ...
** using staged installation
** R
** inst
** byte-compile and prepare package for lazy loading
Creating a generic function for 'DGEList' from 'edgeR' in package 'DEFormats'
    (from the saved implicit definition)
** help
*** installing help indices
** building package indices
** installing vignettes
** testing if installed package can be loaded from temporary location
** testing if installed package can be loaded from final location
** testing if installed package keeps a record of temporary installation path
* DONE (DEFormats)