Back to Multiple platform build/check report for BioC 3.18:   simplified   long
[A]BCDEFGHIJKLMNOPQRSTUVWXYZ

This page was generated on 2023-11-28 11:36:25 -0500 (Tue, 28 Nov 2023).

HostnameOSArch (*)R versionInstalled pkgs
nebbiolo2Linux (Ubuntu 22.04.2 LTS)x86_644.3.2 Patched (2023-11-13 r85521) -- "Eye Holes" 4685
palomino4Windows Server 2022 Datacenterx644.3.2 (2023-10-31 ucrt) -- "Eye Holes" 4420
lconwaymacOS 12.7.1 Montereyx86_644.3.2 Patched (2023-11-01 r85457) -- "Eye Holes" 4439
Click on any hostname to see more info about the system (e.g. compilers)      (*) as reported by 'uname -p', except on Windows and Mac OS X

Package 63/2266HostnameOS / ArchINSTALLBUILDCHECKBUILD BIN
AneuFinder 1.30.0  (landing page)
Aaron Taudt
Snapshot Date: 2023-11-27 14:05:07 -0500 (Mon, 27 Nov 2023)
git_url: https://git.bioconductor.org/packages/AneuFinder
git_branch: RELEASE_3_18
git_last_commit: f0c9ccf
git_last_commit_date: 2023-10-24 10:48:50 -0500 (Tue, 24 Oct 2023)
nebbiolo2Linux (Ubuntu 22.04.2 LTS) / x86_64  OK    OK    OK  UNNEEDED, same version is already published
palomino4Windows Server 2022 Datacenter / x64  OK    OK    OK    OK  UNNEEDED, same version is already published
lconwaymacOS 12.7.1 Monterey / x86_64  OK    OK    OK    OK  UNNEEDED, same version is already published
kjohnson1macOS 13.6.1 Ventura / arm64see weekly results here

BUILD results for AneuFinder on palomino4


To the developers/maintainers of the AneuFinder package:
- Allow up to 24 hours (and sometimes 48 hours) for your latest push to git@git.bioconductor.org:packages/AneuFinder.git to reflect on this report. See Troubleshooting Build Report for more information.
- Use the following Renviron settings to reproduce errors and warnings.
- If 'R CMD check' started to fail recently on the Linux builder(s) over a missing dependency, add the missing dependency to 'Suggests:' in your DESCRIPTION file. See Renviron.bioc for more information.

raw results


Summary

Package: AneuFinder
Version: 1.30.0
Command: chmod a+r AneuFinder -R && F:\biocbuild\bbs-3.18-bioc\R\bin\R.exe CMD build --keep-empty-dirs --no-resave-data AneuFinder
StartedAt: 2023-11-27 17:06:47 -0500 (Mon, 27 Nov 2023)
EndedAt: 2023-11-27 17:12:22 -0500 (Mon, 27 Nov 2023)
EllapsedTime: 334.7 seconds
RetCode: 0
Status:   OK  
PackageFile: AneuFinder_1.30.0.tar.gz
PackageFileSize: 2.021 MiB

Command output

##############################################################################
##############################################################################
###
### Running command:
###
###   chmod a+r AneuFinder -R && F:\biocbuild\bbs-3.18-bioc\R\bin\R.exe CMD build --keep-empty-dirs --no-resave-data AneuFinder
###
##############################################################################
##############################################################################


* checking for file 'AneuFinder/DESCRIPTION' ... OK
* preparing 'AneuFinder':
* checking DESCRIPTION meta-information ... OK
* cleaning src
* installing the package to build vignettes
* creating vignettes ... OK
* cleaning src
* checking for LF line-endings in source and make files and shell scripts
* checking for empty or unneeded directories
* building 'AneuFinder_1.30.0.tar.gz'