Back to Multiple platform build/check report for BioC 3.18:   simplified   long
ABCDEFGHIJKLMNOPQRS[T]UVWXYZ

This page was generated on 2023-12-04 11:37:12 -0500 (Mon, 04 Dec 2023).

HostnameOSArch (*)R versionInstalled pkgs
nebbiolo2Linux (Ubuntu 22.04.2 LTS)x86_644.3.2 Patched (2023-11-13 r85521) -- "Eye Holes" 4686
palomino4Windows Server 2022 Datacenterx644.3.2 (2023-10-31 ucrt) -- "Eye Holes" 4421
lconwaymacOS 12.7.1 Montereyx86_644.3.2 Patched (2023-11-01 r85457) -- "Eye Holes" 4440
Click on any hostname to see more info about the system (e.g. compilers)      (*) as reported by 'uname -p', except on Windows and Mac OS X

Package 2167/2266HostnameOS / ArchINSTALLBUILDCHECKBUILD BIN
TransView 1.46.0  (landing page)
Julius Muller
Snapshot Date: 2023-12-03 14:05:05 -0500 (Sun, 03 Dec 2023)
git_url: https://git.bioconductor.org/packages/TransView
git_branch: RELEASE_3_18
git_last_commit: 2a55784
git_last_commit_date: 2023-10-24 09:51:41 -0500 (Tue, 24 Oct 2023)
nebbiolo2Linux (Ubuntu 22.04.2 LTS) / x86_64  OK    OK    WARNINGS  UNNEEDED, same version is already published
palomino4Windows Server 2022 Datacenter / x64  OK    OK    OK    OK  UNNEEDED, same version is already published
lconwaymacOS 12.7.1 Monterey / x86_64  OK    OK    WARNINGS    OK  UNNEEDED, same version is already published
kjohnson1macOS 13.6.1 Ventura / arm64see weekly results here

BUILD BIN results for TransView on palomino4


To the developers/maintainers of the TransView package:
- Allow up to 24 hours (and sometimes 48 hours) for your latest push to git@git.bioconductor.org:packages/TransView.git to reflect on this report. See Troubleshooting Build Report for more information.
- Use the following Renviron settings to reproduce errors and warnings.
- If 'R CMD check' started to fail recently on the Linux builder(s) over a missing dependency, add the missing dependency to 'Suggests:' in your DESCRIPTION file. See Renviron.bioc for more information.

raw results


Summary

Package: TransView
Version: 1.46.0
Command: rm -rf TransView.buildbin-libdir && mkdir TransView.buildbin-libdir && F:\biocbuild\bbs-3.18-bioc\R\bin\R.exe CMD INSTALL --build --library=TransView.buildbin-libdir TransView_1.46.0.tar.gz
StartedAt: 2023-12-04 08:42:14 -0500 (Mon, 04 Dec 2023)
EndedAt: 2023-12-04 08:42:48 -0500 (Mon, 04 Dec 2023)
EllapsedTime: 33.5 seconds
RetCode: 0
Status:   OK  
PackageFile: TransView_1.46.0.zip
PackageFileSize: 5.707 MiB

Command output

##############################################################################
##############################################################################
###
### Running command:
###
###   rm -rf TransView.buildbin-libdir && mkdir TransView.buildbin-libdir && F:\biocbuild\bbs-3.18-bioc\R\bin\R.exe CMD INSTALL --build --library=TransView.buildbin-libdir TransView_1.46.0.tar.gz
###
##############################################################################
##############################################################################


* installing *source* package 'TransView' ...
** using staged installation
** libs
using C compiler: 'gcc.exe (GCC) 12.3.0'
gcc  -I"F:/biocbuild/bbs-3.18-bioc/R/include" -DNDEBUG -D_FILE_OFFSET_BITS=64 -I'F:/biocbuild/bbs-3.18-bioc/R/library/Rhtslib/include'   -I"C:/rtools43/x86_64-w64-mingw32.static.posix/include"     -O2 -Wall  -mfpmath=sse -msse2 -mstackrealign  -c R_init_TransView.c -o R_init_TransView.o
gcc  -I"F:/biocbuild/bbs-3.18-bioc/R/include" -DNDEBUG -D_FILE_OFFSET_BITS=64 -I'F:/biocbuild/bbs-3.18-bioc/R/library/Rhtslib/include'   -I"C:/rtools43/x86_64-w64-mingw32.static.posix/include"     -O2 -Wall  -mfpmath=sse -msse2 -mstackrealign  -c bam_plbuf.c -o bam_plbuf.o
gcc  -I"F:/biocbuild/bbs-3.18-bioc/R/include" -DNDEBUG -D_FILE_OFFSET_BITS=64 -I'F:/biocbuild/bbs-3.18-bioc/R/library/Rhtslib/include'   -I"C:/rtools43/x86_64-w64-mingw32.static.posix/include"     -O2 -Wall  -mfpmath=sse -msse2 -mstackrealign  -c bin_density.c -o bin_density.o
gcc  -I"F:/biocbuild/bbs-3.18-bioc/R/include" -DNDEBUG -D_FILE_OFFSET_BITS=64 -I'F:/biocbuild/bbs-3.18-bioc/R/library/Rhtslib/include'   -I"C:/rtools43/x86_64-w64-mingw32.static.posix/include"     -O2 -Wall  -mfpmath=sse -msse2 -mstackrealign  -c construct_dc.c -o construct_dc.o
gcc  -I"F:/biocbuild/bbs-3.18-bioc/R/include" -DNDEBUG -D_FILE_OFFSET_BITS=64 -I'F:/biocbuild/bbs-3.18-bioc/R/library/Rhtslib/include'   -I"C:/rtools43/x86_64-w64-mingw32.static.posix/include"     -O2 -Wall  -mfpmath=sse -msse2 -mstackrealign  -c parse_sam.c -o parse_sam.o
gcc  -I"F:/biocbuild/bbs-3.18-bioc/R/include" -DNDEBUG -D_FILE_OFFSET_BITS=64 -I'F:/biocbuild/bbs-3.18-bioc/R/library/Rhtslib/include'   -I"C:/rtools43/x86_64-w64-mingw32.static.posix/include"     -O2 -Wall  -mfpmath=sse -msse2 -mstackrealign  -c slice_dc.c -o slice_dc.o
slice_dc.c: In function 'slice_dc':
slice_dc.c:179:33: warning: 'slicep' may be used uninitialized [-Wmaybe-uninitialized]
  179 |                                 shrink(slicep,new_vecp,rebuildc,wsize,summarizep);
      |                                 ^~~~~~~~~~~~~~~~~~~~~~~~~~~~~~~~~~~~~~~~~~~~~~~~~
slice_dc.c:101:22: note: 'slicep' was declared here
  101 |                 int *slicep= INTEGER_POINTER(slice);
      |                      ^~~~~~
gcc  -I"F:/biocbuild/bbs-3.18-bioc/R/include" -DNDEBUG -D_FILE_OFFSET_BITS=64 -I'F:/biocbuild/bbs-3.18-bioc/R/library/Rhtslib/include'   -I"C:/rtools43/x86_64-w64-mingw32.static.posix/include"     -O2 -Wall  -mfpmath=sse -msse2 -mstackrealign  -c visuals.c -o visuals.o
gcc -shared -s -static-libgcc -o TransView.dll tmp.def R_init_TransView.o bam_plbuf.o bin_density.o construct_dc.o parse_sam.o slice_dc.o visuals.o F:/biocbuild/bbs-3.18-bioc/R/library/Rhtslib/usrlib/x64/libhts.a -lz -lm -lbz2 -llzma -lcurl -lbcrypt -lidn2 -lunistring -liconv -lssl -lcrypto -lcrypt32 -lwsock32 -lwldap32 -lssh2 -lgcrypt -lgpg-error -lws2_32 -lzstd -lregex -LC:/rtools43/x86_64-w64-mingw32.static.posix/lib/x64 -LC:/rtools43/x86_64-w64-mingw32.static.posix/lib -LF:/biocbuild/bbs-3.18-bioc/R/bin/x64 -lR
installing to F:/biocbuild/bbs-3.18-bioc/meat/TransView.buildbin-libdir/00LOCK-TransView/00new/TransView/libs/x64
** R
** inst
** byte-compile and prepare package for lazy loading
** help
*** installing help indices
** building package indices
** installing vignettes
** testing if installed package can be loaded from temporary location
** testing if installed package can be loaded from final location
** testing if installed package keeps a record of temporary installation path
* MD5 sums
packaged installation of 'TransView' as TransView_1.46.0.zip
* DONE (TransView)