Back to Mac ARM64 build report for BioC 3.18
A[B]CDEFGHIJKLMNOPQRSTUVWXYZ

This page was generated on 2024-02-29 11:32:04 -0500 (Thu, 29 Feb 2024).

HostnameOSArch (*)R versionInstalled pkgs
kjohnson1macOS 13.6.1 Venturaarm644.3.2 (2023-10-31) -- "Eye Holes" 4300
Click on any hostname to see more info about the system (e.g. compilers)      (*) as reported by 'uname -p', except on Windows and Mac OS X

All results for package bioDist


To the developers/maintainers of the bioDist package:
- Use the following Renviron settings to reproduce errors and warnings.
- If 'R CMD check' started to fail recently on the Linux builder(s) over a missing dependency, add the missing dependency to 'Suggests:' in your DESCRIPTION file. See Renviron.bioc for more information.

raw results

Package 205/2266HostnameOS / ArchINSTALLBUILDCHECKBUILD BIN
bioDist 1.74.0  (landing page)
Bioconductor Package Maintainer
Snapshot Date: 2024-02-27 09:00:02 -0500 (Tue, 27 Feb 2024)
git_url: https://git.bioconductor.org/packages/bioDist
git_branch: RELEASE_3_18
git_last_commit: 89a00b0
git_last_commit_date: 2023-10-24 09:34:28 -0500 (Tue, 24 Oct 2023)
kjohnson1macOS 13.6.1 Ventura / arm64  OK    OK    OK    OK  UNNEEDED, same version is already published

Results for Bioconductor software packages that depend directly on package bioDist

QUICK STATSOS / ArchINSTALLBUILDCHECKBUILD BIN
kjohnson1macOS 13.6.1 Ventura / arm64
002
002
0002
002
Package 1/2HostnameOS / ArchINSTALLBUILDCHECKBUILD BIN
CHETAH 1.18.0  (landing page)
Jurrian de Kanter
git_last_commit: 8f59c4d
git_last_commit_date: 2023-10-24 11:43:04 -0500
kjohnson1macOS 13.6.1 Ventura / arm64  OK    OK    OK    OK  UNNEEDED, same version is already published
Package 2/2HostnameOS / ArchINSTALLBUILDCHECKBUILD BIN
PhyloProfile 1.16.3  (landing page)
Vinh Tran
git_last_commit: 17dee2d
git_last_commit_date: 2024-02-15 04:34:00 -0500
kjohnson1macOS 13.6.1 Ventura / arm64  OK    OK    OK    OK  UNNEEDED, same version is already published