Back to Multiple platform build/check report for BioC 3.18:   simplified   long
ABCDEFGHIJKLMNOPQ[R]STUVWXYZ

This page was generated on 2023-12-05 11:36:09 -0500 (Tue, 05 Dec 2023).

HostnameOSArch (*)R versionInstalled pkgs
nebbiolo2Linux (Ubuntu 22.04.2 LTS)x86_644.3.2 Patched (2023-11-13 r85521) -- "Eye Holes" 4688
palomino4Windows Server 2022 Datacenterx644.3.2 (2023-10-31 ucrt) -- "Eye Holes" 4421
lconwaymacOS 12.7.1 Montereyx86_644.3.2 Patched (2023-11-01 r85457) -- "Eye Holes" 4440
Click on any hostname to see more info about the system (e.g. compilers)      (*) as reported by 'uname -p', except on Windows and Mac OS X

Package 1716/2266HostnameOS / ArchINSTALLBUILDCHECKBUILD BIN
REMP 1.26.0  (landing page)
Yinan Zheng
Snapshot Date: 2023-12-04 14:05:07 -0500 (Mon, 04 Dec 2023)
git_url: https://git.bioconductor.org/packages/REMP
git_branch: RELEASE_3_18
git_last_commit: ee4ee19
git_last_commit_date: 2023-10-24 10:55:28 -0500 (Tue, 24 Oct 2023)
nebbiolo2Linux (Ubuntu 22.04.2 LTS) / x86_64  OK    OK    OK  UNNEEDED, same version is already published
palomino4Windows Server 2022 Datacenter / x64  OK    OK    OK    OK  UNNEEDED, same version is already published
lconwaymacOS 12.7.1 Monterey / x86_64  OK    OK    OK    OK  UNNEEDED, same version is already published
kjohnson1macOS 13.6.1 Ventura / arm64see weekly results here

CHECK results for REMP on nebbiolo2


To the developers/maintainers of the REMP package:
- Allow up to 24 hours (and sometimes 48 hours) for your latest push to git@git.bioconductor.org:packages/REMP.git to reflect on this report. See Troubleshooting Build Report for more information.
- Use the following Renviron settings to reproduce errors and warnings.
- If 'R CMD check' started to fail recently on the Linux builder(s) over a missing dependency, add the missing dependency to 'Suggests:' in your DESCRIPTION file. See Renviron.bioc for more information.

raw results


Summary

Package: REMP
Version: 1.26.0
Command: /home/biocbuild/bbs-3.18-bioc/R/bin/R CMD check --install=check:REMP.install-out.txt --library=/home/biocbuild/bbs-3.18-bioc/R/site-library --timings REMP_1.26.0.tar.gz
StartedAt: 2023-12-05 01:01:08 -0500 (Tue, 05 Dec 2023)
EndedAt: 2023-12-05 01:11:30 -0500 (Tue, 05 Dec 2023)
EllapsedTime: 622.6 seconds
RetCode: 0
Status:   OK  
CheckDir: REMP.Rcheck
Warnings: 0

Command output

##############################################################################
##############################################################################
###
### Running command:
###
###   /home/biocbuild/bbs-3.18-bioc/R/bin/R CMD check --install=check:REMP.install-out.txt --library=/home/biocbuild/bbs-3.18-bioc/R/site-library --timings REMP_1.26.0.tar.gz
###
##############################################################################
##############################################################################


* using log directory ‘/home/biocbuild/bbs-3.18-bioc/meat/REMP.Rcheck’
* using R version 4.3.2 Patched (2023-11-13 r85521)
* using platform: x86_64-pc-linux-gnu (64-bit)
* R was compiled by
    gcc (Ubuntu 11.4.0-1ubuntu1~22.04) 11.4.0
    GNU Fortran (Ubuntu 11.4.0-1ubuntu1~22.04) 11.4.0
* running under: Ubuntu 22.04.3 LTS
* using session charset: UTF-8
* checking for file ‘REMP/DESCRIPTION’ ... OK
* checking extension type ... Package
* this is package ‘REMP’ version ‘1.26.0’
* package encoding: UTF-8
* checking package namespace information ... OK
* checking package dependencies ... OK
* checking if this is a source package ... OK
* checking if there is a namespace ... OK
* checking for hidden files and directories ... OK
* checking for portable file names ... OK
* checking for sufficient/correct file permissions ... OK
* checking whether package ‘REMP’ can be installed ... OK
* checking installed package size ... OK
* checking package directory ... OK
* checking ‘build’ directory ... OK
* checking DESCRIPTION meta-information ... OK
* checking top-level files ... OK
* checking for left-over files ... OK
* checking index information ... OK
* checking package subdirectories ... OK
* checking R files for non-ASCII characters ... OK
* checking R files for syntax errors ... OK
* checking whether the package can be loaded ... OK
* checking whether the package can be loaded with stated dependencies ... OK
* checking whether the package can be unloaded cleanly ... OK
* checking whether the namespace can be loaded with stated dependencies ... OK
* checking whether the namespace can be unloaded cleanly ... OK
* checking loading without being on the library search path ... OK
* checking startup messages can be suppressed ... OK
* checking dependencies in R code ... NOTE
'library' or 'require' calls in package code:
  ‘IlluminaHumanMethylation450kanno.ilmn12.hg19’
  ‘IlluminaHumanMethylationEPICanno.ilm10b2.hg19’
  Please use :: or requireNamespace() instead.
  See section 'Suggested packages' in the 'Writing R Extensions' manual.
* checking S3 generic/method consistency ... OK
* checking replacement functions ... OK
* checking foreign function calls ... OK
* checking R code for possible problems ... NOTE
initREMP: no visible binding for global variable
  ‘IlluminaHumanMethylation450kanno.ilmn12.hg19’
initREMP: no visible binding for global variable
  ‘IlluminaHumanMethylationEPICanno.ilm10b2.hg19’
remprofile: no visible binding for global variable
  ‘IlluminaHumanMethylation450kanno.ilmn12.hg19’
remprofile: no visible binding for global variable
  ‘IlluminaHumanMethylationEPICanno.ilm10b2.hg19’
Undefined global functions or variables:
  IlluminaHumanMethylation450kanno.ilmn12.hg19
  IlluminaHumanMethylationEPICanno.ilm10b2.hg19
* checking Rd files ... OK
* checking Rd metadata ... OK
* checking Rd cross-references ... OK
* checking for missing documentation entries ... OK
* checking for code/documentation mismatches ... OK
* checking Rd \usage sections ... OK
* checking Rd contents ... OK
* checking for unstated dependencies in examples ... OK
* checking contents of ‘data’ directory ... OK
* checking data for non-ASCII characters ... OK
* checking LazyData ... OK
* checking data for ASCII and uncompressed saves ... OK
* checking files in ‘vignettes’ ... OK
* checking examples ... OK
Examples with CPU (user + system) or elapsed time > 5s
                  user system elapsed
fetchRMSK       16.548  2.278  20.161
remp            15.216  1.814  16.748
remprofile      10.527  1.195  11.769
GRannot          9.991  1.435  12.212
rempTemplate     9.713  1.410  11.136
initREMP         7.341  0.827   8.490
fetchRefSeqGene  6.618  1.337   8.273
getBackend       6.687  0.638   7.362
grooMethy        1.638  0.231   5.162
* checking for unstated dependencies in vignettes ... OK
* checking package vignettes in ‘inst/doc’ ... OK
* checking running R code from vignettes ...
  ‘REMP.Rnw’ using ‘UTF-8’... OK
 OK
* checking re-building of vignette outputs ... OK
* checking PDF version of manual ... OK
* DONE

Status: 2 NOTEs
See
  ‘/home/biocbuild/bbs-3.18-bioc/meat/REMP.Rcheck/00check.log’
for details.



Installation output

REMP.Rcheck/00install.out

##############################################################################
##############################################################################
###
### Running command:
###
###   /home/biocbuild/bbs-3.18-bioc/R/bin/R CMD INSTALL REMP
###
##############################################################################
##############################################################################


* installing to library ‘/home/biocbuild/bbs-3.18-bioc/R/site-library’
* installing *source* package ‘REMP’ ...
** using staged installation
** R
** data
*** moving datasets to lazyload DB
** inst
** byte-compile and prepare package for lazy loading
** help
*** installing help indices
** building package indices
** installing vignettes
** testing if installed package can be loaded from temporary location
** testing if installed package can be loaded from final location
** testing if installed package keeps a record of temporary installation path
* DONE (REMP)

Tests output


Example timings

REMP.Rcheck/REMP-Ex.timings

nameusersystemelapsed
GRannot 9.991 1.43512.212
REMParcel-class0.0010.0000.001
REMProduct-class0.0010.0000.001
fetchRMSK16.548 2.27820.161
fetchRefSeqGene6.6181.3378.273
findRECpG1.0030.0511.070
getBackend6.6870.6387.362
getGM128781.9260.2162.173
grooMethy1.6380.2315.162
initREMP7.3410.8278.490
options0.0010.0000.001
remp15.216 1.81416.748
rempTemplate 9.713 1.41011.136
remprofile10.527 1.19511.769