Back to Multiple platform build/check report for BioC 3.18:   simplified   long
ABCDEFGHIJKL[M]NOPQRSTUVWXYZ

This page was generated on 2024-03-29 11:36:05 -0400 (Fri, 29 Mar 2024).

HostnameOSArch (*)R versionInstalled pkgs
nebbiolo2Linux (Ubuntu 22.04.3 LTS)x86_644.3.3 (2024-02-29) -- "Angel Food Cake" 4669
palomino4Windows Server 2022 Datacenterx644.3.3 (2024-02-29 ucrt) -- "Angel Food Cake" 4404
merida1macOS 12.7.1 Montereyx86_644.3.3 (2024-02-29) -- "Angel Food Cake" 4427
Click on any hostname to see more info about the system (e.g. compilers)      (*) as reported by 'uname -p', except on Windows and Mac OS X

Package 1161/2266HostnameOS / ArchINSTALLBUILDCHECKBUILD BIN
MatrixRider 1.34.0  (landing page)
Elena Grassi
Snapshot Date: 2024-03-27 14:05:05 -0400 (Wed, 27 Mar 2024)
git_url: https://git.bioconductor.org/packages/MatrixRider
git_branch: RELEASE_3_18
git_last_commit: c7873f6
git_last_commit_date: 2023-10-24 10:42:04 -0400 (Tue, 24 Oct 2023)
nebbiolo2Linux (Ubuntu 22.04.3 LTS) / x86_64  OK    OK    WARNINGS  UNNEEDED, same version is already published
palomino4Windows Server 2022 Datacenter / x64  OK    OK    OK    OK  UNNEEDED, same version is already published
merida1macOS 12.7.1 Monterey / x86_64  OK    OK    WARNINGS    OK  UNNEEDED, same version is already published
kjohnson1macOS 13.6.1 Ventura / arm64see weekly results here

INSTALL results for MatrixRider on nebbiolo2


To the developers/maintainers of the MatrixRider package:
- Allow up to 24 hours (and sometimes 48 hours) for your latest push to git@git.bioconductor.org:packages/MatrixRider.git to reflect on this report. See Troubleshooting Build Report for more information.
- Use the following Renviron settings to reproduce errors and warnings.
- If 'R CMD check' started to fail recently on the Linux builder(s) over a missing dependency, add the missing dependency to 'Suggests:' in your DESCRIPTION file. See Renviron.bioc for more information.

raw results


Summary

Package: MatrixRider
Version: 1.34.0
Command: /home/biocbuild/bbs-3.18-bioc/R/bin/R CMD INSTALL MatrixRider
StartedAt: 2024-03-27 15:28:05 -0400 (Wed, 27 Mar 2024)
EndedAt: 2024-03-27 15:28:46 -0400 (Wed, 27 Mar 2024)
EllapsedTime: 41.5 seconds
RetCode: 0
Status:   OK  

Command output

##############################################################################
##############################################################################
###
### Running command:
###
###   /home/biocbuild/bbs-3.18-bioc/R/bin/R CMD INSTALL MatrixRider
###
##############################################################################
##############################################################################


* installing to library ‘/home/biocbuild/bbs-3.18-bioc/R/site-library’
* installing *source* package ‘MatrixRider’ ...
** using staged installation
** libs
using C compiler: ‘gcc (Ubuntu 11.4.0-1ubuntu1~22.04) 11.4.0’
gcc -I"/home/biocbuild/bbs-3.18-bioc/R/include" -DNDEBUG  -I'/home/biocbuild/bbs-3.18-bioc/R/site-library/IRanges/include' -I'/home/biocbuild/bbs-3.18-bioc/R/site-library/XVector/include' -I'/home/biocbuild/bbs-3.18-bioc/R/site-library/Biostrings/include' -I'/home/biocbuild/bbs-3.18-bioc/R/site-library/S4Vectors/include' -I/usr/local/include    -fpic  -g -O2  -Wall -c Biostring_stubs.c -o Biostring_stubs.o
gcc -I"/home/biocbuild/bbs-3.18-bioc/R/include" -DNDEBUG  -I'/home/biocbuild/bbs-3.18-bioc/R/site-library/IRanges/include' -I'/home/biocbuild/bbs-3.18-bioc/R/site-library/XVector/include' -I'/home/biocbuild/bbs-3.18-bioc/R/site-library/Biostrings/include' -I'/home/biocbuild/bbs-3.18-bioc/R/site-library/S4Vectors/include' -I/usr/local/include    -fpic  -g -O2  -Wall -c CuTest.c -o CuTest.o
gcc -I"/home/biocbuild/bbs-3.18-bioc/R/include" -DNDEBUG  -I'/home/biocbuild/bbs-3.18-bioc/R/site-library/IRanges/include' -I'/home/biocbuild/bbs-3.18-bioc/R/site-library/XVector/include' -I'/home/biocbuild/bbs-3.18-bioc/R/site-library/Biostrings/include' -I'/home/biocbuild/bbs-3.18-bioc/R/site-library/S4Vectors/include' -I/usr/local/include    -fpic  -g -O2  -Wall -c R_init_MatrixRider.c -o R_init_MatrixRider.o
gcc -I"/home/biocbuild/bbs-3.18-bioc/R/include" -DNDEBUG  -I'/home/biocbuild/bbs-3.18-bioc/R/site-library/IRanges/include' -I'/home/biocbuild/bbs-3.18-bioc/R/site-library/XVector/include' -I'/home/biocbuild/bbs-3.18-bioc/R/site-library/Biostrings/include' -I'/home/biocbuild/bbs-3.18-bioc/R/site-library/S4Vectors/include' -I/usr/local/include    -fpic  -g -O2  -Wall -c RunCuTest.c -o RunCuTest.o
gcc -I"/home/biocbuild/bbs-3.18-bioc/R/include" -DNDEBUG  -I'/home/biocbuild/bbs-3.18-bioc/R/site-library/IRanges/include' -I'/home/biocbuild/bbs-3.18-bioc/R/site-library/XVector/include' -I'/home/biocbuild/bbs-3.18-bioc/R/site-library/Biostrings/include' -I'/home/biocbuild/bbs-3.18-bioc/R/site-library/S4Vectors/include' -I/usr/local/include    -fpic  -g -O2  -Wall -c XVector_stubs.c -o XVector_stubs.o
gcc -I"/home/biocbuild/bbs-3.18-bioc/R/include" -DNDEBUG  -I'/home/biocbuild/bbs-3.18-bioc/R/site-library/IRanges/include' -I'/home/biocbuild/bbs-3.18-bioc/R/site-library/XVector/include' -I'/home/biocbuild/bbs-3.18-bioc/R/site-library/Biostrings/include' -I'/home/biocbuild/bbs-3.18-bioc/R/site-library/S4Vectors/include' -I/usr/local/include    -fpic  -g -O2  -Wall -c matrix_rider.c -o matrix_rider.o
gcc -shared -L/home/biocbuild/bbs-3.18-bioc/R/lib -L/usr/local/lib -o MatrixRider.so Biostring_stubs.o CuTest.o R_init_MatrixRider.o RunCuTest.o XVector_stubs.o matrix_rider.o -L/home/biocbuild/bbs-3.18-bioc/R/lib -lR
installing to /home/biocbuild/bbs-3.18-bioc/R/site-library/00LOCK-MatrixRider/00new/MatrixRider/libs
** R
** inst
** byte-compile and prepare package for lazy loading
** help
*** installing help indices
** building package indices
** installing vignettes
** testing if installed package can be loaded from temporary location
** checking absolute paths in shared objects and dynamic libraries
** testing if installed package can be loaded from final location
** testing if installed package keeps a record of temporary installation path
* DONE (MatrixRider)