Back to Mac ARM64 build report for BioC 3.18
ABCDEFGHIJKLMN[O]PQRSTUVWXYZ

This page was generated on 2024-02-19 11:31:59 -0500 (Mon, 19 Feb 2024).

HostnameOSArch (*)R versionInstalled pkgs
kjohnson1macOS 13.6.1 Venturaarm644.3.2 (2023-10-31) -- "Eye Holes" 4299
Click on any hostname to see more info about the system (e.g. compilers)      (*) as reported by 'uname -p', except on Windows and Mac OS X

All results for package ontoProc


To the developers/maintainers of the ontoProc package:
- Use the following Renviron settings to reproduce errors and warnings.
- If 'R CMD check' started to fail recently on the Linux builder(s) over a missing dependency, add the missing dependency to 'Suggests:' in your DESCRIPTION file. See Renviron.bioc for more information.

raw results

Package 1460/2266HostnameOS / ArchINSTALLBUILDCHECKBUILD BIN
ontoProc 1.24.0  (landing page)
Vincent Carey
Snapshot Date: 2024-02-17 09:00:03 -0500 (Sat, 17 Feb 2024)
git_url: https://git.bioconductor.org/packages/ontoProc
git_branch: RELEASE_3_18
git_last_commit: 5718db1
git_last_commit_date: 2023-10-24 11:00:55 -0500 (Tue, 24 Oct 2023)
kjohnson1macOS 13.6.1 Ventura / arm64  OK    OK    OK    OK  UNNEEDED, same version is already published

Results for Bioconductor software packages that depend directly on package ontoProc

QUICK STATSOS / ArchINSTALLBUILDCHECKBUILD BIN
kjohnson1macOS 13.6.1 Ventura / arm64
002
002
0002
002
Package 1/2HostnameOS / ArchINSTALLBUILDCHECKBUILD BIN
pogos 1.22.0  (landing page)
VJ Carey
git_last_commit: 7f46f03
git_last_commit_date: 2023-10-24 11:02:18 -0500
kjohnson1macOS 13.6.1 Ventura / arm64  OK    OK    OK    OK  UNNEEDED, same version is already published
Package 2/2HostnameOS / ArchINSTALLBUILDCHECKBUILD BIN
tenXplore 1.24.0  (landing page)
VJ Carey
git_last_commit: 9c4165a
git_last_commit_date: 2023-10-24 11:01:19 -0500
kjohnson1macOS 13.6.1 Ventura / arm64  OK    OK    OK    OK  UNNEEDED, same version is already published