Back to Multiple platform build/check report for BioC 3.18:   simplified   long
ABCDEFGHIJKL[M]NOPQRSTUVWXYZ

This page was generated on 2023-11-29 11:36:56 -0500 (Wed, 29 Nov 2023).

HostnameOSArch (*)R versionInstalled pkgs
nebbiolo2Linux (Ubuntu 22.04.2 LTS)x86_644.3.2 Patched (2023-11-13 r85521) -- "Eye Holes" 4685
palomino4Windows Server 2022 Datacenterx644.3.2 (2023-10-31 ucrt) -- "Eye Holes" 4420
lconwaymacOS 12.7.1 Montereyx86_644.3.2 Patched (2023-11-01 r85457) -- "Eye Holes" 4439
Click on any hostname to see more info about the system (e.g. compilers)      (*) as reported by 'uname -p', except on Windows and Mac OS X

Package 1258/2266HostnameOS / ArchINSTALLBUILDCHECKBUILD BIN
mimager 1.26.0  (landing page)
Aaron Wolen
Snapshot Date: 2023-11-28 14:05:06 -0500 (Tue, 28 Nov 2023)
git_url: https://git.bioconductor.org/packages/mimager
git_branch: RELEASE_3_18
git_last_commit: 13cf7b3
git_last_commit_date: 2023-10-24 10:54:58 -0500 (Tue, 24 Oct 2023)
nebbiolo2Linux (Ubuntu 22.04.2 LTS) / x86_64  OK    OK    OK  UNNEEDED, same version is already published
palomino4Windows Server 2022 Datacenter / x64  OK    OK    OK    OK  UNNEEDED, same version is already published
lconwaymacOS 12.7.1 Monterey / x86_64  OK    OK    OK    OK  UNNEEDED, same version is already published
kjohnson1macOS 13.6.1 Ventura / arm64see weekly results here

BUILD results for mimager on palomino4


To the developers/maintainers of the mimager package:
- Allow up to 24 hours (and sometimes 48 hours) for your latest push to git@git.bioconductor.org:packages/mimager.git to reflect on this report. See Troubleshooting Build Report for more information.
- Use the following Renviron settings to reproduce errors and warnings.
- If 'R CMD check' started to fail recently on the Linux builder(s) over a missing dependency, add the missing dependency to 'Suggests:' in your DESCRIPTION file. See Renviron.bioc for more information.

raw results


Summary

Package: mimager
Version: 1.26.0
Command: chmod a+r mimager -R && F:\biocbuild\bbs-3.18-bioc\R\bin\R.exe CMD build --keep-empty-dirs --no-resave-data mimager
StartedAt: 2023-11-28 20:28:27 -0500 (Tue, 28 Nov 2023)
EndedAt: 2023-11-28 20:29:27 -0500 (Tue, 28 Nov 2023)
EllapsedTime: 60.0 seconds
RetCode: 0
Status:   OK  
PackageFile: mimager_1.26.0.tar.gz
PackageFileSize: 662 KiB

Command output

##############################################################################
##############################################################################
###
### Running command:
###
###   chmod a+r mimager -R && F:\biocbuild\bbs-3.18-bioc\R\bin\R.exe CMD build --keep-empty-dirs --no-resave-data mimager
###
##############################################################################
##############################################################################


* checking for file 'mimager/DESCRIPTION' ... OK
* preparing 'mimager':
* checking DESCRIPTION meta-information ... OK
* installing the package to build vignettes
* creating vignettes ... OK
* checking for LF line-endings in source and make files and shell scripts
* checking for empty or unneeded directories
Omitted 'LazyData' from DESCRIPTION
* building 'mimager_1.26.0.tar.gz'