Back to Multiple platform build/check report for BioC 3.18:   simplified   long
AB[C]DEFGHIJKLMNOPQRSTUVWXYZ

This page was generated on 2023-09-28 11:35:04 -0400 (Thu, 28 Sep 2023).

HostnameOSArch (*)R versionInstalled pkgs
nebbiolo2Linux (Ubuntu 22.04.2 LTS)x86_644.3.1 (2023-06-16) -- "Beagle Scouts" 4660
palomino4Windows Server 2022 Datacenterx644.3.1 (2023-06-16 ucrt) -- "Beagle Scouts" 4395
lconwaymacOS 12.6.5 Montereyx86_644.3.1 Patched (2023-06-17 r84564) -- "Beagle Scouts" 4409
kunpeng2Linux (openEuler 22.03 LTS-SP1)aarch644.3.1 (2023-06-16) -- "Beagle Scouts" 4400
Click on any hostname to see more info about the system (e.g. compilers)      (*) as reported by 'uname -p', except on Windows and Mac OS X

All results for package cqn


To the developers/maintainers of the cqn package:
- Allow up to 24 hours (and sometimes 48 hours) for your latest push to git@git.bioconductor.org:packages/cqn.git to reflect on this report. See Troubleshooting Build Report for more information.
- Use the following Renviron settings to reproduce errors and warnings.
- If 'R CMD check' started to fail recently on the Linux builder(s) over a missing dependency, add the missing dependency to 'Suggests:' in your DESCRIPTION file. See Renviron.bioc for more information.

raw results

Package 447/2233HostnameOS / ArchINSTALLBUILDCHECKBUILD BIN
cqn 1.47.0  (landing page)
Kasper Daniel Hansen
Snapshot Date: 2023-09-27 14:05:07 -0400 (Wed, 27 Sep 2023)
git_url: https://git.bioconductor.org/packages/cqn
git_branch: devel
git_last_commit: c40192e
git_last_commit_date: 2023-04-25 10:20:08 -0400 (Tue, 25 Apr 2023)
nebbiolo2Linux (Ubuntu 22.04.2 LTS) / x86_64  OK    OK    OK  UNNEEDED, same version is already published
palomino4Windows Server 2022 Datacenter / x64  OK    OK    OK    OK  UNNEEDED, same version is already published
lconwaymacOS 12.6.5 Monterey / x86_64  OK    OK    OK    OK  UNNEEDED, same version is already published
kunpeng2Linux (openEuler 22.03 LTS-SP1) / aarch64  OK    OK    OK  

Results for Bioconductor software packages that depend directly on package cqn

QUICK STATSOS / ArchINSTALLBUILDCHECKBUILD BIN
nebbiolo2Linux (Ubuntu 22.04.2 LTS) / x86_64
003
003
0012
palomino4Windows Server 2022 Datacenter / x64
003
003
0012
003
lconwaymacOS 12.6.5 Monterey / x86_64
003
003
0012
003
kunpeng2Linux (openEuler 22.03 LTS-SP1) / aarch64
003
003
0012
Package 1/3HostnameOS / ArchINSTALLBUILDCHECKBUILD BIN
GeoTcgaData 2.1.0  (landing page)
Erqiang Hu
git_last_commit: 6dbdf09
git_last_commit_date: 2023-04-25 11:43:30 -0400
nebbiolo2Linux (Ubuntu 22.04.2 LTS) / x86_64  OK    OK    OK  UNNEEDED, same version is already published
palomino4Windows Server 2022 Datacenter / x64  OK    OK    OK    OK  UNNEEDED, same version is already published
lconwaymacOS 12.6.5 Monterey / x86_64  OK    OK    OK    OK  UNNEEDED, same version is already published
kunpeng2Linux (openEuler 22.03 LTS-SP1) / aarch64  OK    OK    OK  
Package 2/3HostnameOS / ArchINSTALLBUILDCHECKBUILD BIN
KnowSeq 1.15.0  (landing page)
Daniel Castillo-Secilla
git_last_commit: 808dda4
git_last_commit_date: 2023-04-25 11:10:59 -0400
nebbiolo2Linux (Ubuntu 22.04.2 LTS) / x86_64  OK    OK    OK  UNNEEDED, same version is already published
palomino4Windows Server 2022 Datacenter / x64  OK    OK    OK    OK  UNNEEDED, same version is already published
lconwaymacOS 12.6.5 Monterey / x86_64  OK    OK    OK    OK  UNNEEDED, same version is already published
kunpeng2Linux (openEuler 22.03 LTS-SP1) / aarch64  OK    OK    OK  
Package 3/3HostnameOS / ArchINSTALLBUILDCHECKBUILD BIN
tweeDEseq 1.47.4  (landing page)
Dolors Pelegri-Siso
git_last_commit: 18067bd
git_last_commit_date: 2023-07-10 03:35:54 -0400
nebbiolo2Linux (Ubuntu 22.04.2 LTS) / x86_64  OK    OK    WARNINGS  UNNEEDED, same version is already published
palomino4Windows Server 2022 Datacenter / x64  OK    OK    WARNINGS    OK  UNNEEDED, same version is already published
lconwaymacOS 12.6.5 Monterey / x86_64  OK    OK    WARNINGS    OK  UNNEEDED, same version is already published
kunpeng2Linux (openEuler 22.03 LTS-SP1) / aarch64  OK    OK    WARNINGS